{"text_format":"2","workbook":"xlsx","n_sheets":1,"sheets":["2018 360giving data"],"not_rendered":{"charts":0,"images":0,"macros":0,"external_links":1,"defined_names":0,"comments":0,"pivot_tables":0},"unopened":[],"bounds":{"document_bytes":16777216,"sheet_cells":100000,"run_cost":"one","rows_first":2000,"rows_last":500,"rows_between":2000,"halvings":0,"cell_chars":16384,"cell_head_chars":4096},"cells_cut":0,"cells_raw":0,"read":"whole","date_system":"1900"}

{"sheet":"2018 360giving data","index":0,"n_rows":271,"n_cols":20,"rows_kept":271,"cut":false,"hidden":false,"merged":[]}
["Identifier","Reference","Title","Description","Currency","Amount Awarded","Award Date","Recipient Org:Identifier","Recipient Org:Name","Recipient Org:Charity Number","Recipient Org:City","Recipient Org:Postal Code","Beneficiary Location:Name","From an open call?","Grant Programme:Title","Funding Org:Identifier","Funding Org:Name","Data Source","Last modified","Funding Type:Title "]
[{"$f":"CONCATENATE('[1]Transformation sheet'!$B$1,'[1]GIFTS data'!A2)","v":"360G-ClothworkersFdn-201700734"},{"$f":"'[1]GIFTS data'!A2","v":201700734},{"$f":"CONCATENATE(\"Grant to \",'[1]GIFTS data'!F2)","v":"Grant to 33rd Ayrshire Scout Group"},{"$f":"'[1]GIFTS data'!B2","v":"refurbishment of a roof for a charity which works with disadvantaged young people in Ayrshire"},{"$f":"'[1]Transformation sheet'!$B$2","v":"GBP"},{"$f":"'[1]GIFTS data'!C2","v":4200},{"$f":"'[1]GIFTS data'!D2","v":"2018-07-19"},{"$f":"IF(LEFT('[1]GIFTS data'!G2,3)=\"SC0\",\"GB-SC-\"&'[1]GIFTS data'!G2,IF(LEN('[1]GIFTS data'!G2)=8,\"GB-COH-\"&'[1]GIFTS data'!G2,IF(LEFT('[1]GIFTS data'!G2,1)=\"X\",\"GB-REV-\"&'[1]GIFTS data'!G2,IF(AND(LEN('[1]GIFTS data'!G2)=7,LEFT('[1]GIFTS data'!G2,1)=\"1\"),\"GB-CHC-\"&'[1]GIFTS data'!G2,IF(LEN('[1]GIFTS data'!G2)=7,\"GB-COH-0\"&'[1]GIFTS data'!G2,IF(LEFT('[1]GIFTS data'!G2,3)=\"NIC\",\"GB-NIC-\"&RIGHT('[1]GIFTS data'!G2,LEN('[1]GIFTS data'!G2)-3),IF(LEN('[1]GIFTS data'!G2)=6,\"GB-CHC-\"&'[1]GIFTS data'!G2,'[1]Transformation sheet'!$B$3&'[1]GIFTS data'!E2)))))))","v":"GB-SC-SC043258"},{"$f":"'[1]GIFTS data'!F2","v":"33rd Ayrshire Scout Group"},{"$f":"'[1]GIFTS data'!G2","v":"SC043258"},{"$f":"'[1]GIFTS data'!J2","v":"Dalmellington"},{"$f":"'[1]GIFTS data'!I2","v":"KA6 7QL"},{"$f":"'[1]GIFTS data'!H2","v":"Scotland"},{"$f":"IF(OR('[1]GIFTS data'!K2=\"4. Proactive Programme\",'[1]GIFTS data'!K2=\"3. Regular Grants Programme\"),\"No\",\"Yes\")","v":"Yes"},{"$f":"RIGHT('[1]GIFTS data'!K2,LEN('[1]GIFTS data'!K2)-3)","v":"Small Grants Programme"},{"$f":"'[1]Transformation sheet'!$B$8","v":"GB-CHC-274100"},{"$f":"'[1]Transformation sheet'!$B$9","v":"The Clothworkers Foundation"},"https://www.clothworkersfoundation.org.uk/",{"$f":"'[1]Transformation sheet'!$B$11","v":"2019-05-31"},{"$f":"IF(OR('[1]GIFTS data'!K2=\"4. Proactive Programme\",'[1]GIFTS data'!K2=\"3. Regular Grants Programme\"),\"Revenue\",\"Capital\")","v":"Capital"}]
[{"$f":"CONCATENATE('[1]Transformation sheet'!$B$1,'[1]GIFTS data'!A3)","v":"360G-ClothworkersFdn-201700608"},{"$f":"'[1]GIFTS data'!A3","v":201700608},{"$f":"CONCATENATE(\"Grant to \",'[1]GIFTS data'!F3)","v":"Grant to A.P.P.L.E. (Acton Play Projects and Leisure Events)"},{"$f":"'[1]GIFTS data'!B3","v":"refurbishment of an outdoor area and kitchen for a charity which works with disadvantaged young people in Acton"},{"$f":"'[1]Transformation sheet'!$B$2","v":"GBP"},{"$f":"'[1]GIFTS data'!C3","v":8400},{"$f":"'[1]GIFTS data'!D3","v":"2018-04-11"},{"$f":"IF(LEFT('[1]GIFTS data'!G3,3)=\"SC0\",\"GB-SC-\"&'[1]GIFTS data'!G3,IF(LEN('[1]GIFTS data'!G3)=8,\"GB-COH-\"&'[1]GIFTS data'!G3,IF(LEFT('[1]GIFTS data'!G3,1)=\"X\",\"GB-REV-\"&'[1]GIFTS data'!G3,IF(AND(LEN('[1]GIFTS data'!G3)=7,LEFT('[1]GIFTS data'!G3,1)=\"1\"),\"GB-CHC-\"&'[1]GIFTS data'!G3,IF(LEN('[1]GIFTS data'!G3)=7,\"GB-COH-0\"&'[1]GIFTS data'!G3,IF(LEFT('[1]GIFTS data'!G3,3)=\"NIC\",\"GB-NIC-\"&RIGHT('[1]GIFTS data'!G3,LEN('[1]GIFTS data'!G3)-3),IF(LEN('[1]GIFTS data'!G3)=6,\"GB-CHC-\"&'[1]GIFTS data'!G3,'[1]Transformation sheet'!$B$3&'[1]GIFTS data'!E3)))))))","v":"GB-CHC-1076880"},{"$f":"'[1]GIFTS data'!F3","v":"A.P.P.L.E. (Acton Play Projects and Leisure Events)"},{"$f":"'[1]GIFTS data'!G3","v":1076880},{"$f":"'[1]GIFTS data'!J3","v":"Acton"},{"$f":"'[1]GIFTS data'!I3","v":"W3 7LJ"},{"$f":"'[1]GIFTS data'!H3","v":"Greater London"},{"$f":"IF(OR('[1]GIFTS data'!K3=\"4. Proactive Programme\",'[1]GIFTS data'!K3=\"3. Regular Grants Programme\"),\"No\",\"Yes\")","v":"Yes"},{"$f":"RIGHT('[1]GIFTS data'!K3,LEN('[1]GIFTS data'!K3)-3)","v":"Small Grants Programme"},{"$f":"'[1]Transformation sheet'!$B$8","v":"GB-CHC-274100"},{"$f":"'[1]Transformation sheet'!$B$9","v":"The Clothworkers Foundation"},"https://www.clothworkersfoundation.org.uk/",{"$f":"'[1]Transformation sheet'!$B$11","v":"2019-05-31"},{"$f":"IF(OR('[1]GIFTS data'!K3=\"4. Proactive Programme\",'[1]GIFTS data'!K3=\"3. Regular Grants Programme\"),\"Revenue\",\"Capital\")","v":"Capital"}]
[{"$f":"CONCATENATE('[1]Transformation sheet'!$B$1,'[1]GIFTS data'!A4)","v":"360G-ClothworkersFdn-201700644"},{"$f":"'[1]GIFTS data'!A4","v":201700644},{"$f":"CONCATENATE(\"Grant to \",'[1]GIFTS data'!F4)","v":"Grant to Accuro (Care Services)"},{"$f":"'[1]GIFTS data'!B4","v":"refurbishment of a new premises for a charity which works with disabled people in West Essex"},{"$f":"'[1]Transformation sheet'!$B$2","v":"GBP"},{"$f":"'[1]GIFTS data'!C4","v":15000},{"$f":"'[1]GIFTS data'!D4","v":"2018-05-16"},{"$f":"IF(LEFT('[1]GIFTS data'!G4,3)=\"SC0\",\"GB-SC-\"&'[1]GIFTS data'!G4,IF(LEN('[1]GIFTS data'!G4)=8,\"GB-COH-\"&'[1]GIFTS data'!G4,IF(LEFT('[1]GIFTS data'!G4,1)=\"X\",\"GB-REV-\"&'[1]GIFTS data'!G4,IF(AND(LEN('[1]GIFTS data'!G4)=7,LEFT('[1]GIFTS data'!G4,1)=\"1\"),\"GB-CHC-\"&'[1]GIFTS data'!G4,IF(LEN('[1]GIFTS data'!G4)=7,\"GB-COH-0\"&'[1]GIFTS data'!G4,IF(LEFT('[1]GIFTS data'!G4,3)=\"NIC\",\"GB-NIC-\"&RIGHT('[1]GIFTS data'!G4,LEN('[1]GIFTS data'!G4)-3),IF(LEN('[1]GIFTS data'!G4)=6,\"GB-CHC-\"&'[1]GIFTS data'!G4,'[1]Transformation sheet'!$B$3&'[1]GIFTS data'!E4)))))))","v":"GB-CHC-1094736"},{"$f":"'[1]GIFTS data'!F4","v":"Accuro (Care Services)"},{"$f":"'[1]GIFTS data'!G4","v":1094736},{"$f":"'[1]GIFTS data'!J4","v":"Bishops Stortford"},{"$f":"'[1]GIFTS data'!I4","v":"CM22 7TA"},{"$f":"'[1]GIFTS data'!H4","v":"East"},{"$f":"IF(OR('[1]GIFTS data'!K4=\"4. Proactive Programme\",'[1]GIFTS data'!K4=\"3. Regular Grants Programme\"),\"No\",\"Yes\")","v":"Yes"},{"$f":"RIGHT('[1]GIFTS data'!K4,LEN('[1]GIFTS data'!K4)-3)","v":"Main Grants Programme"},{"$f":"'[1]Transformation sheet'!$B$8","v":"GB-CHC-274100"},{"$f":"'[1]Transformation sheet'!$B$9","v":"The Clothworkers Foundation"},"https://www.clothworkersfoundation.org.uk/",{"$f":"'[1]Transformation sheet'!$B$11","v":"2019-05-31"},{"$f":"IF(OR('[1]GIFTS data'!K4=\"4. Proactive Programme\",'[1]GIFTS data'!K4=\"3. Regular Grants Programme\"),\"Revenue\",\"Capital\")","v":"Capital"}]
[{"$f":"CONCATENATE('[1]Transformation sheet'!$B$1,'[1]GIFTS data'!A5)","v":"360G-ClothworkersFdn-201700600"},{"$f":"'[1]GIFTS data'!A5","v":201700600},{"$f":"CONCATENATE(\"Grant to \",'[1]GIFTS data'!F5)","v":"Grant to Age Cymru Gwynedd a Mon"},{"$f":"'[1]GIFTS data'!B5","v":"refurbishment of a building for a charity which works with older people in Wales"},{"$f":"'[1]Transformation sheet'!$B$2","v":"GBP"},{"$f":"'[1]GIFTS data'!C5","v":20000},{"$f":"'[1]GIFTS data'!D5","v":"2018-05-16"},{"$f":"IF(LEFT('[1]GIFTS data'!G5,3)=\"SC0\",\"GB-SC-\"&'[1]GIFTS data'!G5,IF(LEN('[1]GIFTS data'!G5)=8,\"GB-COH-\"&'[1]GIFTS data'!G5,IF(LEFT('[1]GIFTS data'!G5,1)=\"X\",\"GB-REV-\"&'[1]GIFTS data'!G5,IF(AND(LEN('[1]GIFTS data'!G5)=7,LEFT('[1]GIFTS data'!G5,1)=\"1\"),\"GB-CHC-\"&'[1]GIFTS data'!G5,IF(LEN('[1]GIFTS data'!G5)=7,\"GB-COH-0\"&'[1]GIFTS data'!G5,IF(LEFT('[1]GIFTS data'!G5,3)=\"NIC\",\"GB-NIC-\"&RIGHT('[1]GIFTS data'!G5,LEN('[1]GIFTS data'!G5)-3),IF(LEN('[1]GIFTS data'!G5)=6,\"GB-CHC-\"&'[1]GIFTS data'!G5,'[1]Transformation sheet'!$B$3&'[1]GIFTS data'!E5)))))))","v":"GB-CHC-1143587"},{"$f":"'[1]GIFTS data'!F5","v":"Age Cymru Gwynedd a Mon"},{"$f":"'[1]GIFTS data'!G5","v":1143587},{"$f":"'[1]GIFTS data'!J5","v":"Caernarfon"},{"$f":"'[1]GIFTS data'!I5","v":"LL54 7UW"},{"$f":"'[1]GIFTS data'!H5","v":"Wales"},{"$f":"IF(OR('[1]GIFTS data'!K5=\"4. Proactive Programme\",'[1]GIFTS data'!K5=\"3. Regular Grants Programme\"),\"No\",\"Yes\")","v":"Yes"},{"$f":"RIGHT('[1]GIFTS data'!K5,LEN('[1]GIFTS data'!K5)-3)","v":"Main Grants Programme"},{"$f":"'[1]Transformation sheet'!$B$8","v":"GB-CHC-274100"},{"$f":"'[1]Transformation sheet'!$B$9","v":"The Clothworkers Foundation"},"https://www.clothworkersfoundation.org.uk/",{"$f":"'[1]Transformation sheet'!$B$11","v":"2019-05-31"},{"$f":"IF(OR('[1]GIFTS data'!K5=\"4. Proactive Programme\",'[1]GIFTS data'!K5=\"3. Regular Grants Programme\"),\"Revenue\",\"Capital\")","v":"Capital"}]
[{"$f":"CONCATENATE('[1]Transformation sheet'!$B$1,'[1]GIFTS data'!A6)","v":"360G-ClothworkersFdn-201700597"},{"$f":"'[1]GIFTS data'!A6","v":201700597},{"$f":"CONCATENATE(\"Grant to \",'[1]GIFTS data'!F6)","v":"Grant to Age UK bexley"},{"$f":"'[1]GIFTS data'!B6","v":"refurbishment of a wellbeing centre"},{"$f":"'[1]Transformation sheet'!$B$2","v":"GBP"},{"$f":"'[1]GIFTS data'!C6","v":14000},{"$f":"'[1]GIFTS data'!D6","v":"2018-05-16"},{"$f":"IF(LEFT('[1]GIFTS data'!G6,3)=\"SC0\",\"GB-SC-\"&'[1]GIFTS data'!G6,IF(LEN('[1]GIFTS data'!G6)=8,\"GB-COH-\"&'[1]GIFTS data'!G6,IF(LEFT('[1]GIFTS data'!G6,1)=\"X\",\"GB-REV-\"&'[1]GIFTS data'!G6,IF(AND(LEN('[1]GIFTS data'!G6)=7,LEFT('[1]GIFTS data'!G6,1)=\"1\"),\"GB-CHC-\"&'[1]GIFTS data'!G6,IF(LEN('[1]GIFTS data'!G6)=7,\"GB-COH-0\"&'[1]GIFTS data'!G6,IF(LEFT('[1]GIFTS data'!G6,3)=\"NIC\",\"GB-NIC-\"&RIGHT('[1]GIFTS data'!G6,LEN('[1]GIFTS data'!G6)-3),IF(LEN('[1]GIFTS data'!G6)=6,\"GB-CHC-\"&'[1]GIFTS data'!G6,'[1]Transformation sheet'!$B$3&'[1]GIFTS data'!E6)))))))","v":"GB-CHC-1088399"},{"$f":"'[1]GIFTS data'!F6","v":"Age UK bexley"},{"$f":"'[1]GIFTS data'!G6","v":1088399},{"$f":"'[1]GIFTS data'!J6","v":"Sidcup"},{"$f":"'[1]GIFTS data'!I6","v":"DA14 6BY"},{"$f":"'[1]GIFTS data'!H6","v":"Greater London"},{"$f":"IF(OR('[1]GIFTS data'!K6=\"4. Proactive Programme\",'[1]GIFTS data'!K6=\"3. Regular Grants Programme\"),\"No\",\"Yes\")","v":"Yes"},{"$f":"RIGHT('[1]GIFTS data'!K6,LEN('[1]GIFTS data'!K6)-3)","v":"Main Grants Programme"},{"$f":"'[1]Transformation sheet'!$B$8","v":"GB-CHC-274100"},{"$f":"'[1]Transformation sheet'!$B$9","v":"The Clothworkers Foundation"},"https://www.clothworkersfoundation.org.uk/",{"$f":"'[1]Transformation sheet'!$B$11","v":"2019-05-31"},{"$f":"IF(OR('[1]GIFTS data'!K6=\"4. Proactive Programme\",'[1]GIFTS data'!K6=\"3. Regular Grants Programme\"),\"Revenue\",\"Capital\")","v":"Capital"}]
[{"$f":"CONCATENATE('[1]Transformation sheet'!$B$1,'[1]GIFTS data'!A7)","v":"360G-ClothworkersFdn-201700815"},{"$f":"'[1]GIFTS data'!A7","v":201700815},{"$f":"CONCATENATE(\"Grant to \",'[1]GIFTS data'!F7)","v":"Grant to Age UK Bradford and District"},{"$f":"'[1]GIFTS data'!B7","v":"refurbishment of a building for a charity which works with older people in West Yorkshire"},{"$f":"'[1]Transformation sheet'!$B$2","v":"GBP"},{"$f":"'[1]GIFTS data'!C7","v":12000},{"$f":"'[1]GIFTS data'!D7","v":"2018-10-16"},{"$f":"IF(LEFT('[1]GIFTS data'!G7,3)=\"SC0\",\"GB-SC-\"&'[1]GIFTS data'!G7,IF(LEN('[1]GIFTS data'!G7)=8,\"GB-COH-\"&'[1]GIFTS data'!G7,IF(LEFT('[1]GIFTS data'!G7,1)=\"X\",\"GB-REV-\"&'[1]GIFTS data'!G7,IF(AND(LEN('[1]GIFTS data'!G7)=7,LEFT('[1]GIFTS data'!G7,1)=\"1\"),\"GB-CHC-\"&'[1]GIFTS data'!G7,IF(LEN('[1]GIFTS data'!G7)=7,\"GB-COH-0\"&'[1]GIFTS data'!G7,IF(LEFT('[1]GIFTS data'!G7,3)=\"NIC\",\"GB-NIC-\"&RIGHT('[1]GIFTS data'!G7,LEN('[1]GIFTS data'!G7)-3),IF(LEN('[1]GIFTS data'!G7)=6,\"GB-CHC-\"&'[1]GIFTS data'!G7,'[1]Transformation sheet'!$B$3&'[1]GIFTS data'!E7)))))))","v":"GB-CHC-1025961"},{"$f":"'[1]GIFTS data'!F7","v":"Age UK Bradford and District"},{"$f":"'[1]GIFTS data'!G7","v":1025961},{"$f":"'[1]GIFTS data'!J7","v":"Wrose"},{"$f":"'[1]GIFTS data'!I7","v":"BD18 1HX"},{"$f":"'[1]GIFTS data'!H7","v":"Yorks & Humberside"},{"$f":"IF(OR('[1]GIFTS data'!K7=\"4. Proactive Programme\",'[1]GIFTS data'!K7=\"3. Regular Grants Programme\"),\"No\",\"Yes\")","v":"Yes"},{"$f":"RIGHT('[1]GIFTS data'!K7,LEN('[1]GIFTS data'!K7)-3)","v":"Main Grants Programme"},{"$f":"'[1]Transformation sheet'!$B$8","v":"GB-CHC-274100"},{"$f":"'[1]Transformation sheet'!$B$9","v":"The Clothworkers Foundation"},"https://www.clothworkersfoundation.org.uk/",{"$f":"'[1]Transformation sheet'!$B$11","v":"2019-05-31"},{"$f":"IF(OR('[1]GIFTS data'!K7=\"4. Proactive Programme\",'[1]GIFTS data'!K7=\"3. Regular Grants Programme\"),\"Revenue\",\"Capital\")","v":"Capital"}]
[{"$f":"CONCATENATE('[1]Transformation sheet'!$B$1,'[1]GIFTS data'!A8)","v":"360G-ClothworkersFdn-201700566"},{"$f":"'[1]GIFTS data'!A8","v":201700566},{"$f":"CONCATENATE(\"Grant to \",'[1]GIFTS data'!F8)","v":"Grant to Age UK Tameside"},{"$f":"'[1]GIFTS data'!B8","v":"purchase of a minibus for a charity which works with older people in Greater Manchester"},{"$f":"'[1]Transformation sheet'!$B$2","v":"GBP"},{"$f":"'[1]GIFTS data'!C8","v":17000},{"$f":"'[1]GIFTS data'!D8","v":"2018-05-16"},{"$f":"IF(LEFT('[1]GIFTS data'!G8,3)=\"SC0\",\"GB-SC-\"&'[1]GIFTS data'!G8,IF(LEN('[1]GIFTS data'!G8)=8,\"GB-COH-\"&'[1]GIFTS data'!G8,IF(LEFT('[1]GIFTS data'!G8,1)=\"X\",\"GB-REV-\"&'[1]GIFTS data'!G8,IF(AND(LEN('[1]GIFTS data'!G8)=7,LEFT('[1]GIFTS data'!G8,1)=\"1\"),\"GB-CHC-\"&'[1]GIFTS data'!G8,IF(LEN('[1]GIFTS data'!G8)=7,\"GB-COH-0\"&'[1]GIFTS data'!G8,IF(LEFT('[1]GIFTS data'!G8,3)=\"NIC\",\"GB-NIC-\"&RIGHT('[1]GIFTS data'!G8,LEN('[1]GIFTS data'!G8)-3),IF(LEN('[1]GIFTS data'!G8)=6,\"GB-CHC-\"&'[1]GIFTS data'!G8,'[1]Transformation sheet'!$B$3&'[1]GIFTS data'!E8)))))))","v":"GB-CHC-1142364"},{"$f":"'[1]GIFTS data'!F8","v":"Age UK Tameside"},{"$f":"'[1]GIFTS data'!G8","v":1142364},{"$f":"'[1]GIFTS data'!J8","v":"Ashton-under-Lyne"},{"$f":"'[1]GIFTS data'!I8","v":"OL67AW"},{"$f":"'[1]GIFTS data'!H8","v":"North West"},{"$f":"IF(OR('[1]GIFTS data'!K8=\"4. Proactive Programme\",'[1]GIFTS data'!K8=\"3. Regular Grants Programme\"),\"No\",\"Yes\")","v":"Yes"},{"$f":"RIGHT('[1]GIFTS data'!K8,LEN('[1]GIFTS data'!K8)-3)","v":"Main Grants Programme"},{"$f":"'[1]Transformation sheet'!$B$8","v":"GB-CHC-274100"},{"$f":"'[1]Transformation sheet'!$B$9","v":"The Clothworkers Foundation"},"https://www.clothworkersfoundation.org.uk/",{"$f":"'[1]Transformation sheet'!$B$11","v":"2019-05-31"},{"$f":"IF(OR('[1]GIFTS data'!K8=\"4. Proactive Programme\",'[1]GIFTS data'!K8=\"3. Regular Grants Programme\"),\"Revenue\",\"Capital\")","v":"Capital"}]
[{"$f":"CONCATENATE('[1]Transformation sheet'!$B$1,'[1]GIFTS data'!A9)","v":"360G-ClothworkersFdn-201700796"},{"$f":"'[1]GIFTS data'!A9","v":201700796},{"$f":"CONCATENATE(\"Grant to \",'[1]GIFTS data'!F9)","v":"Grant to Age UK Wiltshire"},{"$f":"'[1]GIFTS data'!B9","v":"purchase of furniture and equipment for a charity which works with older people in Wiltshire"},{"$f":"'[1]Transformation sheet'!$B$2","v":"GBP"},{"$f":"'[1]GIFTS data'!C9","v":10000},{"$f":"'[1]GIFTS data'!D9","v":"2018-10-16"},{"$f":"IF(LEFT('[1]GIFTS data'!G9,3)=\"SC0\",\"GB-SC-\"&'[1]GIFTS data'!G9,IF(LEN('[1]GIFTS data'!G9)=8,\"GB-COH-\"&'[1]GIFTS data'!G9,IF(LEFT('[1]GIFTS data'!G9,1)=\"X\",\"GB-REV-\"&'[1]GIFTS data'!G9,IF(AND(LEN('[1]GIFTS data'!G9)=7,LEFT('[1]GIFTS data'!G9,1)=\"1\"),\"GB-CHC-\"&'[1]GIFTS data'!G9,IF(LEN('[1]GIFTS data'!G9)=7,\"GB-COH-0\"&'[1]GIFTS data'!G9,IF(LEFT('[1]GIFTS data'!G9,3)=\"NIC\",\"GB-NIC-\"&RIGHT('[1]GIFTS data'!G9,LEN('[1]GIFTS data'!G9)-3),IF(LEN('[1]GIFTS data'!G9)=6,\"GB-CHC-\"&'[1]GIFTS data'!G9,'[1]Transformation sheet'!$B$3&'[1]GIFTS data'!E9)))))))","v":"GB-CHC-800912"},{"$f":"'[1]GIFTS data'!F9","v":"Age UK Wiltshire"},{"$f":"'[1]GIFTS data'!G9","v":800912},{"$f":"'[1]GIFTS data'!J9","v":"Devizes"},{"$f":"'[1]GIFTS data'!I9","v":"SN10 1JG"},{"$f":"'[1]GIFTS data'!H9","v":"South West"},{"$f":"IF(OR('[1]GIFTS data'!K9=\"4. Proactive Programme\",'[1]GIFTS data'!K9=\"3. Regular Grants Programme\"),\"No\",\"Yes\")","v":"Yes"},{"$f":"RIGHT('[1]GIFTS data'!K9,LEN('[1]GIFTS data'!K9)-3)","v":"Main Grants Programme"},{"$f":"'[1]Transformation sheet'!$B$8","v":"GB-CHC-274100"},{"$f":"'[1]Transformation sheet'!$B$9","v":"The Clothworkers Foundation"},"https://www.clothworkersfoundation.org.uk/",{"$f":"'[1]Transformation sheet'!$B$11","v":"2019-05-31"},{"$f":"IF(OR('[1]GIFTS data'!K9=\"4. Proactive Programme\",'[1]GIFTS data'!K9=\"3. Regular Grants Programme\"),\"Revenue\",\"Capital\")","v":"Capital"}]
[{"$f":"CONCATENATE('[1]Transformation sheet'!$B$1,'[1]GIFTS data'!A10)","v":"360G-ClothworkersFdn-201700865"},{"$f":"'[1]GIFTS data'!A10","v":201700865},{"$f":"CONCATENATE(\"Grant to \",'[1]GIFTS data'!F10)","v":"Grant to All Hallows Church, Bow"},{"$f":"'[1]GIFTS data'!B10","v":"Construction of a community café and hub in Tower Hamlets"},{"$f":"'[1]Transformation sheet'!$B$2","v":"GBP"},{"$f":"'[1]GIFTS data'!C10","v":46000},{"$f":"'[1]GIFTS data'!D10","v":"2018-11-29"},{"$f":"IF(LEFT('[1]GIFTS data'!G10,3)=\"SC0\",\"GB-SC-\"&'[1]GIFTS data'!G10,IF(LEN('[1]GIFTS data'!G10)=8,\"GB-COH-\"&'[1]GIFTS data'!G10,IF(LEFT('[1]GIFTS data'!G10,1)=\"X\",\"GB-REV-\"&'[1]GIFTS data'!G10,IF(AND(LEN('[1]GIFTS data'!G10)=7,LEFT('[1]GIFTS data'!G10,1)=\"1\"),\"GB-CHC-\"&'[1]GIFTS data'!G10,IF(LEN('[1]GIFTS data'!G10)=7,\"GB-COH-0\"&'[1]GIFTS data'!G10,IF(LEFT('[1]GIFTS data'!G10,3)=\"NIC\",\"GB-NIC-\"&RIGHT('[1]GIFTS data'!G10,LEN('[1]GIFTS data'!G10)-3),IF(LEN('[1]GIFTS data'!G10)=6,\"GB-CHC-\"&'[1]GIFTS data'!G10,'[1]Transformation sheet'!$B$3&'[1]GIFTS data'!E10)))))))","v":"GB-CHC-1153020"},{"$f":"'[1]GIFTS data'!F10","v":"All Hallows Church, Bow"},{"$f":"'[1]GIFTS data'!G10","v":1153020},{"$f":"'[1]GIFTS data'!J10","v":"London"},{"$f":"'[1]GIFTS data'!I10","v":"E3 3PN"},{"$f":"'[1]GIFTS data'!H10","v":"Greater London"},{"$f":"IF(OR('[1]GIFTS data'!K10=\"4. Proactive Programme\",'[1]GIFTS data'!K10=\"3. Regular Grants Programme\"),\"No\",\"Yes\")","v":"Yes"},{"$f":"RIGHT('[1]GIFTS data'!K10,LEN('[1]GIFTS data'!K10)-3)","v":"Main Grants Programme"},{"$f":"'[1]Transformation sheet'!$B$8","v":"GB-CHC-274100"},{"$f":"'[1]Transformation sheet'!$B$9","v":"The Clothworkers Foundation"},"https://www.clothworkersfoundation.org.uk/",{"$f":"'[1]Transformation sheet'!$B$11","v":"2019-05-31"},{"$f":"IF(OR('[1]GIFTS data'!K10=\"4. Proactive Programme\",'[1]GIFTS data'!K10=\"3. Regular Grants Programme\"),\"Revenue\",\"Capital\")","v":"Capital"}]
[{"$f":"CONCATENATE('[1]Transformation sheet'!$B$1,'[1]GIFTS data'!A11)","v":"360G-ClothworkersFdn-200804636.03"},{"$f":"'[1]GIFTS data'!A11","v":200804636.03},{"$f":"CONCATENATE(\"Grant to \",'[1]GIFTS data'!F11)","v":"Grant to Ambitious about Autism/ Treehouse School"},{"$f":"'[1]GIFTS data'!B11","v":"towards a family liaison transitions worker"},{"$f":"'[1]Transformation sheet'!$B$2","v":"GBP"},{"$f":"'[1]GIFTS data'!C11","v":35000},{"$f":"'[1]GIFTS data'!D11","v":"2018-11-29"},{"$f":"IF(LEFT('[1]GIFTS data'!G11,3)=\"SC0\",\"GB-SC-\"&'[1]GIFTS data'!G11,IF(LEN('[1]GIFTS data'!G11)=8,\"GB-COH-\"&'[1]GIFTS data'!G11,IF(LEFT('[1]GIFTS data'!G11,1)=\"X\",\"GB-REV-\"&'[1]GIFTS data'!G11,IF(AND(LEN('[1]GIFTS data'!G11)=7,LEFT('[1]GIFTS data'!G11,1)=\"1\"),\"GB-CHC-\"&'[1]GIFTS data'!G11,IF(LEN('[1]GIFTS data'!G11)=7,\"GB-COH-0\"&'[1]GIFTS data'!G11,IF(LEFT('[1]GIFTS data'!G11,3)=\"NIC\",\"GB-NIC-\"&RIGHT('[1]GIFTS data'!G11,LEN('[1]GIFTS data'!G11)-3),IF(LEN('[1]GIFTS data'!G11)=6,\"GB-CHC-\"&'[1]GIFTS data'!G11,'[1]Transformation sheet'!$B$3&'[1]GIFTS data'!E11)))))))","v":"GB-CHC-1063184"},{"$f":"'[1]GIFTS data'!F11","v":"Ambitious about Autism/ Treehouse School"},{"$f":"'[1]GIFTS data'!G11","v":1063184},{"$f":"'[1]GIFTS data'!J11","v":"London"},{"$f":"'[1]GIFTS data'!I11","v":"N10 3JA"},{"$f":"'[1]GIFTS data'!H11","v":"National"},{"$f":"IF(OR('[1]GIFTS data'!K11=\"4. Proactive Programme\",'[1]GIFTS data'!K11=\"3. Regular Grants Programme\"),\"No\",\"Yes\")","v":"No"},{"$f":"RIGHT('[1]GIFTS data'!K11,LEN('[1]GIFTS data'!K11)-3)","v":"Regular Grants Programme"},{"$f":"'[1]Transformation sheet'!$B$8","v":"GB-CHC-274100"},{"$f":"'[1]Transformation sheet'!$B$9","v":"The Clothworkers Foundation"},"https://www.clothworkersfoundation.org.uk/",{"$f":"'[1]Transformation sheet'!$B$11","v":"2019-05-31"},{"$f":"IF(OR('[1]GIFTS data'!K11=\"4. Proactive Programme\",'[1]GIFTS data'!K11=\"3. Regular Grants Programme\"),\"Revenue\",\"Capital\")","v":"Revenue"}]
[{"$f":"CONCATENATE('[1]Transformation sheet'!$B$1,'[1]GIFTS data'!A12)","v":"360G-ClothworkersFdn-201700769"},{"$f":"'[1]GIFTS data'!A12","v":201700769},{"$f":"CONCATENATE(\"Grant to \",'[1]GIFTS data'!F12)","v":"Grant to Arch-Way Project"},{"$f":"'[1]GIFTS data'!B12","v":"purchase of audio-visual equipment for a charity which works with older people in Halifax"},{"$f":"'[1]Transformation sheet'!$B$2","v":"GBP"},{"$f":"'[1]GIFTS data'!C12","v":2600},{"$f":"'[1]GIFTS data'!D12","v":"2018-08-31"},{"$f":"IF(LEFT('[1]GIFTS data'!G12,3)=\"SC0\",\"GB-SC-\"&'[1]GIFTS data'!G12,IF(LEN('[1]GIFTS data'!G12)=8,\"GB-COH-\"&'[1]GIFTS data'!G12,IF(LEFT('[1]GIFTS data'!G12,1)=\"X\",\"GB-REV-\"&'[1]GIFTS data'!G12,IF(AND(LEN('[1]GIFTS data'!G12)=7,LEFT('[1]GIFTS data'!G12,1)=\"1\"),\"GB-CHC-\"&'[1]GIFTS data'!G12,IF(LEN('[1]GIFTS data'!G12)=7,\"GB-COH-0\"&'[1]GIFTS data'!G12,IF(LEFT('[1]GIFTS data'!G12,3)=\"NIC\",\"GB-NIC-\"&RIGHT('[1]GIFTS data'!G12,LEN('[1]GIFTS data'!G12)-3),IF(LEN('[1]GIFTS data'!G12)=6,\"GB-CHC-\"&'[1]GIFTS data'!G12,'[1]Transformation sheet'!$B$3&'[1]GIFTS data'!E12)))))))","v":"GB-CHC-1158349"},{"$f":"'[1]GIFTS data'!F12","v":"Arch-Way Project"},{"$f":"'[1]GIFTS data'!G12","v":1158349},{"$f":"'[1]GIFTS data'!J12","v":"Halifax"},{"$f":"'[1]GIFTS data'!I12","v":"HX1 3AG"},{"$f":"'[1]GIFTS data'!H12","v":"Yorks & Humberside"},{"$f":"IF(OR('[1]GIFTS data'!K12=\"4. Proactive Programme\",'[1]GIFTS data'!K12=\"3. Regular Grants Programme\"),\"No\",\"Yes\")","v":"Yes"},{"$f":"RIGHT('[1]GIFTS data'!K12,LEN('[1]GIFTS data'!K12)-3)","v":"Small Grants Programme"},{"$f":"'[1]Transformation sheet'!$B$8","v":"GB-CHC-274100"},{"$f":"'[1]Transformation sheet'!$B$9","v":"The Clothworkers Foundation"},"https://www.clothworkersfoundation.org.uk/",{"$f":"'[1]Transformation sheet'!$B$11","v":"2019-05-31"},{"$f":"IF(OR('[1]GIFTS data'!K12=\"4. Proactive Programme\",'[1]GIFTS data'!K12=\"3. Regular Grants Programme\"),\"Revenue\",\"Capital\")","v":"Capital"}]
[{"$f":"CONCATENATE('[1]Transformation sheet'!$B$1,'[1]GIFTS data'!A13)","v":"360G-ClothworkersFdn-201700887"},{"$f":"'[1]GIFTS data'!A13","v":201700887},{"$f":"CONCATENATE(\"Grant to \",'[1]GIFTS data'!F13)","v":"Grant to Ark Family Resource Centre"},{"$f":"'[1]GIFTS data'!B13","v":"refurbishment of a sensory room for a charity which works with people with disabilities in Essex"},{"$f":"'[1]Transformation sheet'!$B$2","v":"GBP"},{"$f":"'[1]GIFTS data'!C13","v":4500},{"$f":"'[1]GIFTS data'!D13","v":"2018-11-02"},{"$f":"IF(LEFT('[1]GIFTS data'!G13,3)=\"SC0\",\"GB-SC-\"&'[1]GIFTS data'!G13,IF(LEN('[1]GIFTS data'!G13)=8,\"GB-COH-\"&'[1]GIFTS data'!G13,IF(LEFT('[1]GIFTS data'!G13,1)=\"X\",\"GB-REV-\"&'[1]GIFTS data'!G13,IF(AND(LEN('[1]GIFTS data'!G13)=7,LEFT('[1]GIFTS data'!G13,1)=\"1\"),\"GB-CHC-\"&'[1]GIFTS data'!G13,IF(LEN('[1]GIFTS data'!G13)=7,\"GB-COH-0\"&'[1]GIFTS data'!G13,IF(LEFT('[1]GIFTS data'!G13,3)=\"NIC\",\"GB-NIC-\"&RIGHT('[1]GIFTS data'!G13,LEN('[1]GIFTS data'!G13)-3),IF(LEN('[1]GIFTS data'!G13)=6,\"GB-CHC-\"&'[1]GIFTS data'!G13,'[1]Transformation sheet'!$B$3&'[1]GIFTS data'!E13)))))))","v":"GB-CHC-297935"},{"$f":"'[1]GIFTS data'!F13","v":"Ark Family Resource Centre"},{"$f":"'[1]GIFTS data'!G13","v":297935},{"$f":"'[1]GIFTS data'!J13","v":"Harwich"},{"$f":"'[1]GIFTS data'!I13","v":"CO12 3LU"},{"$f":"'[1]GIFTS data'!H13","v":"East"},{"$f":"IF(OR('[1]GIFTS data'!K13=\"4. Proactive Programme\",'[1]GIFTS data'!K13=\"3. Regular Grants Programme\"),\"No\",\"Yes\")","v":"Yes"},{"$f":"RIGHT('[1]GIFTS data'!K13,LEN('[1]GIFTS data'!K13)-3)","v":"Small Grants Programme"},{"$f":"'[1]Transformation sheet'!$B$8","v":"GB-CHC-274100"},{"$f":"'[1]Transformation sheet'!$B$9","v":"The Clothworkers Foundation"},"https://www.clothworkersfoundation.org.uk/",{"$f":"'[1]Transformation sheet'!$B$11","v":"2019-05-31"},{"$f":"IF(OR('[1]GIFTS data'!K13=\"4. Proactive Programme\",'[1]GIFTS data'!K13=\"3. Regular Grants Programme\"),\"Revenue\",\"Capital\")","v":"Capital"}]
[{"$f":"CONCATENATE('[1]Transformation sheet'!$B$1,'[1]GIFTS data'!A14)","v":"360G-ClothworkersFdn-201700515"},{"$f":"'[1]GIFTS data'!A14","v":201700515},{"$f":"CONCATENATE(\"Grant to \",'[1]GIFTS data'!F14)","v":"Grant to ASH (Yorkshire)"},{"$f":"'[1]GIFTS data'!B14","v":"refurbishment of building for a charity that works with disadvantaged minority communities in Bradford"},{"$f":"'[1]Transformation sheet'!$B$2","v":"GBP"},{"$f":"'[1]GIFTS data'!C14","v":10000},{"$f":"'[1]GIFTS data'!D14","v":"2018-03-02"},{"$f":"IF(LEFT('[1]GIFTS data'!G14,3)=\"SC0\",\"GB-SC-\"&'[1]GIFTS data'!G14,IF(LEN('[1]GIFTS data'!G14)=8,\"GB-COH-\"&'[1]GIFTS data'!G14,IF(LEFT('[1]GIFTS data'!G14,1)=\"X\",\"GB-REV-\"&'[1]GIFTS data'!G14,IF(AND(LEN('[1]GIFTS data'!G14)=7,LEFT('[1]GIFTS data'!G14,1)=\"1\"),\"GB-CHC-\"&'[1]GIFTS data'!G14,IF(LEN('[1]GIFTS data'!G14)=7,\"GB-COH-0\"&'[1]GIFTS data'!G14,IF(LEFT('[1]GIFTS data'!G14,3)=\"NIC\",\"GB-NIC-\"&RIGHT('[1]GIFTS data'!G14,LEN('[1]GIFTS data'!G14)-3),IF(LEN('[1]GIFTS data'!G14)=6,\"GB-CHC-\"&'[1]GIFTS data'!G14,'[1]Transformation sheet'!$B$3&'[1]GIFTS data'!E14)))))))","v":"GB-COH-08792801"},{"$f":"'[1]GIFTS data'!F14","v":"ASH (Yorkshire)"},{"$f":"'[1]GIFTS data'!G14","v":8792801},{"$f":"'[1]GIFTS data'!J14","v":"Bradford"},{"$f":"'[1]GIFTS data'!I14","v":"BD4 7LN"},{"$f":"'[1]GIFTS data'!H14","v":"Yorks & Humberside"},{"$f":"IF(OR('[1]GIFTS data'!K14=\"4. Proactive Programme\",'[1]GIFTS data'!K14=\"3. Regular Grants Programme\"),\"No\",\"Yes\")","v":"Yes"},{"$f":"RIGHT('[1]GIFTS data'!K14,LEN('[1]GIFTS data'!K14)-3)","v":"Small Grants Programme"},{"$f":"'[1]Transformation sheet'!$B$8","v":"GB-CHC-274100"},{"$f":"'[1]Transformation sheet'!$B$9","v":"The Clothworkers Foundation"},"https://www.clothworkersfoundation.org.uk/",{"$f":"'[1]Transformation sheet'!$B$11","v":"2019-05-31"},{"$f":"IF(OR('[1]GIFTS data'!K14=\"4. Proactive Programme\",'[1]GIFTS data'!K14=\"3. Regular Grants Programme\"),\"Revenue\",\"Capital\")","v":"Capital"}]
[{"$f":"CONCATENATE('[1]Transformation sheet'!$B$1,'[1]GIFTS data'!A15)","v":"360G-ClothworkersFdn-201700389"},{"$f":"'[1]GIFTS data'!A15","v":201700389},{"$f":"CONCATENATE(\"Grant to \",'[1]GIFTS data'!F15)","v":"Grant to Ash Lea School"},{"$f":"'[1]GIFTS data'!B15","v":"Refurbishment of Special School in West Bridgford, Nottinghamshire"},{"$f":"'[1]Transformation sheet'!$B$2","v":"GBP"},{"$f":"'[1]GIFTS data'!C15","v":25000},{"$f":"'[1]GIFTS data'!D15","v":"2018-02-08"},{"$f":"IF(LEFT('[1]GIFTS data'!G15,3)=\"SC0\",\"GB-SC-\"&'[1]GIFTS data'!G15,IF(LEN('[1]GIFTS data'!G15)=8,\"GB-COH-\"&'[1]GIFTS data'!G15,IF(LEFT('[1]GIFTS data'!G15,1)=\"X\",\"GB-REV-\"&'[1]GIFTS data'!G15,IF(AND(LEN('[1]GIFTS data'!G15)=7,LEFT('[1]GIFTS data'!G15,1)=\"1\"),\"GB-CHC-\"&'[1]GIFTS data'!G15,IF(LEN('[1]GIFTS data'!G15)=7,\"GB-COH-0\"&'[1]GIFTS data'!G15,IF(LEFT('[1]GIFTS data'!G15,3)=\"NIC\",\"GB-NIC-\"&RIGHT('[1]GIFTS data'!G15,LEN('[1]GIFTS data'!G15)-3),IF(LEN('[1]GIFTS data'!G15)=6,\"GB-CHC-\"&'[1]GIFTS data'!G15,'[1]Transformation sheet'!$B$3&'[1]GIFTS data'!E15)))))))","v":"GB-CHC-1044249"},{"$f":"'[1]GIFTS data'!F15","v":"Ash Lea School"},{"$f":"'[1]GIFTS data'!G15","v":1044249},{"$f":"'[1]GIFTS data'!J15","v":"West Bridgford"},{"$f":"'[1]GIFTS data'!I15","v":"NG2 7FA"},{"$f":"'[1]GIFTS data'!H15","v":"East Midlands"},{"$f":"IF(OR('[1]GIFTS data'!K15=\"4. Proactive Programme\",'[1]GIFTS data'!K15=\"3. Regular Grants Programme\"),\"No\",\"Yes\")","v":"Yes"},{"$f":"RIGHT('[1]GIFTS data'!K15,LEN('[1]GIFTS data'!K15)-3)","v":"Main Grants Programme"},{"$f":"'[1]Transformation sheet'!$B$8","v":"GB-CHC-274100"},{"$f":"'[1]Transformation sheet'!$B$9","v":"The Clothworkers Foundation"},"https://www.clothworkersfoundation.org.uk/",{"$f":"'[1]Transformation sheet'!$B$11","v":"2019-05-31"},{"$f":"IF(OR('[1]GIFTS data'!K15=\"4. Proactive Programme\",'[1]GIFTS data'!K15=\"3. Regular Grants Programme\"),\"Revenue\",\"Capital\")","v":"Capital"}]
[{"$f":"CONCATENATE('[1]Transformation sheet'!$B$1,'[1]GIFTS data'!A16)","v":"360G-ClothworkersFdn-201700780"},{"$f":"'[1]GIFTS data'!A16","v":201700780},{"$f":"CONCATENATE(\"Grant to \",'[1]GIFTS data'!F16)","v":"Grant to Ashgate Croft Special School"},{"$f":"'[1]GIFTS data'!B16","v":"refurbishment of a food technology room for a charity which works with disabled people in Derbyshire"},{"$f":"'[1]Transformation sheet'!$B$2","v":"GBP"},{"$f":"'[1]GIFTS data'!C16","v":21500},{"$f":"'[1]GIFTS data'!D16","v":"2018-07-17"},{"$f":"IF(LEFT('[1]GIFTS data'!G16,3)=\"SC0\",\"GB-SC-\"&'[1]GIFTS data'!G16,IF(LEN('[1]GIFTS data'!G16)=8,\"GB-COH-\"&'[1]GIFTS data'!G16,IF(LEFT('[1]GIFTS data'!G16,1)=\"X\",\"GB-REV-\"&'[1]GIFTS data'!G16,IF(AND(LEN('[1]GIFTS data'!G16)=7,LEFT('[1]GIFTS data'!G16,1)=\"1\"),\"GB-CHC-\"&'[1]GIFTS data'!G16,IF(LEN('[1]GIFTS data'!G16)=7,\"GB-COH-0\"&'[1]GIFTS data'!G16,IF(LEFT('[1]GIFTS data'!G16,3)=\"NIC\",\"GB-NIC-\"&RIGHT('[1]GIFTS data'!G16,LEN('[1]GIFTS data'!G16)-3),IF(LEN('[1]GIFTS data'!G16)=6,\"GB-CHC-\"&'[1]GIFTS data'!G16,'[1]Transformation sheet'!$B$3&'[1]GIFTS data'!E16)))))))","v":"GB-CHC-113032"},{"$f":"'[1]GIFTS data'!F16","v":"Ashgate Croft Special School"},{"$f":"'[1]GIFTS data'!G16","v":113032},{"$f":"'[1]GIFTS data'!J16","v":"Chesterfield"},{"$f":"'[1]GIFTS data'!I16","v":"S40 4BN"},{"$f":"'[1]GIFTS data'!H16","v":"East Midlands"},{"$f":"IF(OR('[1]GIFTS data'!K16=\"4. Proactive Programme\",'[1]GIFTS data'!K16=\"3. Regular Grants Programme\"),\"No\",\"Yes\")","v":"Yes"},{"$f":"RIGHT('[1]GIFTS data'!K16,LEN('[1]GIFTS data'!K16)-3)","v":"Main Grants Programme"},{"$f":"'[1]Transformation sheet'!$B$8","v":"GB-CHC-274100"},{"$f":"'[1]Transformation sheet'!$B$9","v":"The Clothworkers Foundation"},"https://www.clothworkersfoundation.org.uk/",{"$f":"'[1]Transformation sheet'!$B$11","v":"2019-05-31"},{"$f":"IF(OR('[1]GIFTS data'!K16=\"4. Proactive Programme\",'[1]GIFTS data'!K16=\"3. Regular Grants Programme\"),\"Revenue\",\"Capital\")","v":"Capital"}]
[{"$f":"CONCATENATE('[1]Transformation sheet'!$B$1,'[1]GIFTS data'!A17)","v":"360G-ClothworkersFdn-201700519"},{"$f":"'[1]GIFTS data'!A17","v":201700519},{"$f":"CONCATENATE(\"Grant to \",'[1]GIFTS data'!F17)","v":"Grant to Ashgate Specialist Support Primary School"},{"$f":"'[1]GIFTS data'!B17","v":"construction of a sensory garden for a charity which works with disabled people in Manchester"},{"$f":"'[1]Transformation sheet'!$B$2","v":"GBP"},{"$f":"'[1]GIFTS data'!C17","v":15500},{"$f":"'[1]GIFTS data'!D17","v":"2018-05-16"},{"$f":"IF(LEFT('[1]GIFTS data'!G17,3)=\"SC0\",\"GB-SC-\"&'[1]GIFTS data'!G17,IF(LEN('[1]GIFTS data'!G17)=8,\"GB-COH-\"&'[1]GIFTS data'!G17,IF(LEFT('[1]GIFTS data'!G17,1)=\"X\",\"GB-REV-\"&'[1]GIFTS data'!G17,IF(AND(LEN('[1]GIFTS data'!G17)=7,LEFT('[1]GIFTS data'!G17,1)=\"1\"),\"GB-CHC-\"&'[1]GIFTS data'!G17,IF(LEN('[1]GIFTS data'!G17)=7,\"GB-COH-0\"&'[1]GIFTS data'!G17,IF(LEFT('[1]GIFTS data'!G17,3)=\"NIC\",\"GB-NIC-\"&RIGHT('[1]GIFTS data'!G17,LEN('[1]GIFTS data'!G17)-3),IF(LEN('[1]GIFTS data'!G17)=6,\"GB-CHC-\"&'[1]GIFTS data'!G17,'[1]Transformation sheet'!$B$3&'[1]GIFTS data'!E17)))))))","v":"360G-ClothworkersFdn:ORG-10248"},{"$f":"'[1]GIFTS data'!F17","v":"Ashgate Specialist Support Primary School"},{"$f":"'[1]GIFTS data'!G17","v":0},{"$f":"'[1]GIFTS data'!J17","v":"Manchester"},{"$f":"'[1]GIFTS data'!I17","v":"M22 5DR"},{"$f":"'[1]GIFTS data'!H17","v":"North West"},{"$f":"IF(OR('[1]GIFTS data'!K17=\"4. Proactive Programme\",'[1]GIFTS data'!K17=\"3. Regular Grants Programme\"),\"No\",\"Yes\")","v":"Yes"},{"$f":"RIGHT('[1]GIFTS data'!K17,LEN('[1]GIFTS data'!K17)-3)","v":"Main Grants Programme"},{"$f":"'[1]Transformation sheet'!$B$8","v":"GB-CHC-274100"},{"$f":"'[1]Transformation sheet'!$B$9","v":"The Clothworkers Foundation"},"https://www.clothworkersfoundation.org.uk/",{"$f":"'[1]Transformation sheet'!$B$11","v":"2019-05-31"},{"$f":"IF(OR('[1]GIFTS data'!K17=\"4. Proactive Programme\",'[1]GIFTS data'!K17=\"3. Regular Grants Programme\"),\"Revenue\",\"Capital\")","v":"Capital"}]
[{"$f":"CONCATENATE('[1]Transformation sheet'!$B$1,'[1]GIFTS data'!A18)","v":"360G-ClothworkersFdn-201700875"},{"$f":"'[1]GIFTS data'!A18","v":201700875},{"$f":"CONCATENATE(\"Grant to \",'[1]GIFTS data'!F18)","v":"Grant to Ashley Foundation"},{"$f":"'[1]GIFTS data'!B18","v":"renovation of a building into a cafe for a charity which works with homeless people in Lancashire"},{"$f":"'[1]Transformation sheet'!$B$2","v":"GBP"},{"$f":"'[1]GIFTS data'!C18","v":20000},{"$f":"'[1]GIFTS data'!D18","v":"2018-10-16"},{"$f":"IF(LEFT('[1]GIFTS data'!G18,3)=\"SC0\",\"GB-SC-\"&'[1]GIFTS data'!G18,IF(LEN('[1]GIFTS data'!G18)=8,\"GB-COH-\"&'[1]GIFTS data'!G18,IF(LEFT('[1]GIFTS data'!G18,1)=\"X\",\"GB-REV-\"&'[1]GIFTS data'!G18,IF(AND(LEN('[1]GIFTS data'!G18)=7,LEFT('[1]GIFTS data'!G18,1)=\"1\"),\"GB-CHC-\"&'[1]GIFTS data'!G18,IF(LEN('[1]GIFTS data'!G18)=7,\"GB-COH-0\"&'[1]GIFTS data'!G18,IF(LEFT('[1]GIFTS data'!G18,3)=\"NIC\",\"GB-NIC-\"&RIGHT('[1]GIFTS data'!G18,LEN('[1]GIFTS data'!G18)-3),IF(LEN('[1]GIFTS data'!G18)=6,\"GB-CHC-\"&'[1]GIFTS data'!G18,'[1]Transformation sheet'!$B$3&'[1]GIFTS data'!E18)))))))","v":"GB-CHC-1063208"},{"$f":"'[1]GIFTS data'!F18","v":"Ashley Foundation"},{"$f":"'[1]GIFTS data'!G18","v":1063208},{"$f":"'[1]GIFTS data'!J18","v":"Blackpool"},{"$f":"'[1]GIFTS data'!I18","v":"FY1 1PP"},{"$f":"'[1]GIFTS data'!H18","v":"North West"},{"$f":"IF(OR('[1]GIFTS data'!K18=\"4. Proactive Programme\",'[1]GIFTS data'!K18=\"3. Regular Grants Programme\"),\"No\",\"Yes\")","v":"Yes"},{"$f":"RIGHT('[1]GIFTS data'!K18,LEN('[1]GIFTS data'!K18)-3)","v":"Main Grants Programme"},{"$f":"'[1]Transformation sheet'!$B$8","v":"GB-CHC-274100"},{"$f":"'[1]Transformation sheet'!$B$9","v":"The Clothworkers Foundation"},"https://www.clothworkersfoundation.org.uk/",{"$f":"'[1]Transformation sheet'!$B$11","v":"2019-05-31"},{"$f":"IF(OR('[1]GIFTS data'!K18=\"4. Proactive Programme\",'[1]GIFTS data'!K18=\"3. Regular Grants Programme\"),\"Revenue\",\"Capital\")","v":"Capital"}]
[{"$f":"CONCATENATE('[1]Transformation sheet'!$B$1,'[1]GIFTS data'!A19)","v":"360G-ClothworkersFdn-201700518"},{"$f":"'[1]GIFTS data'!A19","v":201700518},{"$f":"CONCATENATE(\"Grant to \",'[1]GIFTS data'!F19)","v":"Grant to Asperger East Anglia"},{"$f":"'[1]GIFTS data'!B19","v":"refurbishment of supported accommodation for a charity which works with disabled people in Suffolk"},{"$f":"'[1]Transformation sheet'!$B$2","v":"GBP"},{"$f":"'[1]GIFTS data'!C19","v":10000},{"$f":"'[1]GIFTS data'!D19","v":"2018-03-02"},{"$f":"IF(LEFT('[1]GIFTS data'!G19,3)=\"SC0\",\"GB-SC-\"&'[1]GIFTS data'!G19,IF(LEN('[1]GIFTS data'!G19)=8,\"GB-COH-\"&'[1]GIFTS data'!G19,IF(LEFT('[1]GIFTS data'!G19,1)=\"X\",\"GB-REV-\"&'[1]GIFTS data'!G19,IF(AND(LEN('[1]GIFTS data'!G19)=7,LEFT('[1]GIFTS data'!G19,1)=\"1\"),\"GB-CHC-\"&'[1]GIFTS data'!G19,IF(LEN('[1]GIFTS data'!G19)=7,\"GB-COH-0\"&'[1]GIFTS data'!G19,IF(LEFT('[1]GIFTS data'!G19,3)=\"NIC\",\"GB-NIC-\"&RIGHT('[1]GIFTS data'!G19,LEN('[1]GIFTS data'!G19)-3),IF(LEN('[1]GIFTS data'!G19)=6,\"GB-CHC-\"&'[1]GIFTS data'!G19,'[1]Transformation sheet'!$B$3&'[1]GIFTS data'!E19)))))))","v":"GB-CHC-1074699"},{"$f":"'[1]GIFTS data'!F19","v":"Asperger East Anglia"},{"$f":"'[1]GIFTS data'!G19","v":1074699},{"$f":"'[1]GIFTS data'!J19","v":"Norwich"},{"$f":"'[1]GIFTS data'!I19","v":"NR2 1DN"},{"$f":"'[1]GIFTS data'!H19","v":"East"},{"$f":"IF(OR('[1]GIFTS data'!K19=\"4. Proactive Programme\",'[1]GIFTS data'!K19=\"3. Regular Grants Programme\"),\"No\",\"Yes\")","v":"Yes"},{"$f":"RIGHT('[1]GIFTS data'!K19,LEN('[1]GIFTS data'!K19)-3)","v":"Small Grants Programme"},{"$f":"'[1]Transformation sheet'!$B$8","v":"GB-CHC-274100"},{"$f":"'[1]Transformation sheet'!$B$9","v":"The Clothworkers Foundation"},"https://www.clothworkersfoundation.org.uk/",{"$f":"'[1]Transformation sheet'!$B$11","v":"2019-05-31"},{"$f":"IF(OR('[1]GIFTS data'!K19=\"4. Proactive Programme\",'[1]GIFTS data'!K19=\"3. Regular Grants Programme\"),\"Revenue\",\"Capital\")","v":"Capital"}]
[{"$f":"CONCATENATE('[1]Transformation sheet'!$B$1,'[1]GIFTS data'!A20)","v":"360G-ClothworkersFdn-201700737"},{"$f":"'[1]GIFTS data'!A20","v":201700737},{"$f":"CONCATENATE(\"Grant to \",'[1]GIFTS data'!F20)","v":"Grant to Attend"},{"$f":"'[1]GIFTS data'!B20","v":"purchase of desktops, laptops and comms equipment for a charity which works with disabled people in London"},{"$f":"'[1]Transformation sheet'!$B$2","v":"GBP"},{"$f":"'[1]GIFTS data'!C20","v":11000},{"$f":"'[1]GIFTS data'!D20","v":"2018-07-17"},{"$f":"IF(LEFT('[1]GIFTS data'!G20,3)=\"SC0\",\"GB-SC-\"&'[1]GIFTS data'!G20,IF(LEN('[1]GIFTS data'!G20)=8,\"GB-COH-\"&'[1]GIFTS data'!G20,IF(LEFT('[1]GIFTS data'!G20,1)=\"X\",\"GB-REV-\"&'[1]GIFTS data'!G20,IF(AND(LEN('[1]GIFTS data'!G20)=7,LEFT('[1]GIFTS data'!G20,1)=\"1\"),\"GB-CHC-\"&'[1]GIFTS data'!G20,IF(LEN('[1]GIFTS data'!G20)=7,\"GB-COH-0\"&'[1]GIFTS data'!G20,IF(LEFT('[1]GIFTS data'!G20,3)=\"NIC\",\"GB-NIC-\"&RIGHT('[1]GIFTS data'!G20,LEN('[1]GIFTS data'!G20)-3),IF(LEN('[1]GIFTS data'!G20)=6,\"GB-CHC-\"&'[1]GIFTS data'!G20,'[1]Transformation sheet'!$B$3&'[1]GIFTS data'!E20)))))))","v":"GB-CHC-1113067"},{"$f":"'[1]GIFTS data'!F20","v":"Attend"},{"$f":"'[1]GIFTS data'!G20","v":1113067},{"$f":"'[1]GIFTS data'!J20","v":"London"},{"$f":"'[1]GIFTS data'!I20","v":"W1G 0AN"},{"$f":"'[1]GIFTS data'!H20","v":"Greater London"},{"$f":"IF(OR('[1]GIFTS data'!K20=\"4. Proactive Programme\",'[1]GIFTS data'!K20=\"3. Regular Grants Programme\"),\"No\",\"Yes\")","v":"Yes"},{"$f":"RIGHT('[1]GIFTS data'!K20,LEN('[1]GIFTS data'!K20)-3)","v":"Main Grants Programme"},{"$f":"'[1]Transformation sheet'!$B$8","v":"GB-CHC-274100"},{"$f":"'[1]Transformation sheet'!$B$9","v":"The Clothworkers Foundation"},"https://www.clothworkersfoundation.org.uk/",{"$f":"'[1]Transformation sheet'!$B$11","v":"2019-05-31"},{"$f":"IF(OR('[1]GIFTS data'!K20=\"4. Proactive Programme\",'[1]GIFTS data'!K20=\"3. Regular Grants Programme\"),\"Revenue\",\"Capital\")","v":"Capital"}]
[{"$f":"CONCATENATE('[1]Transformation sheet'!$B$1,'[1]GIFTS data'!A21)","v":"360G-ClothworkersFdn-201700798"},{"$f":"'[1]GIFTS data'!A21","v":201700798},{"$f":"CONCATENATE(\"Grant to \",'[1]GIFTS data'!F21)","v":"Grant to Avon and Bristol Law Centre"},{"$f":"'[1]GIFTS data'!B21","v":"refurbishment of offices for a charity which works with disadvantaged minority communities in Bristol"},{"$f":"'[1]Transformation sheet'!$B$2","v":"GBP"},{"$f":"'[1]GIFTS data'!C21","v":25000},{"$f":"'[1]GIFTS data'!D21","v":"2018-10-16"},{"$f":"IF(LEFT('[1]GIFTS data'!G21,3)=\"SC0\",\"GB-SC-\"&'[1]GIFTS data'!G21,IF(LEN('[1]GIFTS data'!G21)=8,\"GB-COH-\"&'[1]GIFTS data'!G21,IF(LEFT('[1]GIFTS data'!G21,1)=\"X\",\"GB-REV-\"&'[1]GIFTS data'!G21,IF(AND(LEN('[1]GIFTS data'!G21)=7,LEFT('[1]GIFTS data'!G21,1)=\"1\"),\"GB-CHC-\"&'[1]GIFTS data'!G21,IF(LEN('[1]GIFTS data'!G21)=7,\"GB-COH-0\"&'[1]GIFTS data'!G21,IF(LEFT('[1]GIFTS data'!G21,3)=\"NIC\",\"GB-NIC-\"&RIGHT('[1]GIFTS data'!G21,LEN('[1]GIFTS data'!G21)-3),IF(LEN('[1]GIFTS data'!G21)=6,\"GB-CHC-\"&'[1]GIFTS data'!G21,'[1]Transformation sheet'!$B$3&'[1]GIFTS data'!E21)))))))","v":"GB-CHC-1059022"},{"$f":"'[1]GIFTS data'!F21","v":"Avon and Bristol Law Centre"},{"$f":"'[1]GIFTS data'!G21","v":1059022},{"$f":"'[1]GIFTS data'!J21","v":"Bristol"},{"$f":"'[1]GIFTS data'!I21","v":"BS2 0BH"},{"$f":"'[1]GIFTS data'!H21","v":"South West"},{"$f":"IF(OR('[1]GIFTS data'!K21=\"4. Proactive Programme\",'[1]GIFTS data'!K21=\"3. Regular Grants Programme\"),\"No\",\"Yes\")","v":"Yes"},{"$f":"RIGHT('[1]GIFTS data'!K21,LEN('[1]GIFTS data'!K21)-3)","v":"Main Grants Programme"},{"$f":"'[1]Transformation sheet'!$B$8","v":"GB-CHC-274100"},{"$f":"'[1]Transformation sheet'!$B$9","v":"The Clothworkers Foundation"},"https://www.clothworkersfoundation.org.uk/",{"$f":"'[1]Transformation sheet'!$B$11","v":"2019-05-31"},{"$f":"IF(OR('[1]GIFTS data'!K21=\"4. Proactive Programme\",'[1]GIFTS data'!K21=\"3. Regular Grants Programme\"),\"Revenue\",\"Capital\")","v":"Capital"}]
[{"$f":"CONCATENATE('[1]Transformation sheet'!$B$1,'[1]GIFTS data'!A22)","v":"360G-ClothworkersFdn-201700834"},{"$f":"'[1]GIFTS data'!A22","v":201700834},{"$f":"CONCATENATE(\"Grant to \",'[1]GIFTS data'!F22)","v":"Grant to Baca Charity"},{"$f":"'[1]GIFTS data'!B22","v":"Refurbishment of supported accommodation in Leicestershire for young asylum seekers"},{"$f":"'[1]Transformation sheet'!$B$2","v":"GBP"},{"$f":"'[1]GIFTS data'!C22","v":35000},{"$f":"'[1]GIFTS data'!D22","v":"2018-11-29"},{"$f":"IF(LEFT('[1]GIFTS data'!G22,3)=\"SC0\",\"GB-SC-\"&'[1]GIFTS data'!G22,IF(LEN('[1]GIFTS data'!G22)=8,\"GB-COH-\"&'[1]GIFTS data'!G22,IF(LEFT('[1]GIFTS data'!G22,1)=\"X\",\"GB-REV-\"&'[1]GIFTS data'!G22,IF(AND(LEN('[1]GIFTS data'!G22)=7,LEFT('[1]GIFTS data'!G22,1)=\"1\"),\"GB-CHC-\"&'[1]GIFTS data'!G22,IF(LEN('[1]GIFTS data'!G22)=7,\"GB-COH-0\"&'[1]GIFTS data'!G22,IF(LEFT('[1]GIFTS data'!G22,3)=\"NIC\",\"GB-NIC-\"&RIGHT('[1]GIFTS data'!G22,LEN('[1]GIFTS data'!G22)-3),IF(LEN('[1]GIFTS data'!G22)=6,\"GB-CHC-\"&'[1]GIFTS data'!G22,'[1]Transformation sheet'!$B$3&'[1]GIFTS data'!E22)))))))","v":"GB-CHC-1124569"},{"$f":"'[1]GIFTS data'!F22","v":"Baca Charity"},{"$f":"'[1]GIFTS data'!G22","v":1124569},{"$f":"'[1]GIFTS data'!J22","v":"Loughborough"},{"$f":"'[1]GIFTS data'!I22","v":"LE11 5BX"},{"$f":"'[1]GIFTS data'!H22","v":"East Midlands"},{"$f":"IF(OR('[1]GIFTS data'!K22=\"4. Proactive Programme\",'[1]GIFTS data'!K22=\"3. Regular Grants Programme\"),\"No\",\"Yes\")","v":"Yes"},{"$f":"RIGHT('[1]GIFTS data'!K22,LEN('[1]GIFTS data'!K22)-3)","v":"Main Grants Programme"},{"$f":"'[1]Transformation sheet'!$B$8","v":"GB-CHC-274100"},{"$f":"'[1]Transformation sheet'!$B$9","v":"The Clothworkers Foundation"},"https://www.clothworkersfoundation.org.uk/",{"$f":"'[1]Transformation sheet'!$B$11","v":"2019-05-31"},{"$f":"IF(OR('[1]GIFTS data'!K22=\"4. Proactive Programme\",'[1]GIFTS data'!K22=\"3. Regular Grants Programme\"),\"Revenue\",\"Capital\")","v":"Capital"}]
[{"$f":"CONCATENATE('[1]Transformation sheet'!$B$1,'[1]GIFTS data'!A23)","v":"360G-ClothworkersFdn-201700651"},{"$f":"'[1]GIFTS data'!A23","v":201700651},{"$f":"CONCATENATE(\"Grant to \",'[1]GIFTS data'!F23)","v":"Grant to Bangladesh Youth Movement"},{"$f":"'[1]GIFTS data'!B23","v":"purchase of office equipment, furniture and sewing machines for a charity which works with disadvantaged minority communities in Tower Hamlets"},{"$f":"'[1]Transformation sheet'!$B$2","v":"GBP"},{"$f":"'[1]GIFTS data'!C23","v":9600},{"$f":"'[1]GIFTS data'!D23","v":"2018-05-04"},{"$f":"IF(LEFT('[1]GIFTS data'!G23,3)=\"SC0\",\"GB-SC-\"&'[1]GIFTS data'!G23,IF(LEN('[1]GIFTS data'!G23)=8,\"GB-COH-\"&'[1]GIFTS data'!G23,IF(LEFT('[1]GIFTS data'!G23,1)=\"X\",\"GB-REV-\"&'[1]GIFTS data'!G23,IF(AND(LEN('[1]GIFTS data'!G23)=7,LEFT('[1]GIFTS data'!G23,1)=\"1\"),\"GB-CHC-\"&'[1]GIFTS data'!G23,IF(LEN('[1]GIFTS data'!G23)=7,\"GB-COH-0\"&'[1]GIFTS data'!G23,IF(LEFT('[1]GIFTS data'!G23,3)=\"NIC\",\"GB-NIC-\"&RIGHT('[1]GIFTS data'!G23,LEN('[1]GIFTS data'!G23)-3),IF(LEN('[1]GIFTS data'!G23)=6,\"GB-CHC-\"&'[1]GIFTS data'!G23,'[1]Transformation sheet'!$B$3&'[1]GIFTS data'!E23)))))))","v":"GB-CHC-1011723"},{"$f":"'[1]GIFTS data'!F23","v":"Bangladesh Youth Movement"},{"$f":"'[1]GIFTS data'!G23","v":1011723},{"$f":"'[1]GIFTS data'!J23","v":"London"},{"$f":"'[1]GIFTS data'!I23","v":"E1 1NB"},{"$f":"'[1]GIFTS data'!H23","v":"Greater London"},{"$f":"IF(OR('[1]GIFTS data'!K23=\"4. Proactive Programme\",'[1]GIFTS data'!K23=\"3. Regular Grants Programme\"),\"No\",\"Yes\")","v":"Yes"},{"$f":"RIGHT('[1]GIFTS data'!K23,LEN('[1]GIFTS data'!K23)-3)","v":"Small Grants Programme"},{"$f":"'[1]Transformation sheet'!$B$8","v":"GB-CHC-274100"},{"$f":"'[1]Transformation sheet'!$B$9","v":"The Clothworkers Foundation"},"https://www.clothworkersfoundation.org.uk/",{"$f":"'[1]Transformation sheet'!$B$11","v":"2019-05-31"},{"$f":"IF(OR('[1]GIFTS data'!K23=\"4. Proactive Programme\",'[1]GIFTS data'!K23=\"3. Regular Grants Programme\"),\"Revenue\",\"Capital\")","v":"Capital"}]
[{"$f":"CONCATENATE('[1]Transformation sheet'!$B$1,'[1]GIFTS data'!A24)","v":"360G-ClothworkersFdn-201700730"},{"$f":"'[1]GIFTS data'!A24","v":201700730},{"$f":"CONCATENATE(\"Grant to \",'[1]GIFTS data'!F24)","v":"Grant to Barrow & Districts Society for the Blind"},{"$f":"'[1]GIFTS data'!B24","v":"construction of a Sight Loss Dementia Village for a charity which works with people with visual impairment in Cumbria"},{"$f":"'[1]Transformation sheet'!$B$2","v":"GBP"},{"$f":"'[1]GIFTS data'!C24","v":50000},{"$f":"'[1]GIFTS data'!D24","v":"2018-09-26"},{"$f":"IF(LEFT('[1]GIFTS data'!G24,3)=\"SC0\",\"GB-SC-\"&'[1]GIFTS data'!G24,IF(LEN('[1]GIFTS data'!G24)=8,\"GB-COH-\"&'[1]GIFTS data'!G24,IF(LEFT('[1]GIFTS data'!G24,1)=\"X\",\"GB-REV-\"&'[1]GIFTS data'!G24,IF(AND(LEN('[1]GIFTS data'!G24)=7,LEFT('[1]GIFTS data'!G24,1)=\"1\"),\"GB-CHC-\"&'[1]GIFTS data'!G24,IF(LEN('[1]GIFTS data'!G24)=7,\"GB-COH-0\"&'[1]GIFTS data'!G24,IF(LEFT('[1]GIFTS data'!G24,3)=\"NIC\",\"GB-NIC-\"&RIGHT('[1]GIFTS data'!G24,LEN('[1]GIFTS data'!G24)-3),IF(LEN('[1]GIFTS data'!G24)=6,\"GB-CHC-\"&'[1]GIFTS data'!G24,'[1]Transformation sheet'!$B$3&'[1]GIFTS data'!E24)))))))","v":"GB-CHC-1051674"},{"$f":"'[1]GIFTS data'!F24","v":"Barrow & Districts Society for the Blind"},{"$f":"'[1]GIFTS data'!G24","v":1051674},{"$f":"'[1]GIFTS data'!J24","v":"Barrow in Furness"},{"$f":"'[1]GIFTS data'!I24","v":"LA14 1QD"},{"$f":"'[1]GIFTS data'!H24","v":"North West"},{"$f":"IF(OR('[1]GIFTS data'!K24=\"4. Proactive Programme\",'[1]GIFTS data'!K24=\"3. Regular Grants Programme\"),\"No\",\"Yes\")","v":"Yes"},{"$f":"RIGHT('[1]GIFTS data'!K24,LEN('[1]GIFTS data'!K24)-3)","v":"Main Grants Programme"},{"$f":"'[1]Transformation sheet'!$B$8","v":"GB-CHC-274100"},{"$f":"'[1]Transformation sheet'!$B$9","v":"The Clothworkers Foundation"},"https://www.clothworkersfoundation.org.uk/",{"$f":"'[1]Transformation sheet'!$B$11","v":"2019-05-31"},{"$f":"IF(OR('[1]GIFTS data'!K24=\"4. Proactive Programme\",'[1]GIFTS data'!K24=\"3. Regular Grants Programme\"),\"Revenue\",\"Capital\")","v":"Capital"}]
[{"$f":"CONCATENATE('[1]Transformation sheet'!$B$1,'[1]GIFTS data'!A25)","v":"360G-ClothworkersFdn-201700924"},{"$f":"'[1]GIFTS data'!A25","v":201700924},{"$f":"CONCATENATE(\"Grant to \",'[1]GIFTS data'!F25)","v":"Grant to Beam"},{"$f":"'[1]GIFTS data'!B25","v":"purchase of three desktops and a server for a charity which works with people with disabilities in Staffordshire"},{"$f":"'[1]Transformation sheet'!$B$2","v":"GBP"},{"$f":"'[1]GIFTS data'!C25","v":3600},{"$f":"'[1]GIFTS data'!D25","v":"2018-12-07"},{"$f":"IF(LEFT('[1]GIFTS data'!G25,3)=\"SC0\",\"GB-SC-\"&'[1]GIFTS data'!G25,IF(LEN('[1]GIFTS data'!G25)=8,\"GB-COH-\"&'[1]GIFTS data'!G25,IF(LEFT('[1]GIFTS data'!G25,1)=\"X\",\"GB-REV-\"&'[1]GIFTS data'!G25,IF(AND(LEN('[1]GIFTS data'!G25)=7,LEFT('[1]GIFTS data'!G25,1)=\"1\"),\"GB-CHC-\"&'[1]GIFTS data'!G25,IF(LEN('[1]GIFTS data'!G25)=7,\"GB-COH-0\"&'[1]GIFTS data'!G25,IF(LEFT('[1]GIFTS data'!G25,3)=\"NIC\",\"GB-NIC-\"&RIGHT('[1]GIFTS data'!G25,LEN('[1]GIFTS data'!G25)-3),IF(LEN('[1]GIFTS data'!G25)=6,\"GB-CHC-\"&'[1]GIFTS data'!G25,'[1]Transformation sheet'!$B$3&'[1]GIFTS data'!E25)))))))","v":"GB-COH-04495170"},{"$f":"'[1]GIFTS data'!F25","v":"Beam"},{"$f":"'[1]GIFTS data'!G25","v":4495170},{"$f":"'[1]GIFTS data'!J25","v":"Stafford"},{"$f":"'[1]GIFTS data'!I25","v":"ST16 2BX"},{"$f":"'[1]GIFTS data'!H25","v":"West Midlands"},{"$f":"IF(OR('[1]GIFTS data'!K25=\"4. Proactive Programme\",'[1]GIFTS data'!K25=\"3. Regular Grants Programme\"),\"No\",\"Yes\")","v":"Yes"},{"$f":"RIGHT('[1]GIFTS data'!K25,LEN('[1]GIFTS data'!K25)-3)","v":"Small Grants Programme"},{"$f":"'[1]Transformation sheet'!$B$8","v":"GB-CHC-274100"},{"$f":"'[1]Transformation sheet'!$B$9","v":"The Clothworkers Foundation"},"https://www.clothworkersfoundation.org.uk/",{"$f":"'[1]Transformation sheet'!$B$11","v":"2019-05-31"},{"$f":"IF(OR('[1]GIFTS data'!K25=\"4. Proactive Programme\",'[1]GIFTS data'!K25=\"3. Regular Grants Programme\"),\"Revenue\",\"Capital\")","v":"Capital"}]
[{"$f":"CONCATENATE('[1]Transformation sheet'!$B$1,'[1]GIFTS data'!A26)","v":"360G-ClothworkersFdn-201700930"},{"$f":"'[1]GIFTS data'!A26","v":201700930},{"$f":"CONCATENATE(\"Grant to \",'[1]GIFTS data'!F26)","v":"Grant to BEAP Community Partnership"},{"$f":"'[1]GIFTS data'!B26","v":"purchase of outdoor learning equipment for a charity which works with disadvantaged young people in Bradford"},{"$f":"'[1]Transformation sheet'!$B$2","v":"GBP"},{"$f":"'[1]GIFTS data'!C26","v":8000},{"$f":"'[1]GIFTS data'!D26","v":"2018-12-07"},{"$f":"IF(LEFT('[1]GIFTS data'!G26,3)=\"SC0\",\"GB-SC-\"&'[1]GIFTS data'!G26,IF(LEN('[1]GIFTS data'!G26)=8,\"GB-COH-\"&'[1]GIFTS data'!G26,IF(LEFT('[1]GIFTS data'!G26,1)=\"X\",\"GB-REV-\"&'[1]GIFTS data'!G26,IF(AND(LEN('[1]GIFTS data'!G26)=7,LEFT('[1]GIFTS data'!G26,1)=\"1\"),\"GB-CHC-\"&'[1]GIFTS data'!G26,IF(LEN('[1]GIFTS data'!G26)=7,\"GB-COH-0\"&'[1]GIFTS data'!G26,IF(LEFT('[1]GIFTS data'!G26,3)=\"NIC\",\"GB-NIC-\"&RIGHT('[1]GIFTS data'!G26,LEN('[1]GIFTS data'!G26)-3),IF(LEN('[1]GIFTS data'!G26)=6,\"GB-CHC-\"&'[1]GIFTS data'!G26,'[1]Transformation sheet'!$B$3&'[1]GIFTS data'!E26)))))))","v":"GB-CHC-1098088"},{"$f":"'[1]GIFTS data'!F26","v":"BEAP Community Partnership"},{"$f":"'[1]GIFTS data'!G26","v":1098088},{"$f":"'[1]GIFTS data'!J26","v":"Bradford"},{"$f":"'[1]GIFTS data'!I26","v":"BD8 7JN"},{"$f":"'[1]GIFTS data'!H26","v":"Yorks & Humberside"},{"$f":"IF(OR('[1]GIFTS data'!K26=\"4. Proactive Programme\",'[1]GIFTS data'!K26=\"3. Regular Grants Programme\"),\"No\",\"Yes\")","v":"Yes"},{"$f":"RIGHT('[1]GIFTS data'!K26,LEN('[1]GIFTS data'!K26)-3)","v":"Small Grants Programme"},{"$f":"'[1]Transformation sheet'!$B$8","v":"GB-CHC-274100"},{"$f":"'[1]Transformation sheet'!$B$9","v":"The Clothworkers Foundation"},"https://www.clothworkersfoundation.org.uk/",{"$f":"'[1]Transformation sheet'!$B$11","v":"2019-05-31"},{"$f":"IF(OR('[1]GIFTS data'!K26=\"4. Proactive Programme\",'[1]GIFTS data'!K26=\"3. Regular Grants Programme\"),\"Revenue\",\"Capital\")","v":"Capital"}]
[{"$f":"CONCATENATE('[1]Transformation sheet'!$B$1,'[1]GIFTS data'!A27)","v":"360G-ClothworkersFdn-201700458"},{"$f":"'[1]GIFTS data'!A27","v":201700458},{"$f":"CONCATENATE(\"Grant to \",'[1]GIFTS data'!F27)","v":"Grant to Berkshire Women's Aid"},{"$f":"'[1]GIFTS data'!B27","v":"construction and refurbishment of a building for a charity which works with survivors of domestic and sexual violence in Reading"},{"$f":"'[1]Transformation sheet'!$B$2","v":"GBP"},{"$f":"'[1]GIFTS data'!C27","v":250000},{"$f":"'[1]GIFTS data'!D27","v":"2018-03-27"},{"$f":"IF(LEFT('[1]GIFTS data'!G27,3)=\"SC0\",\"GB-SC-\"&'[1]GIFTS data'!G27,IF(LEN('[1]GIFTS data'!G27)=8,\"GB-COH-\"&'[1]GIFTS data'!G27,IF(LEFT('[1]GIFTS data'!G27,1)=\"X\",\"GB-REV-\"&'[1]GIFTS data'!G27,IF(AND(LEN('[1]GIFTS data'!G27)=7,LEFT('[1]GIFTS data'!G27,1)=\"1\"),\"GB-CHC-\"&'[1]GIFTS data'!G27,IF(LEN('[1]GIFTS data'!G27)=7,\"GB-COH-0\"&'[1]GIFTS data'!G27,IF(LEFT('[1]GIFTS data'!G27,3)=\"NIC\",\"GB-NIC-\"&RIGHT('[1]GIFTS data'!G27,LEN('[1]GIFTS data'!G27)-3),IF(LEN('[1]GIFTS data'!G27)=6,\"GB-CHC-\"&'[1]GIFTS data'!G27,'[1]Transformation sheet'!$B$3&'[1]GIFTS data'!E27)))))))","v":"GB-CHC-1050484"},{"$f":"'[1]GIFTS data'!F27","v":"Berkshire Women's Aid"},{"$f":"'[1]GIFTS data'!G27","v":1050484},{"$f":"'[1]GIFTS data'!J27","v":"Reading"},{"$f":"'[1]GIFTS data'!I27","v":"RG1 8EG"},{"$f":"'[1]GIFTS data'!H27","v":"South East"},{"$f":"IF(OR('[1]GIFTS data'!K27=\"4. Proactive Programme\",'[1]GIFTS data'!K27=\"3. Regular Grants Programme\"),\"No\",\"Yes\")","v":"Yes"},{"$f":"RIGHT('[1]GIFTS data'!K27,LEN('[1]GIFTS data'!K27)-3)","v":"Main Grants Programme"},{"$f":"'[1]Transformation sheet'!$B$8","v":"GB-CHC-274100"},{"$f":"'[1]Transformation sheet'!$B$9","v":"The Clothworkers Foundation"},"https://www.clothworkersfoundation.org.uk/",{"$f":"'[1]Transformation sheet'!$B$11","v":"2019-05-31"},{"$f":"IF(OR('[1]GIFTS data'!K27=\"4. Proactive Programme\",'[1]GIFTS data'!K27=\"3. Regular Grants Programme\"),\"Revenue\",\"Capital\")","v":"Capital"}]
[{"$f":"CONCATENATE('[1]Transformation sheet'!$B$1,'[1]GIFTS data'!A28)","v":"360G-ClothworkersFdn-201700830"},{"$f":"'[1]GIFTS data'!A28","v":201700830},{"$f":"CONCATENATE(\"Grant to \",'[1]GIFTS data'!F28)","v":"Grant to Better Understanding of Dementia for Sandwell"},{"$f":"'[1]GIFTS data'!B28","v":"purchase of a minibus for a charity which works with older people in the West Midlands"},{"$f":"'[1]Transformation sheet'!$B$2","v":"GBP"},{"$f":"'[1]GIFTS data'!C28","v":15000},{"$f":"'[1]GIFTS data'!D28","v":"2018-10-16"},{"$f":"IF(LEFT('[1]GIFTS data'!G28,3)=\"SC0\",\"GB-SC-\"&'[1]GIFTS data'!G28,IF(LEN('[1]GIFTS data'!G28)=8,\"GB-COH-\"&'[1]GIFTS data'!G28,IF(LEFT('[1]GIFTS data'!G28,1)=\"X\",\"GB-REV-\"&'[1]GIFTS data'!G28,IF(AND(LEN('[1]GIFTS data'!G28)=7,LEFT('[1]GIFTS data'!G28,1)=\"1\"),\"GB-CHC-\"&'[1]GIFTS data'!G28,IF(LEN('[1]GIFTS data'!G28)=7,\"GB-COH-0\"&'[1]GIFTS data'!G28,IF(LEFT('[1]GIFTS data'!G28,3)=\"NIC\",\"GB-NIC-\"&RIGHT('[1]GIFTS data'!G28,LEN('[1]GIFTS data'!G28)-3),IF(LEN('[1]GIFTS data'!G28)=6,\"GB-CHC-\"&'[1]GIFTS data'!G28,'[1]Transformation sheet'!$B$3&'[1]GIFTS data'!E28)))))))","v":"GB-CHC-1133484"},{"$f":"'[1]GIFTS data'!F28","v":"Better Understanding of Dementia for Sandwell"},{"$f":"'[1]GIFTS data'!G28","v":1133484},{"$f":"'[1]GIFTS data'!J28","v":"Oldbury"},{"$f":"'[1]GIFTS data'!I28","v":"B68 9LN"},{"$f":"'[1]GIFTS data'!H28","v":"West Midlands"},{"$f":"IF(OR('[1]GIFTS data'!K28=\"4. Proactive Programme\",'[1]GIFTS data'!K28=\"3. Regular Grants Programme\"),\"No\",\"Yes\")","v":"Yes"},{"$f":"RIGHT('[1]GIFTS data'!K28,LEN('[1]GIFTS data'!K28)-3)","v":"Main Grants Programme"},{"$f":"'[1]Transformation sheet'!$B$8","v":"GB-CHC-274100"},{"$f":"'[1]Transformation sheet'!$B$9","v":"The Clothworkers Foundation"},"https://www.clothworkersfoundation.org.uk/",{"$f":"'[1]Transformation sheet'!$B$11","v":"2019-05-31"},{"$f":"IF(OR('[1]GIFTS data'!K28=\"4. Proactive Programme\",'[1]GIFTS data'!K28=\"3. Regular Grants Programme\"),\"Revenue\",\"Capital\")","v":"Capital"}]
[{"$f":"CONCATENATE('[1]Transformation sheet'!$B$1,'[1]GIFTS data'!A29)","v":"360G-ClothworkersFdn-201700848"},{"$f":"'[1]GIFTS data'!A29","v":201700848},{"$f":"CONCATENATE(\"Grant to \",'[1]GIFTS data'!F29)","v":"Grant to Beyond Youth"},{"$f":"'[1]GIFTS data'!B29","v":"purchase of audio and visual equipment for a charity which works with disadvantaged young people in Essex"},{"$f":"'[1]Transformation sheet'!$B$2","v":"GBP"},{"$f":"'[1]GIFTS data'!C29","v":4100},{"$f":"'[1]GIFTS data'!D29","v":"2018-09-26"},{"$f":"IF(LEFT('[1]GIFTS data'!G29,3)=\"SC0\",\"GB-SC-\"&'[1]GIFTS data'!G29,IF(LEN('[1]GIFTS data'!G29)=8,\"GB-COH-\"&'[1]GIFTS data'!G29,IF(LEFT('[1]GIFTS data'!G29,1)=\"X\",\"GB-REV-\"&'[1]GIFTS data'!G29,IF(AND(LEN('[1]GIFTS data'!G29)=7,LEFT('[1]GIFTS data'!G29,1)=\"1\"),\"GB-CHC-\"&'[1]GIFTS data'!G29,IF(LEN('[1]GIFTS data'!G29)=7,\"GB-COH-0\"&'[1]GIFTS data'!G29,IF(LEFT('[1]GIFTS data'!G29,3)=\"NIC\",\"GB-NIC-\"&RIGHT('[1]GIFTS data'!G29,LEN('[1]GIFTS data'!G29)-3),IF(LEN('[1]GIFTS data'!G29)=6,\"GB-CHC-\"&'[1]GIFTS data'!G29,'[1]Transformation sheet'!$B$3&'[1]GIFTS data'!E29)))))))","v":"GB-COH-07465447"},{"$f":"'[1]GIFTS data'!F29","v":"Beyond Youth"},{"$f":"'[1]GIFTS data'!G29","v":7465447},{"$f":"'[1]GIFTS data'!J29","v":"Ongar"},{"$f":"'[1]GIFTS data'!I29","v":"CM5 0GA"},{"$f":"'[1]GIFTS data'!H29","v":"Greater London"},{"$f":"IF(OR('[1]GIFTS data'!K29=\"4. Proactive Programme\",'[1]GIFTS data'!K29=\"3. Regular Grants Programme\"),\"No\",\"Yes\")","v":"Yes"},{"$f":"RIGHT('[1]GIFTS data'!K29,LEN('[1]GIFTS data'!K29)-3)","v":"Small Grants Programme"},{"$f":"'[1]Transformation sheet'!$B$8","v":"GB-CHC-274100"},{"$f":"'[1]Transformation sheet'!$B$9","v":"The Clothworkers Foundation"},"https://www.clothworkersfoundation.org.uk/",{"$f":"'[1]Transformation sheet'!$B$11","v":"2019-05-31"},{"$f":"IF(OR('[1]GIFTS data'!K29=\"4. Proactive Programme\",'[1]GIFTS data'!K29=\"3. Regular Grants Programme\"),\"Revenue\",\"Capital\")","v":"Capital"}]
[{"$f":"CONCATENATE('[1]Transformation sheet'!$B$1,'[1]GIFTS data'!A30)","v":"360G-ClothworkersFdn-201700489"},{"$f":"'[1]GIFTS data'!A30","v":201700489},{"$f":"CONCATENATE(\"Grant to \",'[1]GIFTS data'!F30)","v":"Grant to Bidwell Brook School"},{"$f":"'[1]GIFTS data'!B30","v":"purchase of an audio and visual IT sensory equipment for a charity which works with disabled people in Dartington"},{"$f":"'[1]Transformation sheet'!$B$2","v":"GBP"},{"$f":"'[1]GIFTS data'!C30","v":9700},{"$f":"'[1]GIFTS data'!D30","v":"2018-01-30"},{"$f":"IF(LEFT('[1]GIFTS data'!G30,3)=\"SC0\",\"GB-SC-\"&'[1]GIFTS data'!G30,IF(LEN('[1]GIFTS data'!G30)=8,\"GB-COH-\"&'[1]GIFTS data'!G30,IF(LEFT('[1]GIFTS data'!G30,1)=\"X\",\"GB-REV-\"&'[1]GIFTS data'!G30,IF(AND(LEN('[1]GIFTS data'!G30)=7,LEFT('[1]GIFTS data'!G30,1)=\"1\"),\"GB-CHC-\"&'[1]GIFTS data'!G30,IF(LEN('[1]GIFTS data'!G30)=7,\"GB-COH-0\"&'[1]GIFTS data'!G30,IF(LEFT('[1]GIFTS data'!G30,3)=\"NIC\",\"GB-NIC-\"&RIGHT('[1]GIFTS data'!G30,LEN('[1]GIFTS data'!G30)-3),IF(LEN('[1]GIFTS data'!G30)=6,\"GB-CHC-\"&'[1]GIFTS data'!G30,'[1]Transformation sheet'!$B$3&'[1]GIFTS data'!E30)))))))","v":"360G-ClothworkersFdn:ORG-10222"},{"$f":"'[1]GIFTS data'!F30","v":"Bidwell Brook School"},{"$f":"'[1]GIFTS data'!G30","v":"."},{"$f":"'[1]GIFTS data'!J30","v":"Dartington"},{"$f":"'[1]GIFTS data'!I30","v":"TQ9 6JU"},{"$f":"'[1]GIFTS data'!H30","v":"South West"},{"$f":"IF(OR('[1]GIFTS data'!K30=\"4. Proactive Programme\",'[1]GIFTS data'!K30=\"3. Regular Grants Programme\"),\"No\",\"Yes\")","v":"Yes"},{"$f":"RIGHT('[1]GIFTS data'!K30,LEN('[1]GIFTS data'!K30)-3)","v":"Small Grants Programme"},{"$f":"'[1]Transformation sheet'!$B$8","v":"GB-CHC-274100"},{"$f":"'[1]Transformation sheet'!$B$9","v":"The Clothworkers Foundation"},"https://www.clothworkersfoundation.org.uk/",{"$f":"'[1]Transformation sheet'!$B$11","v":"2019-05-31"},{"$f":"IF(OR('[1]GIFTS data'!K30=\"4. Proactive Programme\",'[1]GIFTS data'!K30=\"3. Regular Grants Programme\"),\"Revenue\",\"Capital\")","v":"Capital"}]
[{"$f":"CONCATENATE('[1]Transformation sheet'!$B$1,'[1]GIFTS data'!A31)","v":"360G-ClothworkersFdn-201700814"},{"$f":"'[1]GIFTS data'!A31","v":201700814},{"$f":"CONCATENATE(\"Grant to \",'[1]GIFTS data'!F31)","v":"Grant to Birchall Trust"},{"$f":"'[1]GIFTS data'!B31","v":"refurbishment of counselling and play rooms for a charity which works with survivors of domestic or sexual violence in Cumbria"},{"$f":"'[1]Transformation sheet'!$B$2","v":"GBP"},{"$f":"'[1]GIFTS data'!C31","v":9000},{"$f":"'[1]GIFTS data'!D31","v":"2018-08-31"},{"$f":"IF(LEFT('[1]GIFTS data'!G31,3)=\"SC0\",\"GB-SC-\"&'[1]GIFTS data'!G31,IF(LEN('[1]GIFTS data'!G31)=8,\"GB-COH-\"&'[1]GIFTS data'!G31,IF(LEFT('[1]GIFTS data'!G31,1)=\"X\",\"GB-REV-\"&'[1]GIFTS data'!G31,IF(AND(LEN('[1]GIFTS data'!G31)=7,LEFT('[1]GIFTS data'!G31,1)=\"1\"),\"GB-CHC-\"&'[1]GIFTS data'!G31,IF(LEN('[1]GIFTS data'!G31)=7,\"GB-COH-0\"&'[1]GIFTS data'!G31,IF(LEFT('[1]GIFTS data'!G31,3)=\"NIC\",\"GB-NIC-\"&RIGHT('[1]GIFTS data'!G31,LEN('[1]GIFTS data'!G31)-3),IF(LEN('[1]GIFTS data'!G31)=6,\"GB-CHC-\"&'[1]GIFTS data'!G31,'[1]Transformation sheet'!$B$3&'[1]GIFTS data'!E31)))))))","v":"GB-CHC-1109637"},{"$f":"'[1]GIFTS data'!F31","v":"Birchall Trust"},{"$f":"'[1]GIFTS data'!G31","v":1109637},{"$f":"'[1]GIFTS data'!J31","v":"Barrow-in-Furness"},{"$f":"'[1]GIFTS data'!I31","v":"LA14 5SR"},{"$f":"'[1]GIFTS data'!H31","v":"North West"},{"$f":"IF(OR('[1]GIFTS data'!K31=\"4. Proactive Programme\",'[1]GIFTS data'!K31=\"3. Regular Grants Programme\"),\"No\",\"Yes\")","v":"Yes"},{"$f":"RIGHT('[1]GIFTS data'!K31,LEN('[1]GIFTS data'!K31)-3)","v":"Small Grants Programme"},{"$f":"'[1]Transformation sheet'!$B$8","v":"GB-CHC-274100"},{"$f":"'[1]Transformation sheet'!$B$9","v":"The Clothworkers Foundation"},"https://www.clothworkersfoundation.org.uk/",{"$f":"'[1]Transformation sheet'!$B$11","v":"2019-05-31"},{"$f":"IF(OR('[1]GIFTS data'!K31=\"4. Proactive Programme\",'[1]GIFTS data'!K31=\"3. Regular Grants Programme\"),\"Revenue\",\"Capital\")","v":"Capital"}]
[{"$f":"CONCATENATE('[1]Transformation sheet'!$B$1,'[1]GIFTS data'!A32)","v":"360G-ClothworkersFdn-201700462"},{"$f":"'[1]GIFTS data'!A32","v":201700462},{"$f":"CONCATENATE(\"Grant to \",'[1]GIFTS data'!F32)","v":"Grant to Blackthorn Trust"},{"$f":"'[1]GIFTS data'!B32","v":"reconstruction of a garden for a charity which works with disabled people in Maidstone"},{"$f":"'[1]Transformation sheet'!$B$2","v":"GBP"},{"$f":"'[1]GIFTS data'!C32","v":15000},{"$f":"'[1]GIFTS data'!D32","v":"2018-02-08"},{"$f":"IF(LEFT('[1]GIFTS data'!G32,3)=\"SC0\",\"GB-SC-\"&'[1]GIFTS data'!G32,IF(LEN('[1]GIFTS data'!G32)=8,\"GB-COH-\"&'[1]GIFTS data'!G32,IF(LEFT('[1]GIFTS data'!G32,1)=\"X\",\"GB-REV-\"&'[1]GIFTS data'!G32,IF(AND(LEN('[1]GIFTS data'!G32)=7,LEFT('[1]GIFTS data'!G32,1)=\"1\"),\"GB-CHC-\"&'[1]GIFTS data'!G32,IF(LEN('[1]GIFTS data'!G32)=7,\"GB-COH-0\"&'[1]GIFTS data'!G32,IF(LEFT('[1]GIFTS data'!G32,3)=\"NIC\",\"GB-NIC-\"&RIGHT('[1]GIFTS data'!G32,LEN('[1]GIFTS data'!G32)-3),IF(LEN('[1]GIFTS data'!G32)=6,\"GB-CHC-\"&'[1]GIFTS data'!G32,'[1]Transformation sheet'!$B$3&'[1]GIFTS data'!E32)))))))","v":"GB-CHC-1117979"},{"$f":"'[1]GIFTS data'!F32","v":"Blackthorn Trust"},{"$f":"'[1]GIFTS data'!G32","v":1117979},{"$f":"'[1]GIFTS data'!J32","v":"Maidstone"},{"$f":"'[1]GIFTS data'!I32","v":"ME16 9AN"},{"$f":"'[1]GIFTS data'!H32","v":"South East"},{"$f":"IF(OR('[1]GIFTS data'!K32=\"4. Proactive Programme\",'[1]GIFTS data'!K32=\"3. Regular Grants Programme\"),\"No\",\"Yes\")","v":"Yes"},{"$f":"RIGHT('[1]GIFTS data'!K32,LEN('[1]GIFTS data'!K32)-3)","v":"Main Grants Programme"},{"$f":"'[1]Transformation sheet'!$B$8","v":"GB-CHC-274100"},{"$f":"'[1]Transformation sheet'!$B$9","v":"The Clothworkers Foundation"},"https://www.clothworkersfoundation.org.uk/",{"$f":"'[1]Transformation sheet'!$B$11","v":"2019-05-31"},{"$f":"IF(OR('[1]GIFTS data'!K32=\"4. Proactive Programme\",'[1]GIFTS data'!K32=\"3. Regular Grants Programme\"),\"Revenue\",\"Capital\")","v":"Capital"}]
[{"$f":"CONCATENATE('[1]Transformation sheet'!$B$1,'[1]GIFTS data'!A33)","v":"360G-ClothworkersFdn-200805140.03"},{"$f":"'[1]GIFTS data'!A33","v":200805140.03},{"$f":"CONCATENATE(\"Grant to \",'[1]GIFTS data'!F33)","v":"Grant to Blind Aid"},{"$f":"'[1]GIFTS data'!B33","v":"Grants for disadvantaged visually-impaired people"},{"$f":"'[1]Transformation sheet'!$B$2","v":"GBP"},{"$f":"'[1]GIFTS data'!C33","v":15000},{"$f":"'[1]GIFTS data'!D33","v":"2018-03-27"},{"$f":"IF(LEFT('[1]GIFTS data'!G33,3)=\"SC0\",\"GB-SC-\"&'[1]GIFTS data'!G33,IF(LEN('[1]GIFTS data'!G33)=8,\"GB-COH-\"&'[1]GIFTS data'!G33,IF(LEFT('[1]GIFTS data'!G33,1)=\"X\",\"GB-REV-\"&'[1]GIFTS data'!G33,IF(AND(LEN('[1]GIFTS data'!G33)=7,LEFT('[1]GIFTS data'!G33,1)=\"1\"),\"GB-CHC-\"&'[1]GIFTS data'!G33,IF(LEN('[1]GIFTS data'!G33)=7,\"GB-COH-0\"&'[1]GIFTS data'!G33,IF(LEFT('[1]GIFTS data'!G33,3)=\"NIC\",\"GB-NIC-\"&RIGHT('[1]GIFTS data'!G33,LEN('[1]GIFTS data'!G33)-3),IF(LEN('[1]GIFTS data'!G33)=6,\"GB-CHC-\"&'[1]GIFTS data'!G33,'[1]Transformation sheet'!$B$3&'[1]GIFTS data'!E33)))))))","v":"GB-CHC-262119"},{"$f":"'[1]GIFTS data'!F33","v":"Blind Aid"},{"$f":"'[1]GIFTS data'!G33","v":262119},{"$f":"'[1]GIFTS data'!J33","v":" "},{"$f":"'[1]GIFTS data'!I33","v":"SE1 3UB"},{"$f":"'[1]GIFTS data'!H33","v":"National"},{"$f":"IF(OR('[1]GIFTS data'!K33=\"4. Proactive Programme\",'[1]GIFTS data'!K33=\"3. Regular Grants Programme\"),\"No\",\"Yes\")","v":"No"},{"$f":"RIGHT('[1]GIFTS data'!K33,LEN('[1]GIFTS data'!K33)-3)","v":"Regular Grants Programme"},{"$f":"'[1]Transformation sheet'!$B$8","v":"GB-CHC-274100"},{"$f":"'[1]Transformation sheet'!$B$9","v":"The Clothworkers Foundation"},"https://www.clothworkersfoundation.org.uk/",{"$f":"'[1]Transformation sheet'!$B$11","v":"2019-05-31"},{"$f":"IF(OR('[1]GIFTS data'!K33=\"4. Proactive Programme\",'[1]GIFTS data'!K33=\"3. Regular Grants Programme\"),\"Revenue\",\"Capital\")","v":"Revenue"}]
[{"$f":"CONCATENATE('[1]Transformation sheet'!$B$1,'[1]GIFTS data'!A34)","v":"360G-ClothworkersFdn-200805140.02"},{"$f":"'[1]GIFTS data'!A34","v":200805140.02000001},{"$f":"CONCATENATE(\"Grant to \",'[1]GIFTS data'!F34)","v":"Grant to Blind Aid"},{"$f":"'[1]GIFTS data'!B34","v":"Grants for disadvantaged visually-impaired people"},{"$f":"'[1]Transformation sheet'!$B$2","v":"GBP"},{"$f":"'[1]GIFTS data'!C34","v":25000},{"$f":"'[1]GIFTS data'!D34","v":"2018-02-08"},{"$f":"IF(LEFT('[1]GIFTS data'!G34,3)=\"SC0\",\"GB-SC-\"&'[1]GIFTS data'!G34,IF(LEN('[1]GIFTS data'!G34)=8,\"GB-COH-\"&'[1]GIFTS data'!G34,IF(LEFT('[1]GIFTS data'!G34,1)=\"X\",\"GB-REV-\"&'[1]GIFTS data'!G34,IF(AND(LEN('[1]GIFTS data'!G34)=7,LEFT('[1]GIFTS data'!G34,1)=\"1\"),\"GB-CHC-\"&'[1]GIFTS data'!G34,IF(LEN('[1]GIFTS data'!G34)=7,\"GB-COH-0\"&'[1]GIFTS data'!G34,IF(LEFT('[1]GIFTS data'!G34,3)=\"NIC\",\"GB-NIC-\"&RIGHT('[1]GIFTS data'!G34,LEN('[1]GIFTS data'!G34)-3),IF(LEN('[1]GIFTS data'!G34)=6,\"GB-CHC-\"&'[1]GIFTS data'!G34,'[1]Transformation sheet'!$B$3&'[1]GIFTS data'!E34)))))))","v":"GB-CHC-262119"},{"$f":"'[1]GIFTS data'!F34","v":"Blind Aid"},{"$f":"'[1]GIFTS data'!G34","v":262119},{"$f":"'[1]GIFTS data'!J34","v":" "},{"$f":"'[1]GIFTS data'!I34","v":"SE1 3UB"},{"$f":"'[1]GIFTS data'!H34","v":"National"},{"$f":"IF(OR('[1]GIFTS data'!K34=\"4. Proactive Programme\",'[1]GIFTS data'!K34=\"3. Regular Grants Programme\"),\"No\",\"Yes\")","v":"No"},{"$f":"RIGHT('[1]GIFTS data'!K34,LEN('[1]GIFTS data'!K34)-3)","v":"Regular Grants Programme"},{"$f":"'[1]Transformation sheet'!$B$8","v":"GB-CHC-274100"},{"$f":"'[1]Transformation sheet'!$B$9","v":"The Clothworkers Foundation"},"https://www.clothworkersfoundation.org.uk/",{"$f":"'[1]Transformation sheet'!$B$11","v":"2019-05-31"},{"$f":"IF(OR('[1]GIFTS data'!K34=\"4. Proactive Programme\",'[1]GIFTS data'!K34=\"3. Regular Grants Programme\"),\"Revenue\",\"Capital\")","v":"Revenue"}]
[{"$f":"CONCATENATE('[1]Transformation sheet'!$B$1,'[1]GIFTS data'!A35)","v":"360G-ClothworkersFdn-201700661"},{"$f":"'[1]GIFTS data'!A35","v":201700661},{"$f":"CONCATENATE(\"Grant to \",'[1]GIFTS data'!F35)","v":"Grant to Bonny Downs Community Association"},{"$f":"'[1]GIFTS data'!B35","v":"purchase of a minibus for a charity which works with disadvantaged minority communtities in Newham"},{"$f":"'[1]Transformation sheet'!$B$2","v":"GBP"},{"$f":"'[1]GIFTS data'!C35","v":15000},{"$f":"'[1]GIFTS data'!D35","v":"2018-07-17"},{"$f":"IF(LEFT('[1]GIFTS data'!G35,3)=\"SC0\",\"GB-SC-\"&'[1]GIFTS data'!G35,IF(LEN('[1]GIFTS data'!G35)=8,\"GB-COH-\"&'[1]GIFTS data'!G35,IF(LEFT('[1]GIFTS data'!G35,1)=\"X\",\"GB-REV-\"&'[1]GIFTS data'!G35,IF(AND(LEN('[1]GIFTS data'!G35)=7,LEFT('[1]GIFTS data'!G35,1)=\"1\"),\"GB-CHC-\"&'[1]GIFTS data'!G35,IF(LEN('[1]GIFTS data'!G35)=7,\"GB-COH-0\"&'[1]GIFTS data'!G35,IF(LEFT('[1]GIFTS data'!G35,3)=\"NIC\",\"GB-NIC-\"&RIGHT('[1]GIFTS data'!G35,LEN('[1]GIFTS data'!G35)-3),IF(LEN('[1]GIFTS data'!G35)=6,\"GB-CHC-\"&'[1]GIFTS data'!G35,'[1]Transformation sheet'!$B$3&'[1]GIFTS data'!E35)))))))","v":"GB-CHC-1071625"},{"$f":"'[1]GIFTS data'!F35","v":"Bonny Downs Community Association"},{"$f":"'[1]GIFTS data'!G35","v":1071625},{"$f":"'[1]GIFTS data'!J35","v":"East Ham"},{"$f":"'[1]GIFTS data'!I35","v":"E6 6DQ"},{"$f":"'[1]GIFTS data'!H35","v":"Greater London"},{"$f":"IF(OR('[1]GIFTS data'!K35=\"4. Proactive Programme\",'[1]GIFTS data'!K35=\"3. Regular Grants Programme\"),\"No\",\"Yes\")","v":"Yes"},{"$f":"RIGHT('[1]GIFTS data'!K35,LEN('[1]GIFTS data'!K35)-3)","v":"Main Grants Programme"},{"$f":"'[1]Transformation sheet'!$B$8","v":"GB-CHC-274100"},{"$f":"'[1]Transformation sheet'!$B$9","v":"The Clothworkers Foundation"},"https://www.clothworkersfoundation.org.uk/",{"$f":"'[1]Transformation sheet'!$B$11","v":"2019-05-31"},{"$f":"IF(OR('[1]GIFTS data'!K35=\"4. Proactive Programme\",'[1]GIFTS data'!K35=\"3. Regular Grants Programme\"),\"Revenue\",\"Capital\")","v":"Capital"}]
[{"$f":"CONCATENATE('[1]Transformation sheet'!$B$1,'[1]GIFTS data'!A36)","v":"360G-ClothworkersFdn-201700475"},{"$f":"'[1]GIFTS data'!A36","v":201700475},{"$f":"CONCATENATE(\"Grant to \",'[1]GIFTS data'!F36)","v":"Grant to BOUNCE BACK FOUNDATION"},{"$f":"'[1]GIFTS data'!B36","v":"purchase a vehicle for a charity which works with prisoners and ex-offenders in London"},{"$f":"'[1]Transformation sheet'!$B$2","v":"GBP"},{"$f":"'[1]GIFTS data'!C36","v":23000},{"$f":"'[1]GIFTS data'!D36","v":"2018-05-16"},{"$f":"IF(LEFT('[1]GIFTS data'!G36,3)=\"SC0\",\"GB-SC-\"&'[1]GIFTS data'!G36,IF(LEN('[1]GIFTS data'!G36)=8,\"GB-COH-\"&'[1]GIFTS data'!G36,IF(LEFT('[1]GIFTS data'!G36,1)=\"X\",\"GB-REV-\"&'[1]GIFTS data'!G36,IF(AND(LEN('[1]GIFTS data'!G36)=7,LEFT('[1]GIFTS data'!G36,1)=\"1\"),\"GB-CHC-\"&'[1]GIFTS data'!G36,IF(LEN('[1]GIFTS data'!G36)=7,\"GB-COH-0\"&'[1]GIFTS data'!G36,IF(LEFT('[1]GIFTS data'!G36,3)=\"NIC\",\"GB-NIC-\"&RIGHT('[1]GIFTS data'!G36,LEN('[1]GIFTS data'!G36)-3),IF(LEN('[1]GIFTS data'!G36)=6,\"GB-CHC-\"&'[1]GIFTS data'!G36,'[1]Transformation sheet'!$B$3&'[1]GIFTS data'!E36)))))))","v":"GB-CHC-1144297"},{"$f":"'[1]GIFTS data'!F36","v":"BOUNCE BACK FOUNDATION"},{"$f":"'[1]GIFTS data'!G36","v":1144297},{"$f":"'[1]GIFTS data'!J36","v":"London"},{"$f":"'[1]GIFTS data'!I36","v":"SW9 8PQ"},{"$f":"'[1]GIFTS data'!H36","v":"Greater London"},{"$f":"IF(OR('[1]GIFTS data'!K36=\"4. Proactive Programme\",'[1]GIFTS data'!K36=\"3. Regular Grants Programme\"),\"No\",\"Yes\")","v":"Yes"},{"$f":"RIGHT('[1]GIFTS data'!K36,LEN('[1]GIFTS data'!K36)-3)","v":"Main Grants Programme"},{"$f":"'[1]Transformation sheet'!$B$8","v":"GB-CHC-274100"},{"$f":"'[1]Transformation sheet'!$B$9","v":"The Clothworkers Foundation"},"https://www.clothworkersfoundation.org.uk/",{"$f":"'[1]Transformation sheet'!$B$11","v":"2019-05-31"},{"$f":"IF(OR('[1]GIFTS data'!K36=\"4. Proactive Programme\",'[1]GIFTS data'!K36=\"3. Regular Grants Programme\"),\"Revenue\",\"Capital\")","v":"Capital"}]
[{"$f":"CONCATENATE('[1]Transformation sheet'!$B$1,'[1]GIFTS data'!A37)","v":"360G-ClothworkersFdn-201700805"},{"$f":"'[1]GIFTS data'!A37","v":201700805},{"$f":"CONCATENATE(\"Grant to \",'[1]GIFTS data'!F37)","v":"Grant to Brain and Spinal Injury Centre"},{"$f":"'[1]GIFTS data'!B37","v":"purchase of a piece of virtual reality rehabilitation equipment for a charity which works with people with disabilities in Salford"},{"$f":"'[1]Transformation sheet'!$B$2","v":"GBP"},{"$f":"'[1]GIFTS data'!C37","v":23500},{"$f":"'[1]GIFTS data'!D37","v":"2018-10-16"},{"$f":"IF(LEFT('[1]GIFTS data'!G37,3)=\"SC0\",\"GB-SC-\"&'[1]GIFTS data'!G37,IF(LEN('[1]GIFTS data'!G37)=8,\"GB-COH-\"&'[1]GIFTS data'!G37,IF(LEFT('[1]GIFTS data'!G37,1)=\"X\",\"GB-REV-\"&'[1]GIFTS data'!G37,IF(AND(LEN('[1]GIFTS data'!G37)=7,LEFT('[1]GIFTS data'!G37,1)=\"1\"),\"GB-CHC-\"&'[1]GIFTS data'!G37,IF(LEN('[1]GIFTS data'!G37)=7,\"GB-COH-0\"&'[1]GIFTS data'!G37,IF(LEFT('[1]GIFTS data'!G37,3)=\"NIC\",\"GB-NIC-\"&RIGHT('[1]GIFTS data'!G37,LEN('[1]GIFTS data'!G37)-3),IF(LEN('[1]GIFTS data'!G37)=6,\"GB-CHC-\"&'[1]GIFTS data'!G37,'[1]Transformation sheet'!$B$3&'[1]GIFTS data'!E37)))))))","v":"GB-CHC-518806"},{"$f":"'[1]GIFTS data'!F37","v":"Brain and Spinal Injury Centre"},{"$f":"'[1]GIFTS data'!G37","v":518806},{"$f":"'[1]GIFTS data'!J37","v":"Salford"},{"$f":"'[1]GIFTS data'!I37","v":"M5 5AP"},{"$f":"'[1]GIFTS data'!H37","v":"North West"},{"$f":"IF(OR('[1]GIFTS data'!K37=\"4. Proactive Programme\",'[1]GIFTS data'!K37=\"3. Regular Grants Programme\"),\"No\",\"Yes\")","v":"Yes"},{"$f":"RIGHT('[1]GIFTS data'!K37,LEN('[1]GIFTS data'!K37)-3)","v":"Main Grants Programme"},{"$f":"'[1]Transformation sheet'!$B$8","v":"GB-CHC-274100"},{"$f":"'[1]Transformation sheet'!$B$9","v":"The Clothworkers Foundation"},"https://www.clothworkersfoundation.org.uk/",{"$f":"'[1]Transformation sheet'!$B$11","v":"2019-05-31"},{"$f":"IF(OR('[1]GIFTS data'!K37=\"4. Proactive Programme\",'[1]GIFTS data'!K37=\"3. Regular Grants Programme\"),\"Revenue\",\"Capital\")","v":"Capital"}]
[{"$f":"CONCATENATE('[1]Transformation sheet'!$B$1,'[1]GIFTS data'!A38)","v":"360G-ClothworkersFdn-201700935"},{"$f":"'[1]GIFTS data'!A38","v":201700935},{"$f":"CONCATENATE(\"Grant to \",'[1]GIFTS data'!F38)","v":"Grant to breakthru"},{"$f":"'[1]GIFTS data'!B38","v":"purchase of office furniture and equipment for a charity which works with disadvantaged minority communities in the West Midlands"},{"$f":"'[1]Transformation sheet'!$B$2","v":"GBP"},{"$f":"'[1]GIFTS data'!C38","v":5000},{"$f":"'[1]GIFTS data'!D38","v":"2018-12-07"},{"$f":"IF(LEFT('[1]GIFTS data'!G38,3)=\"SC0\",\"GB-SC-\"&'[1]GIFTS data'!G38,IF(LEN('[1]GIFTS data'!G38)=8,\"GB-COH-\"&'[1]GIFTS data'!G38,IF(LEFT('[1]GIFTS data'!G38,1)=\"X\",\"GB-REV-\"&'[1]GIFTS data'!G38,IF(AND(LEN('[1]GIFTS data'!G38)=7,LEFT('[1]GIFTS data'!G38,1)=\"1\"),\"GB-CHC-\"&'[1]GIFTS data'!G38,IF(LEN('[1]GIFTS data'!G38)=7,\"GB-COH-0\"&'[1]GIFTS data'!G38,IF(LEFT('[1]GIFTS data'!G38,3)=\"NIC\",\"GB-NIC-\"&RIGHT('[1]GIFTS data'!G38,LEN('[1]GIFTS data'!G38)-3),IF(LEN('[1]GIFTS data'!G38)=6,\"GB-CHC-\"&'[1]GIFTS data'!G38,'[1]Transformation sheet'!$B$3&'[1]GIFTS data'!E38)))))))","v":"GB-COH-10536772"},{"$f":"'[1]GIFTS data'!F38","v":"breakthru"},{"$f":"'[1]GIFTS data'!G38","v":10536772},{"$f":"'[1]GIFTS data'!J38","v":"Tipton"},{"$f":"'[1]GIFTS data'!I38","v":"DY4 0HU"},{"$f":"'[1]GIFTS data'!H38","v":"West Midlands"},{"$f":"IF(OR('[1]GIFTS data'!K38=\"4. Proactive Programme\",'[1]GIFTS data'!K38=\"3. Regular Grants Programme\"),\"No\",\"Yes\")","v":"Yes"},{"$f":"RIGHT('[1]GIFTS data'!K38,LEN('[1]GIFTS data'!K38)-3)","v":"Small Grants Programme"},{"$f":"'[1]Transformation sheet'!$B$8","v":"GB-CHC-274100"},{"$f":"'[1]Transformation sheet'!$B$9","v":"The Clothworkers Foundation"},"https://www.clothworkersfoundation.org.uk/",{"$f":"'[1]Transformation sheet'!$B$11","v":"2019-05-31"},{"$f":"IF(OR('[1]GIFTS data'!K38=\"4. Proactive Programme\",'[1]GIFTS data'!K38=\"3. Regular Grants Programme\"),\"Revenue\",\"Capital\")","v":"Capital"}]
[{"$f":"CONCATENATE('[1]Transformation sheet'!$B$1,'[1]GIFTS data'!A39)","v":"360G-ClothworkersFdn-201700411"},{"$f":"'[1]GIFTS data'!A39","v":201700411},{"$f":"CONCATENATE(\"Grant to \",'[1]GIFTS data'!F39)","v":"Grant to Bridgeton Citizens Advice Bureau"},{"$f":"'[1]GIFTS data'!B39","v":"refurbishment of a building for a charity which works with disadvantaged minority communities in Glasgow"},{"$f":"'[1]Transformation sheet'!$B$2","v":"GBP"},{"$f":"'[1]GIFTS data'!C39","v":25000},{"$f":"'[1]GIFTS data'!D39","v":"2018-02-08"},{"$f":"IF(LEFT('[1]GIFTS data'!G39,3)=\"SC0\",\"GB-SC-\"&'[1]GIFTS data'!G39,IF(LEN('[1]GIFTS data'!G39)=8,\"GB-COH-\"&'[1]GIFTS data'!G39,IF(LEFT('[1]GIFTS data'!G39,1)=\"X\",\"GB-REV-\"&'[1]GIFTS data'!G39,IF(AND(LEN('[1]GIFTS data'!G39)=7,LEFT('[1]GIFTS data'!G39,1)=\"1\"),\"GB-CHC-\"&'[1]GIFTS data'!G39,IF(LEN('[1]GIFTS data'!G39)=7,\"GB-COH-0\"&'[1]GIFTS data'!G39,IF(LEFT('[1]GIFTS data'!G39,3)=\"NIC\",\"GB-NIC-\"&RIGHT('[1]GIFTS data'!G39,LEN('[1]GIFTS data'!G39)-3),IF(LEN('[1]GIFTS data'!G39)=6,\"GB-CHC-\"&'[1]GIFTS data'!G39,'[1]Transformation sheet'!$B$3&'[1]GIFTS data'!E39)))))))","v":"GB-SC-SC000930"},{"$f":"'[1]GIFTS data'!F39","v":"Bridgeton Citizens Advice Bureau"},{"$f":"'[1]GIFTS data'!G39","v":"SC000930"},{"$f":"'[1]GIFTS data'!J39","v":"Glasgow"},{"$f":"'[1]GIFTS data'!I39","v":"G40 1QB"},{"$f":"'[1]GIFTS data'!H39","v":"Scotland"},{"$f":"IF(OR('[1]GIFTS data'!K39=\"4. Proactive Programme\",'[1]GIFTS data'!K39=\"3. Regular Grants Programme\"),\"No\",\"Yes\")","v":"Yes"},{"$f":"RIGHT('[1]GIFTS data'!K39,LEN('[1]GIFTS data'!K39)-3)","v":"Main Grants Programme"},{"$f":"'[1]Transformation sheet'!$B$8","v":"GB-CHC-274100"},{"$f":"'[1]Transformation sheet'!$B$9","v":"The Clothworkers Foundation"},"https://www.clothworkersfoundation.org.uk/",{"$f":"'[1]Transformation sheet'!$B$11","v":"2019-05-31"},{"$f":"IF(OR('[1]GIFTS data'!K39=\"4. Proactive Programme\",'[1]GIFTS data'!K39=\"3. Regular Grants Programme\"),\"Revenue\",\"Capital\")","v":"Capital"}]
[{"$f":"CONCATENATE('[1]Transformation sheet'!$B$1,'[1]GIFTS data'!A40)","v":"360G-ClothworkersFdn-201700589"},{"$f":"'[1]GIFTS data'!A40","v":201700589},{"$f":"CONCATENATE(\"Grant to \",'[1]GIFTS data'!F40)","v":"Grant to Bridgwater Unit 517 of the Sea Cadet Corps"},{"$f":"'[1]GIFTS data'!B40","v":"construction of classrooms for a charity which works with disadvantaged young people in Somerset"},{"$f":"'[1]Transformation sheet'!$B$2","v":"GBP"},{"$f":"'[1]GIFTS data'!C40","v":10000},{"$f":"'[1]GIFTS data'!D40","v":"2018-04-11"},{"$f":"IF(LEFT('[1]GIFTS data'!G40,3)=\"SC0\",\"GB-SC-\"&'[1]GIFTS data'!G40,IF(LEN('[1]GIFTS data'!G40)=8,\"GB-COH-\"&'[1]GIFTS data'!G40,IF(LEFT('[1]GIFTS data'!G40,1)=\"X\",\"GB-REV-\"&'[1]GIFTS data'!G40,IF(AND(LEN('[1]GIFTS data'!G40)=7,LEFT('[1]GIFTS data'!G40,1)=\"1\"),\"GB-CHC-\"&'[1]GIFTS data'!G40,IF(LEN('[1]GIFTS data'!G40)=7,\"GB-COH-0\"&'[1]GIFTS data'!G40,IF(LEFT('[1]GIFTS data'!G40,3)=\"NIC\",\"GB-NIC-\"&RIGHT('[1]GIFTS data'!G40,LEN('[1]GIFTS data'!G40)-3),IF(LEN('[1]GIFTS data'!G40)=6,\"GB-CHC-\"&'[1]GIFTS data'!G40,'[1]Transformation sheet'!$B$3&'[1]GIFTS data'!E40)))))))","v":"GB-CHC-304495"},{"$f":"'[1]GIFTS data'!F40","v":"Bridgwater Unit 517 of the Sea Cadet Corps"},{"$f":"'[1]GIFTS data'!G40","v":304495},{"$f":"'[1]GIFTS data'!J40","v":"Bridgwater"},{"$f":"'[1]GIFTS data'!I40","v":"TA6 3FJ"},{"$f":"'[1]GIFTS data'!H40","v":"South West"},{"$f":"IF(OR('[1]GIFTS data'!K40=\"4. Proactive Programme\",'[1]GIFTS data'!K40=\"3. Regular Grants Programme\"),\"No\",\"Yes\")","v":"Yes"},{"$f":"RIGHT('[1]GIFTS data'!K40,LEN('[1]GIFTS data'!K40)-3)","v":"Small Grants Programme"},{"$f":"'[1]Transformation sheet'!$B$8","v":"GB-CHC-274100"},{"$f":"'[1]Transformation sheet'!$B$9","v":"The Clothworkers Foundation"},"https://www.clothworkersfoundation.org.uk/",{"$f":"'[1]Transformation sheet'!$B$11","v":"2019-05-31"},{"$f":"IF(OR('[1]GIFTS data'!K40=\"4. Proactive Programme\",'[1]GIFTS data'!K40=\"3. Regular Grants Programme\"),\"Revenue\",\"Capital\")","v":"Capital"}]
[{"$f":"CONCATENATE('[1]Transformation sheet'!$B$1,'[1]GIFTS data'!A41)","v":"360G-ClothworkersFdn-201700799"},{"$f":"'[1]GIFTS data'!A41","v":201700799},{"$f":"CONCATENATE(\"Grant to \",'[1]GIFTS data'!F41)","v":"Grant to British Stammering Association"},{"$f":"'[1]GIFTS data'!B41","v":"refurbishment of offices for a charity which works with people with disabilities nationally"},{"$f":"'[1]Transformation sheet'!$B$2","v":"GBP"},{"$f":"'[1]GIFTS data'!C41","v":10000},{"$f":"'[1]GIFTS data'!D41","v":"2018-08-31"},{"$f":"IF(LEFT('[1]GIFTS data'!G41,3)=\"SC0\",\"GB-SC-\"&'[1]GIFTS data'!G41,IF(LEN('[1]GIFTS data'!G41)=8,\"GB-COH-\"&'[1]GIFTS data'!G41,IF(LEFT('[1]GIFTS data'!G41,1)=\"X\",\"GB-REV-\"&'[1]GIFTS data'!G41,IF(AND(LEN('[1]GIFTS data'!G41)=7,LEFT('[1]GIFTS data'!G41,1)=\"1\"),\"GB-CHC-\"&'[1]GIFTS data'!G41,IF(LEN('[1]GIFTS data'!G41)=7,\"GB-COH-0\"&'[1]GIFTS data'!G41,IF(LEFT('[1]GIFTS data'!G41,3)=\"NIC\",\"GB-NIC-\"&RIGHT('[1]GIFTS data'!G41,LEN('[1]GIFTS data'!G41)-3),IF(LEN('[1]GIFTS data'!G41)=6,\"GB-CHC-\"&'[1]GIFTS data'!G41,'[1]Transformation sheet'!$B$3&'[1]GIFTS data'!E41)))))))","v":"GB-CHC-1089967"},{"$f":"'[1]GIFTS data'!F41","v":"British Stammering Association"},{"$f":"'[1]GIFTS data'!G41","v":1089967},{"$f":"'[1]GIFTS data'!J41","v":"London"},{"$f":"'[1]GIFTS data'!I41","v":"E2 9PJ"},{"$f":"'[1]GIFTS data'!H41","v":"Greater London"},{"$f":"IF(OR('[1]GIFTS data'!K41=\"4. Proactive Programme\",'[1]GIFTS data'!K41=\"3. Regular Grants Programme\"),\"No\",\"Yes\")","v":"Yes"},{"$f":"RIGHT('[1]GIFTS data'!K41,LEN('[1]GIFTS data'!K41)-3)","v":"Small Grants Programme"},{"$f":"'[1]Transformation sheet'!$B$8","v":"GB-CHC-274100"},{"$f":"'[1]Transformation sheet'!$B$9","v":"The Clothworkers Foundation"},"https://www.clothworkersfoundation.org.uk/",{"$f":"'[1]Transformation sheet'!$B$11","v":"2019-05-31"},{"$f":"IF(OR('[1]GIFTS data'!K41=\"4. Proactive Programme\",'[1]GIFTS data'!K41=\"3. Regular Grants Programme\"),\"Revenue\",\"Capital\")","v":"Capital"}]
[{"$f":"CONCATENATE('[1]Transformation sheet'!$B$1,'[1]GIFTS data'!A42)","v":"360G-ClothworkersFdn-201700499"},{"$f":"'[1]GIFTS data'!A42","v":201700499},{"$f":"CONCATENATE(\"Grant to \",'[1]GIFTS data'!F42)","v":"Grant to Brookfields School Association"},{"$f":"'[1]GIFTS data'!B42","v":"purchase of a minibus for a charity which works with disabled people in Reading"},{"$f":"'[1]Transformation sheet'!$B$2","v":"GBP"},{"$f":"'[1]GIFTS data'!C42","v":15000},{"$f":"'[1]GIFTS data'!D42","v":"2018-01-30"},{"$f":"IF(LEFT('[1]GIFTS data'!G42,3)=\"SC0\",\"GB-SC-\"&'[1]GIFTS data'!G42,IF(LEN('[1]GIFTS data'!G42)=8,\"GB-COH-\"&'[1]GIFTS data'!G42,IF(LEFT('[1]GIFTS data'!G42,1)=\"X\",\"GB-REV-\"&'[1]GIFTS data'!G42,IF(AND(LEN('[1]GIFTS data'!G42)=7,LEFT('[1]GIFTS data'!G42,1)=\"1\"),\"GB-CHC-\"&'[1]GIFTS data'!G42,IF(LEN('[1]GIFTS data'!G42)=7,\"GB-COH-0\"&'[1]GIFTS data'!G42,IF(LEFT('[1]GIFTS data'!G42,3)=\"NIC\",\"GB-NIC-\"&RIGHT('[1]GIFTS data'!G42,LEN('[1]GIFTS data'!G42)-3),IF(LEN('[1]GIFTS data'!G42)=6,\"GB-CHC-\"&'[1]GIFTS data'!G42,'[1]Transformation sheet'!$B$3&'[1]GIFTS data'!E42)))))))","v":"GB-CHC-273594"},{"$f":"'[1]GIFTS data'!F42","v":"Brookfields School Association"},{"$f":"'[1]GIFTS data'!G42","v":273594},{"$f":"'[1]GIFTS data'!J42","v":"Reading"},{"$f":"'[1]GIFTS data'!I42","v":"RG31 6SW"},{"$f":"'[1]GIFTS data'!H42","v":"South East"},{"$f":"IF(OR('[1]GIFTS data'!K42=\"4. Proactive Programme\",'[1]GIFTS data'!K42=\"3. Regular Grants Programme\"),\"No\",\"Yes\")","v":"Yes"},{"$f":"RIGHT('[1]GIFTS data'!K42,LEN('[1]GIFTS data'!K42)-3)","v":"Small Grants Programme"},{"$f":"'[1]Transformation sheet'!$B$8","v":"GB-CHC-274100"},{"$f":"'[1]Transformation sheet'!$B$9","v":"The Clothworkers Foundation"},"https://www.clothworkersfoundation.org.uk/",{"$f":"'[1]Transformation sheet'!$B$11","v":"2019-05-31"},{"$f":"IF(OR('[1]GIFTS data'!K42=\"4. Proactive Programme\",'[1]GIFTS data'!K42=\"3. Regular Grants Programme\"),\"Revenue\",\"Capital\")","v":"Capital"}]
[{"$f":"CONCATENATE('[1]Transformation sheet'!$B$1,'[1]GIFTS data'!A43)","v":"360G-ClothworkersFdn-201700483"},{"$f":"'[1]GIFTS data'!A43","v":201700483},{"$f":"CONCATENATE(\"Grant to \",'[1]GIFTS data'!F43)","v":"Grant to Build Charity"},{"$f":"'[1]GIFTS data'!B43","v":"purchase of garden equipment for a charity which works with disabled peple in Norwich"},{"$f":"'[1]Transformation sheet'!$B$2","v":"GBP"},{"$f":"'[1]GIFTS data'!C43","v":3700},{"$f":"'[1]GIFTS data'!D43","v":"2018-01-30"},{"$f":"IF(LEFT('[1]GIFTS data'!G43,3)=\"SC0\",\"GB-SC-\"&'[1]GIFTS data'!G43,IF(LEN('[1]GIFTS data'!G43)=8,\"GB-COH-\"&'[1]GIFTS data'!G43,IF(LEFT('[1]GIFTS data'!G43,1)=\"X\",\"GB-REV-\"&'[1]GIFTS data'!G43,IF(AND(LEN('[1]GIFTS data'!G43)=7,LEFT('[1]GIFTS data'!G43,1)=\"1\"),\"GB-CHC-\"&'[1]GIFTS data'!G43,IF(LEN('[1]GIFTS data'!G43)=7,\"GB-COH-0\"&'[1]GIFTS data'!G43,IF(LEFT('[1]GIFTS data'!G43,3)=\"NIC\",\"GB-NIC-\"&RIGHT('[1]GIFTS data'!G43,LEN('[1]GIFTS data'!G43)-3),IF(LEN('[1]GIFTS data'!G43)=6,\"GB-CHC-\"&'[1]GIFTS data'!G43,'[1]Transformation sheet'!$B$3&'[1]GIFTS data'!E43)))))))","v":"GB-CHC-1147395"},{"$f":"'[1]GIFTS data'!F43","v":"Build Charity"},{"$f":"'[1]GIFTS data'!G43","v":1147395},{"$f":"'[1]GIFTS data'!J43","v":"Norwich"},{"$f":"'[1]GIFTS data'!I43","v":"NR2 4SN"},{"$f":"'[1]GIFTS data'!H43","v":"East"},{"$f":"IF(OR('[1]GIFTS data'!K43=\"4. Proactive Programme\",'[1]GIFTS data'!K43=\"3. Regular Grants Programme\"),\"No\",\"Yes\")","v":"Yes"},{"$f":"RIGHT('[1]GIFTS data'!K43,LEN('[1]GIFTS data'!K43)-3)","v":"Small Grants Programme"},{"$f":"'[1]Transformation sheet'!$B$8","v":"GB-CHC-274100"},{"$f":"'[1]Transformation sheet'!$B$9","v":"The Clothworkers Foundation"},"https://www.clothworkersfoundation.org.uk/",{"$f":"'[1]Transformation sheet'!$B$11","v":"2019-05-31"},{"$f":"IF(OR('[1]GIFTS data'!K43=\"4. Proactive Programme\",'[1]GIFTS data'!K43=\"3. Regular Grants Programme\"),\"Revenue\",\"Capital\")","v":"Capital"}]
[{"$f":"CONCATENATE('[1]Transformation sheet'!$B$1,'[1]GIFTS data'!A44)","v":"360G-ClothworkersFdn-200805069.02"},{"$f":"'[1]GIFTS data'!A44","v":200805069.02000001},{"$f":"CONCATENATE(\"Grant to \",'[1]GIFTS data'!F44)","v":"Grant to Burma Star Association"},{"$f":"'[1]GIFTS data'!B44","v":"support for disadvantaged elderly UK veterans and their dependants (2018 grant)"},{"$f":"'[1]Transformation sheet'!$B$2","v":"GBP"},{"$f":"'[1]GIFTS data'!C44","v":20000},{"$f":"'[1]GIFTS data'!D44","v":"2018-02-08"},{"$f":"IF(LEFT('[1]GIFTS data'!G44,3)=\"SC0\",\"GB-SC-\"&'[1]GIFTS data'!G44,IF(LEN('[1]GIFTS data'!G44)=8,\"GB-COH-\"&'[1]GIFTS data'!G44,IF(LEFT('[1]GIFTS data'!G44,1)=\"X\",\"GB-REV-\"&'[1]GIFTS data'!G44,IF(AND(LEN('[1]GIFTS data'!G44)=7,LEFT('[1]GIFTS data'!G44,1)=\"1\"),\"GB-CHC-\"&'[1]GIFTS data'!G44,IF(LEN('[1]GIFTS data'!G44)=7,\"GB-COH-0\"&'[1]GIFTS data'!G44,IF(LEFT('[1]GIFTS data'!G44,3)=\"NIC\",\"GB-NIC-\"&RIGHT('[1]GIFTS data'!G44,LEN('[1]GIFTS data'!G44)-3),IF(LEN('[1]GIFTS data'!G44)=6,\"GB-CHC-\"&'[1]GIFTS data'!G44,'[1]Transformation sheet'!$B$3&'[1]GIFTS data'!E44)))))))","v":"GB-CHC-1043040"},{"$f":"'[1]GIFTS data'!F44","v":"Burma Star Association"},{"$f":"'[1]GIFTS data'!G44","v":1043040},{"$f":"'[1]GIFTS data'!J44","v":" "},{"$f":"'[1]GIFTS data'!I44","v":"SW1W 0DH"},{"$f":"'[1]GIFTS data'!H44","v":"National"},{"$f":"IF(OR('[1]GIFTS data'!K44=\"4. Proactive Programme\",'[1]GIFTS data'!K44=\"3. Regular Grants Programme\"),\"No\",\"Yes\")","v":"No"},{"$f":"RIGHT('[1]GIFTS data'!K44,LEN('[1]GIFTS data'!K44)-3)","v":"Regular Grants Programme"},{"$f":"'[1]Transformation sheet'!$B$8","v":"GB-CHC-274100"},{"$f":"'[1]Transformation sheet'!$B$9","v":"The Clothworkers Foundation"},"https://www.clothworkersfoundation.org.uk/",{"$f":"'[1]Transformation sheet'!$B$11","v":"2019-05-31"},{"$f":"IF(OR('[1]GIFTS data'!K44=\"4. Proactive Programme\",'[1]GIFTS data'!K44=\"3. Regular Grants Programme\"),\"Revenue\",\"Capital\")","v":"Revenue"}]
[{"$f":"CONCATENATE('[1]Transformation sheet'!$B$1,'[1]GIFTS data'!A45)","v":"360G-ClothworkersFdn-201700563"},{"$f":"'[1]GIFTS data'!A45","v":201700563},{"$f":"CONCATENATE(\"Grant to \",'[1]GIFTS data'!F45)","v":"Grant to Burton Street Foundation"},{"$f":"'[1]GIFTS data'!B45","v":"new server and IT equipment for a charity which works with learning disabilities in Sheffield"},{"$f":"'[1]Transformation sheet'!$B$2","v":"GBP"},{"$f":"'[1]GIFTS data'!C45","v":13000},{"$f":"'[1]GIFTS data'!D45","v":"2018-05-16"},"GB-MPR-28699R",{"$f":"'[1]GIFTS data'!F45","v":"Burton Street Foundation"},{"$f":"'[1]GIFTS data'!G45","v":"28699R"},{"$f":"'[1]GIFTS data'!J45","v":"Sheffield"},{"$f":"'[1]GIFTS data'!I45","v":"S6 2HH"},{"$f":"'[1]GIFTS data'!H45","v":"Yorks & Humberside"},{"$f":"IF(OR('[1]GIFTS data'!K45=\"4. Proactive Programme\",'[1]GIFTS data'!K45=\"3. Regular Grants Programme\"),\"No\",\"Yes\")","v":"Yes"},{"$f":"RIGHT('[1]GIFTS data'!K45,LEN('[1]GIFTS data'!K45)-3)","v":"Main Grants Programme"},{"$f":"'[1]Transformation sheet'!$B$8","v":"GB-CHC-274100"},{"$f":"'[1]Transformation sheet'!$B$9","v":"The Clothworkers Foundation"},"https://www.clothworkersfoundation.org.uk/",{"$f":"'[1]Transformation sheet'!$B$11","v":"2019-05-31"},{"$f":"IF(OR('[1]GIFTS data'!K45=\"4. Proactive Programme\",'[1]GIFTS data'!K45=\"3. Regular Grants Programme\"),\"Revenue\",\"Capital\")","v":"Capital"}]
[{"$f":"CONCATENATE('[1]Transformation sheet'!$B$1,'[1]GIFTS data'!A46)","v":"360G-ClothworkersFdn-200804936.03"},{"$f":"'[1]GIFTS data'!A46","v":200804936.03},{"$f":"CONCATENATE(\"Grant to \",'[1]GIFTS data'!F46)","v":"Grant to Buttle UK"},{"$f":"'[1]GIFTS data'!B46","v":"Towards a small grants programme supporting families of disadvantaged and vulnerable children"},{"$f":"'[1]Transformation sheet'!$B$2","v":"GBP"},{"$f":"'[1]GIFTS data'!C46","v":35000},{"$f":"'[1]GIFTS data'!D46","v":"2018-11-29"},{"$f":"IF(LEFT('[1]GIFTS data'!G46,3)=\"SC0\",\"GB-SC-\"&'[1]GIFTS data'!G46,IF(LEN('[1]GIFTS data'!G46)=8,\"GB-COH-\"&'[1]GIFTS data'!G46,IF(LEFT('[1]GIFTS data'!G46,1)=\"X\",\"GB-REV-\"&'[1]GIFTS data'!G46,IF(AND(LEN('[1]GIFTS data'!G46)=7,LEFT('[1]GIFTS data'!G46,1)=\"1\"),\"GB-CHC-\"&'[1]GIFTS data'!G46,IF(LEN('[1]GIFTS data'!G46)=7,\"GB-COH-0\"&'[1]GIFTS data'!G46,IF(LEFT('[1]GIFTS data'!G46,3)=\"NIC\",\"GB-NIC-\"&RIGHT('[1]GIFTS data'!G46,LEN('[1]GIFTS data'!G46)-3),IF(LEN('[1]GIFTS data'!G46)=6,\"GB-CHC-\"&'[1]GIFTS data'!G46,'[1]Transformation sheet'!$B$3&'[1]GIFTS data'!E46)))))))","v":"GB-CHC-313007"},{"$f":"'[1]GIFTS data'!F46","v":"Buttle UK"},{"$f":"'[1]GIFTS data'!G46","v":313007},{"$f":"'[1]GIFTS data'!J46","v":"London"},{"$f":"'[1]GIFTS data'!I46","v":"SW1P 1SB"},{"$f":"'[1]GIFTS data'!H46","v":"National"},{"$f":"IF(OR('[1]GIFTS data'!K46=\"4. Proactive Programme\",'[1]GIFTS data'!K46=\"3. Regular Grants Programme\"),\"No\",\"Yes\")","v":"No"},{"$f":"RIGHT('[1]GIFTS data'!K46,LEN('[1]GIFTS data'!K46)-3)","v":"Regular Grants Programme"},{"$f":"'[1]Transformation sheet'!$B$8","v":"GB-CHC-274100"},{"$f":"'[1]Transformation sheet'!$B$9","v":"The Clothworkers Foundation"},"https://www.clothworkersfoundation.org.uk/",{"$f":"'[1]Transformation sheet'!$B$11","v":"2019-05-31"},{"$f":"IF(OR('[1]GIFTS data'!K46=\"4. Proactive Programme\",'[1]GIFTS data'!K46=\"3. Regular Grants Programme\"),\"Revenue\",\"Capital\")","v":"Revenue"}]
[{"$f":"CONCATENATE('[1]Transformation sheet'!$B$1,'[1]GIFTS data'!A47)","v":"360G-ClothworkersFdn-201700431"},{"$f":"'[1]GIFTS data'!A47","v":201700431},{"$f":"CONCATENATE(\"Grant to \",'[1]GIFTS data'!F47)","v":"Grant to Camden Society"},{"$f":"'[1]GIFTS data'!B47","v":"renovation and refurbishment of a day centre for a charity which works with disabled people in London"},{"$f":"'[1]Transformation sheet'!$B$2","v":"GBP"},{"$f":"'[1]GIFTS data'!C47","v":25000},{"$f":"'[1]GIFTS data'!D47","v":"2018-02-08"},{"$f":"IF(LEFT('[1]GIFTS data'!G47,3)=\"SC0\",\"GB-SC-\"&'[1]GIFTS data'!G47,IF(LEN('[1]GIFTS data'!G47)=8,\"GB-COH-\"&'[1]GIFTS data'!G47,IF(LEFT('[1]GIFTS data'!G47,1)=\"X\",\"GB-REV-\"&'[1]GIFTS data'!G47,IF(AND(LEN('[1]GIFTS data'!G47)=7,LEFT('[1]GIFTS data'!G47,1)=\"1\"),\"GB-CHC-\"&'[1]GIFTS data'!G47,IF(LEN('[1]GIFTS data'!G47)=7,\"GB-COH-0\"&'[1]GIFTS data'!G47,IF(LEFT('[1]GIFTS data'!G47,3)=\"NIC\",\"GB-NIC-\"&RIGHT('[1]GIFTS data'!G47,LEN('[1]GIFTS data'!G47)-3),IF(LEN('[1]GIFTS data'!G47)=6,\"GB-CHC-\"&'[1]GIFTS data'!G47,'[1]Transformation sheet'!$B$3&'[1]GIFTS data'!E47)))))))","v":"GB-CHC-1044693"},{"$f":"'[1]GIFTS data'!F47","v":"Camden Society"},{"$f":"'[1]GIFTS data'!G47","v":1044693},{"$f":"'[1]GIFTS data'!J47","v":"London"},{"$f":"'[1]GIFTS data'!I47","v":"NW5 3AQ"},{"$f":"'[1]GIFTS data'!H47","v":"Greater London"},{"$f":"IF(OR('[1]GIFTS data'!K47=\"4. Proactive Programme\",'[1]GIFTS data'!K47=\"3. Regular Grants Programme\"),\"No\",\"Yes\")","v":"Yes"},{"$f":"RIGHT('[1]GIFTS data'!K47,LEN('[1]GIFTS data'!K47)-3)","v":"Main Grants Programme"},{"$f":"'[1]Transformation sheet'!$B$8","v":"GB-CHC-274100"},{"$f":"'[1]Transformation sheet'!$B$9","v":"The Clothworkers Foundation"},"https://www.clothworkersfoundation.org.uk/",{"$f":"'[1]Transformation sheet'!$B$11","v":"2019-05-31"},{"$f":"IF(OR('[1]GIFTS data'!K47=\"4. Proactive Programme\",'[1]GIFTS data'!K47=\"3. Regular Grants Programme\"),\"Revenue\",\"Capital\")","v":"Capital"}]
[{"$f":"CONCATENATE('[1]Transformation sheet'!$B$1,'[1]GIFTS data'!A48)","v":"360G-ClothworkersFdn-201700363"},{"$f":"'[1]GIFTS data'!A48","v":201700363},{"$f":"CONCATENATE(\"Grant to \",'[1]GIFTS data'!F48)","v":"Grant to Camphill Community Clanabogan"},{"$f":"'[1]GIFTS data'!B48","v":"construction of a building for a charity which works with disabled people in Omagh"},{"$f":"'[1]Transformation sheet'!$B$2","v":"GBP"},{"$f":"'[1]GIFTS data'!C48","v":23000},{"$f":"'[1]GIFTS data'!D48","v":"2018-02-08"},{"$f":"IF(LEFT('[1]GIFTS data'!G48,3)=\"SC0\",\"GB-SC-\"&'[1]GIFTS data'!G48,IF(LEN('[1]GIFTS data'!G48)=8,\"GB-COH-\"&'[1]GIFTS data'!G48,IF(LEFT('[1]GIFTS data'!G48,1)=\"X\",\"GB-REV-\"&'[1]GIFTS data'!G48,IF(AND(LEN('[1]GIFTS data'!G48)=7,LEFT('[1]GIFTS data'!G48,1)=\"1\"),\"GB-CHC-\"&'[1]GIFTS data'!G48,IF(LEN('[1]GIFTS data'!G48)=7,\"GB-COH-0\"&'[1]GIFTS data'!G48,IF(LEFT('[1]GIFTS data'!G48,3)=\"NIC\",\"GB-NIC-\"&RIGHT('[1]GIFTS data'!G48,LEN('[1]GIFTS data'!G48)-3),IF(LEN('[1]GIFTS data'!G48)=6,\"GB-CHC-\"&'[1]GIFTS data'!G48,'[1]Transformation sheet'!$B$3&'[1]GIFTS data'!E48)))))))","v":"GB-NIC-101781"},{"$f":"'[1]GIFTS data'!F48","v":"Camphill Community Clanabogan"},{"$f":"'[1]GIFTS data'!G48","v":"NIC101781"},{"$f":"'[1]GIFTS data'!J48","v":"Omagh"},{"$f":"'[1]GIFTS data'!I48","v":"BT78 1TJ"},{"$f":"'[1]GIFTS data'!H48","v":"Northern Ireland"},{"$f":"IF(OR('[1]GIFTS data'!K48=\"4. Proactive Programme\",'[1]GIFTS data'!K48=\"3. Regular Grants Programme\"),\"No\",\"Yes\")","v":"Yes"},{"$f":"RIGHT('[1]GIFTS data'!K48,LEN('[1]GIFTS data'!K48)-3)","v":"Main Grants Programme"},{"$f":"'[1]Transformation sheet'!$B$8","v":"GB-CHC-274100"},{"$f":"'[1]Transformation sheet'!$B$9","v":"The Clothworkers Foundation"},"https://www.clothworkersfoundation.org.uk/",{"$f":"'[1]Transformation sheet'!$B$11","v":"2019-05-31"},{"$f":"IF(OR('[1]GIFTS data'!K48=\"4. Proactive Programme\",'[1]GIFTS data'!K48=\"3. Regular Grants Programme\"),\"Revenue\",\"Capital\")","v":"Capital"}]
[{"$f":"CONCATENATE('[1]Transformation sheet'!$B$1,'[1]GIFTS data'!A49)","v":"360G-ClothworkersFdn-201700653"},{"$f":"'[1]GIFTS data'!A49","v":201700653},{"$f":"CONCATENATE(\"Grant to \",'[1]GIFTS data'!F49)","v":"Grant to Cardinal Hume Centre"},{"$f":"'[1]GIFTS data'!B49","v":"refurbishment of a welfare centre for a charity which works with homeless people in Westminster"},{"$f":"'[1]Transformation sheet'!$B$2","v":"GBP"},{"$f":"'[1]GIFTS data'!C49","v":50000},{"$f":"'[1]GIFTS data'!D49","v":"2018-06-28"},{"$f":"IF(LEFT('[1]GIFTS data'!G49,3)=\"SC0\",\"GB-SC-\"&'[1]GIFTS data'!G49,IF(LEN('[1]GIFTS data'!G49)=8,\"GB-COH-\"&'[1]GIFTS data'!G49,IF(LEFT('[1]GIFTS data'!G49,1)=\"X\",\"GB-REV-\"&'[1]GIFTS data'!G49,IF(AND(LEN('[1]GIFTS data'!G49)=7,LEFT('[1]GIFTS data'!G49,1)=\"1\"),\"GB-CHC-\"&'[1]GIFTS data'!G49,IF(LEN('[1]GIFTS data'!G49)=7,\"GB-COH-0\"&'[1]GIFTS data'!G49,IF(LEFT('[1]GIFTS data'!G49,3)=\"NIC\",\"GB-NIC-\"&RIGHT('[1]GIFTS data'!G49,LEN('[1]GIFTS data'!G49)-3),IF(LEN('[1]GIFTS data'!G49)=6,\"GB-CHC-\"&'[1]GIFTS data'!G49,'[1]Transformation sheet'!$B$3&'[1]GIFTS data'!E49)))))))","v":"GB-CHC-1090836"},{"$f":"'[1]GIFTS data'!F49","v":"Cardinal Hume Centre"},{"$f":"'[1]GIFTS data'!G49","v":1090836},{"$f":"'[1]GIFTS data'!J49","v":"London"},{"$f":"'[1]GIFTS data'!I49","v":"SW1P 2BG"},{"$f":"'[1]GIFTS data'!H49","v":"Greater London"},{"$f":"IF(OR('[1]GIFTS data'!K49=\"4. Proactive Programme\",'[1]GIFTS data'!K49=\"3. Regular Grants Programme\"),\"No\",\"Yes\")","v":"Yes"},{"$f":"RIGHT('[1]GIFTS data'!K49,LEN('[1]GIFTS data'!K49)-3)","v":"Main Grants Programme"},{"$f":"'[1]Transformation sheet'!$B$8","v":"GB-CHC-274100"},{"$f":"'[1]Transformation sheet'!$B$9","v":"The Clothworkers Foundation"},"https://www.clothworkersfoundation.org.uk/",{"$f":"'[1]Transformation sheet'!$B$11","v":"2019-05-31"},{"$f":"IF(OR('[1]GIFTS data'!K49=\"4. Proactive Programme\",'[1]GIFTS data'!K49=\"3. Regular Grants Programme\"),\"Revenue\",\"Capital\")","v":"Capital"}]
[{"$f":"CONCATENATE('[1]Transformation sheet'!$B$1,'[1]GIFTS data'!A50)","v":"360G-ClothworkersFdn-201700931"},{"$f":"'[1]GIFTS data'!A50","v":201700931},{"$f":"CONCATENATE(\"Grant to \",'[1]GIFTS data'!F50)","v":"Grant to Carousel Project"},{"$f":"'[1]GIFTS data'!B50","v":"purchase of AV equipment and computer for a charity which works with people with disabilities in Brighton"},{"$f":"'[1]Transformation sheet'!$B$2","v":"GBP"},{"$f":"'[1]GIFTS data'!C50","v":6700},{"$f":"'[1]GIFTS data'!D50","v":"2018-12-07"},{"$f":"IF(LEFT('[1]GIFTS data'!G50,3)=\"SC0\",\"GB-SC-\"&'[1]GIFTS data'!G50,IF(LEN('[1]GIFTS data'!G50)=8,\"GB-COH-\"&'[1]GIFTS data'!G50,IF(LEFT('[1]GIFTS data'!G50,1)=\"X\",\"GB-REV-\"&'[1]GIFTS data'!G50,IF(AND(LEN('[1]GIFTS data'!G50)=7,LEFT('[1]GIFTS data'!G50,1)=\"1\"),\"GB-CHC-\"&'[1]GIFTS data'!G50,IF(LEN('[1]GIFTS data'!G50)=7,\"GB-COH-0\"&'[1]GIFTS data'!G50,IF(LEFT('[1]GIFTS data'!G50,3)=\"NIC\",\"GB-NIC-\"&RIGHT('[1]GIFTS data'!G50,LEN('[1]GIFTS data'!G50)-3),IF(LEN('[1]GIFTS data'!G50)=6,\"GB-CHC-\"&'[1]GIFTS data'!G50,'[1]Transformation sheet'!$B$3&'[1]GIFTS data'!E50)))))))","v":"GB-CHC-297201"},{"$f":"'[1]GIFTS data'!F50","v":"Carousel Project"},{"$f":"'[1]GIFTS data'!G50","v":297201},{"$f":"'[1]GIFTS data'!J50","v":"Brighton"},{"$f":"'[1]GIFTS data'!I50","v":"BN1 3XG"},{"$f":"'[1]GIFTS data'!H50","v":"South East"},{"$f":"IF(OR('[1]GIFTS data'!K50=\"4. Proactive Programme\",'[1]GIFTS data'!K50=\"3. Regular Grants Programme\"),\"No\",\"Yes\")","v":"Yes"},{"$f":"RIGHT('[1]GIFTS data'!K50,LEN('[1]GIFTS data'!K50)-3)","v":"Small Grants Programme"},{"$f":"'[1]Transformation sheet'!$B$8","v":"GB-CHC-274100"},{"$f":"'[1]Transformation sheet'!$B$9","v":"The Clothworkers Foundation"},"https://www.clothworkersfoundation.org.uk/",{"$f":"'[1]Transformation sheet'!$B$11","v":"2019-05-31"},{"$f":"IF(OR('[1]GIFTS data'!K50=\"4. Proactive Programme\",'[1]GIFTS data'!K50=\"3. Regular Grants Programme\"),\"Revenue\",\"Capital\")","v":"Capital"}]
[{"$f":"CONCATENATE('[1]Transformation sheet'!$B$1,'[1]GIFTS data'!A51)","v":"360G-ClothworkersFdn-201700829"},{"$f":"'[1]GIFTS data'!A51","v":201700829},{"$f":"CONCATENATE(\"Grant to \",'[1]GIFTS data'!F51)","v":"Grant to CASY"},{"$f":"'[1]GIFTS data'!B51","v":"purchase of furniture for a charity which works with disadvanatged young people in Nottinghamshire"},{"$f":"'[1]Transformation sheet'!$B$2","v":"GBP"},{"$f":"'[1]GIFTS data'!C51","v":10000},{"$f":"'[1]GIFTS data'!D51","v":"2018-09-26"},{"$f":"IF(LEFT('[1]GIFTS data'!G51,3)=\"SC0\",\"GB-SC-\"&'[1]GIFTS data'!G51,IF(LEN('[1]GIFTS data'!G51)=8,\"GB-COH-\"&'[1]GIFTS data'!G51,IF(LEFT('[1]GIFTS data'!G51,1)=\"X\",\"GB-REV-\"&'[1]GIFTS data'!G51,IF(AND(LEN('[1]GIFTS data'!G51)=7,LEFT('[1]GIFTS data'!G51,1)=\"1\"),\"GB-CHC-\"&'[1]GIFTS data'!G51,IF(LEN('[1]GIFTS data'!G51)=7,\"GB-COH-0\"&'[1]GIFTS data'!G51,IF(LEFT('[1]GIFTS data'!G51,3)=\"NIC\",\"GB-NIC-\"&RIGHT('[1]GIFTS data'!G51,LEN('[1]GIFTS data'!G51)-3),IF(LEN('[1]GIFTS data'!G51)=6,\"GB-CHC-\"&'[1]GIFTS data'!G51,'[1]Transformation sheet'!$B$3&'[1]GIFTS data'!E51)))))))","v":"GB-CHC-1092938"},{"$f":"'[1]GIFTS data'!F51","v":"CASY"},{"$f":"'[1]GIFTS data'!G51","v":1092938},{"$f":"'[1]GIFTS data'!J51","v":"Newark"},{"$f":"'[1]GIFTS data'!I51","v":"NG24 1TW"},{"$f":"'[1]GIFTS data'!H51","v":"East Midlands"},{"$f":"IF(OR('[1]GIFTS data'!K51=\"4. Proactive Programme\",'[1]GIFTS data'!K51=\"3. Regular Grants Programme\"),\"No\",\"Yes\")","v":"Yes"},{"$f":"RIGHT('[1]GIFTS data'!K51,LEN('[1]GIFTS data'!K51)-3)","v":"Small Grants Programme"},{"$f":"'[1]Transformation sheet'!$B$8","v":"GB-CHC-274100"},{"$f":"'[1]Transformation sheet'!$B$9","v":"The Clothworkers Foundation"},"https://www.clothworkersfoundation.org.uk/",{"$f":"'[1]Transformation sheet'!$B$11","v":"2019-05-31"},{"$f":"IF(OR('[1]GIFTS data'!K51=\"4. Proactive Programme\",'[1]GIFTS data'!K51=\"3. Regular Grants Programme\"),\"Revenue\",\"Capital\")","v":"Capital"}]
[{"$f":"CONCATENATE('[1]Transformation sheet'!$B$1,'[1]GIFTS data'!A52)","v":"360G-ClothworkersFdn-201700474"},{"$f":"'[1]GIFTS data'!A52","v":201700474},{"$f":"CONCATENATE(\"Grant to \",'[1]GIFTS data'!F52)","v":"Grant to CELLS Project"},{"$f":"'[1]GIFTS data'!B52","v":"purchase of vehicle for a charity which works with disadvantaged young people in Kirkby"},{"$f":"'[1]Transformation sheet'!$B$2","v":"GBP"},{"$f":"'[1]GIFTS data'!C52","v":15000},{"$f":"'[1]GIFTS data'!D52","v":"2018-01-30"},{"$f":"IF(LEFT('[1]GIFTS data'!G52,3)=\"SC0\",\"GB-SC-\"&'[1]GIFTS data'!G52,IF(LEN('[1]GIFTS data'!G52)=8,\"GB-COH-\"&'[1]GIFTS data'!G52,IF(LEFT('[1]GIFTS data'!G52,1)=\"X\",\"GB-REV-\"&'[1]GIFTS data'!G52,IF(AND(LEN('[1]GIFTS data'!G52)=7,LEFT('[1]GIFTS data'!G52,1)=\"1\"),\"GB-CHC-\"&'[1]GIFTS data'!G52,IF(LEN('[1]GIFTS data'!G52)=7,\"GB-COH-0\"&'[1]GIFTS data'!G52,IF(LEFT('[1]GIFTS data'!G52,3)=\"NIC\",\"GB-NIC-\"&RIGHT('[1]GIFTS data'!G52,LEN('[1]GIFTS data'!G52)-3),IF(LEN('[1]GIFTS data'!G52)=6,\"GB-CHC-\"&'[1]GIFTS data'!G52,'[1]Transformation sheet'!$B$3&'[1]GIFTS data'!E52)))))))","v":"GB-COH-08145104"},{"$f":"'[1]GIFTS data'!F52","v":"CELLS Project"},{"$f":"'[1]GIFTS data'!G52","v":8145104},{"$f":"'[1]GIFTS data'!J52","v":"Kirkby"},{"$f":"'[1]GIFTS data'!I52","v":"L32 5TH"},{"$f":"'[1]GIFTS data'!H52","v":"North West"},{"$f":"IF(OR('[1]GIFTS data'!K52=\"4. Proactive Programme\",'[1]GIFTS data'!K52=\"3. Regular Grants Programme\"),\"No\",\"Yes\")","v":"Yes"},{"$f":"RIGHT('[1]GIFTS data'!K52,LEN('[1]GIFTS data'!K52)-3)","v":"Small Grants Programme"},{"$f":"'[1]Transformation sheet'!$B$8","v":"GB-CHC-274100"},{"$f":"'[1]Transformation sheet'!$B$9","v":"The Clothworkers Foundation"},"https://www.clothworkersfoundation.org.uk/",{"$f":"'[1]Transformation sheet'!$B$11","v":"2019-05-31"},{"$f":"IF(OR('[1]GIFTS data'!K52=\"4. Proactive Programme\",'[1]GIFTS data'!K52=\"3. Regular Grants Programme\"),\"Revenue\",\"Capital\")","v":"Capital"}]
[{"$f":"CONCATENATE('[1]Transformation sheet'!$B$1,'[1]GIFTS data'!A53)","v":"360G-ClothworkersFdn-201700442"},{"$f":"'[1]GIFTS data'!A53","v":201700442},{"$f":"CONCATENATE(\"Grant to \",'[1]GIFTS data'!F53)","v":"Grant to Chamwell Centre Charity"},{"$f":"'[1]GIFTS data'!B53","v":"construction of a building for a charity which works with disabled people in Gloucester"},{"$f":"'[1]Transformation sheet'!$B$2","v":"GBP"},{"$f":"'[1]GIFTS data'!C53","v":250000},{"$f":"'[1]GIFTS data'!D53","v":"2018-06-28"},{"$f":"IF(LEFT('[1]GIFTS data'!G53,3)=\"SC0\",\"GB-SC-\"&'[1]GIFTS data'!G53,IF(LEN('[1]GIFTS data'!G53)=8,\"GB-COH-\"&'[1]GIFTS data'!G53,IF(LEFT('[1]GIFTS data'!G53,1)=\"X\",\"GB-REV-\"&'[1]GIFTS data'!G53,IF(AND(LEN('[1]GIFTS data'!G53)=7,LEFT('[1]GIFTS data'!G53,1)=\"1\"),\"GB-CHC-\"&'[1]GIFTS data'!G53,IF(LEN('[1]GIFTS data'!G53)=7,\"GB-COH-0\"&'[1]GIFTS data'!G53,IF(LEFT('[1]GIFTS data'!G53,3)=\"NIC\",\"GB-NIC-\"&RIGHT('[1]GIFTS data'!G53,LEN('[1]GIFTS data'!G53)-3),IF(LEN('[1]GIFTS data'!G53)=6,\"GB-CHC-\"&'[1]GIFTS data'!G53,'[1]Transformation sheet'!$B$3&'[1]GIFTS data'!E53)))))))","v":"GB-CHC-1162321"},{"$f":"'[1]GIFTS data'!F53","v":"Chamwell Centre Charity"},{"$f":"'[1]GIFTS data'!G53","v":1162321},{"$f":"'[1]GIFTS data'!J53","v":"Gloucester"},{"$f":"'[1]GIFTS data'!I53","v":"GL29EU"},{"$f":"'[1]GIFTS data'!H53","v":"South West"},{"$f":"IF(OR('[1]GIFTS data'!K53=\"4. Proactive Programme\",'[1]GIFTS data'!K53=\"3. Regular Grants Programme\"),\"No\",\"Yes\")","v":"Yes"},{"$f":"RIGHT('[1]GIFTS data'!K53,LEN('[1]GIFTS data'!K53)-3)","v":"Main Grants Programme"},{"$f":"'[1]Transformation sheet'!$B$8","v":"GB-CHC-274100"},{"$f":"'[1]Transformation sheet'!$B$9","v":"The Clothworkers Foundation"},"https://www.clothworkersfoundation.org.uk/",{"$f":"'[1]Transformation sheet'!$B$11","v":"2019-05-31"},{"$f":"IF(OR('[1]GIFTS data'!K53=\"4. Proactive Programme\",'[1]GIFTS data'!K53=\"3. Regular Grants Programme\"),\"Revenue\",\"Capital\")","v":"Capital"}]
[{"$f":"CONCATENATE('[1]Transformation sheet'!$B$1,'[1]GIFTS data'!A54)","v":"360G-ClothworkersFdn-201700800"},{"$f":"'[1]GIFTS data'!A54","v":201700800},{"$f":"CONCATENATE(\"Grant to \",'[1]GIFTS data'!F54)","v":"Grant to Charles Young Centre"},{"$f":"'[1]GIFTS data'!B54","v":"purchase of a minibus for a charity which works with people with disabilities in Tyne and Wear"},{"$f":"'[1]Transformation sheet'!$B$2","v":"GBP"},{"$f":"'[1]GIFTS data'!C54","v":15000},{"$f":"'[1]GIFTS data'!D54","v":"2018-08-31"},{"$f":"IF(LEFT('[1]GIFTS data'!G54,3)=\"SC0\",\"GB-SC-\"&'[1]GIFTS data'!G54,IF(LEN('[1]GIFTS data'!G54)=8,\"GB-COH-\"&'[1]GIFTS data'!G54,IF(LEFT('[1]GIFTS data'!G54,1)=\"X\",\"GB-REV-\"&'[1]GIFTS data'!G54,IF(AND(LEN('[1]GIFTS data'!G54)=7,LEFT('[1]GIFTS data'!G54,1)=\"1\"),\"GB-CHC-\"&'[1]GIFTS data'!G54,IF(LEN('[1]GIFTS data'!G54)=7,\"GB-COH-0\"&'[1]GIFTS data'!G54,IF(LEFT('[1]GIFTS data'!G54,3)=\"NIC\",\"GB-NIC-\"&RIGHT('[1]GIFTS data'!G54,LEN('[1]GIFTS data'!G54)-3),IF(LEN('[1]GIFTS data'!G54)=6,\"GB-CHC-\"&'[1]GIFTS data'!G54,'[1]Transformation sheet'!$B$3&'[1]GIFTS data'!E54)))))))","v":"GB-CHC-508814"},{"$f":"'[1]GIFTS data'!F54","v":"Charles Young Centre"},{"$f":"'[1]GIFTS data'!G54","v":508814},{"$f":"'[1]GIFTS data'!J54","v":"SOUTH SHIELDS"},{"$f":"'[1]GIFTS data'!I54","v":"NE34 0QJ"},{"$f":"'[1]GIFTS data'!H54","v":"North East"},{"$f":"IF(OR('[1]GIFTS data'!K54=\"4. Proactive Programme\",'[1]GIFTS data'!K54=\"3. Regular Grants Programme\"),\"No\",\"Yes\")","v":"Yes"},{"$f":"RIGHT('[1]GIFTS data'!K54,LEN('[1]GIFTS data'!K54)-3)","v":"Small Grants Programme"},{"$f":"'[1]Transformation sheet'!$B$8","v":"GB-CHC-274100"},{"$f":"'[1]Transformation sheet'!$B$9","v":"The Clothworkers Foundation"},"https://www.clothworkersfoundation.org.uk/",{"$f":"'[1]Transformation sheet'!$B$11","v":"2019-05-31"},{"$f":"IF(OR('[1]GIFTS data'!K54=\"4. Proactive Programme\",'[1]GIFTS data'!K54=\"3. Regular Grants Programme\"),\"Revenue\",\"Capital\")","v":"Capital"}]
[{"$f":"CONCATENATE('[1]Transformation sheet'!$B$1,'[1]GIFTS data'!A55)","v":"360G-ClothworkersFdn-201700362"},{"$f":"'[1]GIFTS data'!A55","v":201700362},{"$f":"CONCATENATE(\"Grant to \",'[1]GIFTS data'!F55)","v":"Grant to Chelmsford Community Transport"},{"$f":"'[1]GIFTS data'!B55","v":"purchase of a minibus for a charity which works with disabled people"},{"$f":"'[1]Transformation sheet'!$B$2","v":"GBP"},{"$f":"'[1]GIFTS data'!C55","v":15000},{"$f":"'[1]GIFTS data'!D55","v":"2018-02-08"},{"$f":"IF(LEFT('[1]GIFTS data'!G55,3)=\"SC0\",\"GB-SC-\"&'[1]GIFTS data'!G55,IF(LEN('[1]GIFTS data'!G55)=8,\"GB-COH-\"&'[1]GIFTS data'!G55,IF(LEFT('[1]GIFTS data'!G55,1)=\"X\",\"GB-REV-\"&'[1]GIFTS data'!G55,IF(AND(LEN('[1]GIFTS data'!G55)=7,LEFT('[1]GIFTS data'!G55,1)=\"1\"),\"GB-CHC-\"&'[1]GIFTS data'!G55,IF(LEN('[1]GIFTS data'!G55)=7,\"GB-COH-0\"&'[1]GIFTS data'!G55,IF(LEFT('[1]GIFTS data'!G55,3)=\"NIC\",\"GB-NIC-\"&RIGHT('[1]GIFTS data'!G55,LEN('[1]GIFTS data'!G55)-3),IF(LEN('[1]GIFTS data'!G55)=6,\"GB-CHC-\"&'[1]GIFTS data'!G55,'[1]Transformation sheet'!$B$3&'[1]GIFTS data'!E55)))))))","v":"GB-CHC-1075724"},{"$f":"'[1]GIFTS data'!F55","v":"Chelmsford Community Transport"},{"$f":"'[1]GIFTS data'!G55","v":1075724},{"$f":"'[1]GIFTS data'!J55","v":"Chelmsford"},{"$f":"'[1]GIFTS data'!I55","v":"CM2 7QA"},{"$f":"'[1]GIFTS data'!H55","v":"East"},{"$f":"IF(OR('[1]GIFTS data'!K55=\"4. Proactive Programme\",'[1]GIFTS data'!K55=\"3. Regular Grants Programme\"),\"No\",\"Yes\")","v":"Yes"},{"$f":"RIGHT('[1]GIFTS data'!K55,LEN('[1]GIFTS data'!K55)-3)","v":"Main Grants Programme"},{"$f":"'[1]Transformation sheet'!$B$8","v":"GB-CHC-274100"},{"$f":"'[1]Transformation sheet'!$B$9","v":"The Clothworkers Foundation"},"https://www.clothworkersfoundation.org.uk/",{"$f":"'[1]Transformation sheet'!$B$11","v":"2019-05-31"},{"$f":"IF(OR('[1]GIFTS data'!K55=\"4. Proactive Programme\",'[1]GIFTS data'!K55=\"3. Regular Grants Programme\"),\"Revenue\",\"Capital\")","v":"Capital"}]
[{"$f":"CONCATENATE('[1]Transformation sheet'!$B$1,'[1]GIFTS data'!A56)","v":"360G-ClothworkersFdn-201700611"},{"$f":"'[1]GIFTS data'!A56","v":201700611},{"$f":"CONCATENATE(\"Grant to \",'[1]GIFTS data'!F56)","v":"Grant to Chesil Sailability"},{"$f":"'[1]GIFTS data'!B56","v":"purchase of sailing equipment for a charity which works with people with disabilities in Dorset"},{"$f":"'[1]Transformation sheet'!$B$2","v":"GBP"},{"$f":"'[1]GIFTS data'!C56","v":5400},{"$f":"'[1]GIFTS data'!D56","v":"2018-05-04"},{"$f":"IF(LEFT('[1]GIFTS data'!G56,3)=\"SC0\",\"GB-SC-\"&'[1]GIFTS data'!G56,IF(LEN('[1]GIFTS data'!G56)=8,\"GB-COH-\"&'[1]GIFTS data'!G56,IF(LEFT('[1]GIFTS data'!G56,1)=\"X\",\"GB-REV-\"&'[1]GIFTS data'!G56,IF(AND(LEN('[1]GIFTS data'!G56)=7,LEFT('[1]GIFTS data'!G56,1)=\"1\"),\"GB-CHC-\"&'[1]GIFTS data'!G56,IF(LEN('[1]GIFTS data'!G56)=7,\"GB-COH-0\"&'[1]GIFTS data'!G56,IF(LEFT('[1]GIFTS data'!G56,3)=\"NIC\",\"GB-NIC-\"&RIGHT('[1]GIFTS data'!G56,LEN('[1]GIFTS data'!G56)-3),IF(LEN('[1]GIFTS data'!G56)=6,\"GB-CHC-\"&'[1]GIFTS data'!G56,'[1]Transformation sheet'!$B$3&'[1]GIFTS data'!E56)))))))","v":"GB-CHC-1154416"},{"$f":"'[1]GIFTS data'!F56","v":"Chesil Sailability"},{"$f":"'[1]GIFTS data'!G56","v":1154416},{"$f":"'[1]GIFTS data'!J56","v":"Dorchester"},{"$f":"'[1]GIFTS data'!I56","v":"DT1 2BZ"},{"$f":"'[1]GIFTS data'!H56","v":"South West"},{"$f":"IF(OR('[1]GIFTS data'!K56=\"4. Proactive Programme\",'[1]GIFTS data'!K56=\"3. Regular Grants Programme\"),\"No\",\"Yes\")","v":"Yes"},{"$f":"RIGHT('[1]GIFTS data'!K56,LEN('[1]GIFTS data'!K56)-3)","v":"Small Grants Programme"},{"$f":"'[1]Transformation sheet'!$B$8","v":"GB-CHC-274100"},{"$f":"'[1]Transformation sheet'!$B$9","v":"The Clothworkers Foundation"},"https://www.clothworkersfoundation.org.uk/",{"$f":"'[1]Transformation sheet'!$B$11","v":"2019-05-31"},{"$f":"IF(OR('[1]GIFTS data'!K56=\"4. Proactive Programme\",'[1]GIFTS data'!K56=\"3. Regular Grants Programme\"),\"Revenue\",\"Capital\")","v":"Capital"}]
[{"$f":"CONCATENATE('[1]Transformation sheet'!$B$1,'[1]GIFTS data'!A57)","v":"360G-ClothworkersFdn-201700810"},{"$f":"'[1]GIFTS data'!A57","v":201700810},{"$f":"CONCATENATE(\"Grant to \",'[1]GIFTS data'!F57)","v":"Grant to Children's Respite Trust"},{"$f":"'[1]GIFTS data'!B57","v":"refurbishment and purchase of play equipment for a charity which works with children with disabilities in East Sussex"},{"$f":"'[1]Transformation sheet'!$B$2","v":"GBP"},{"$f":"'[1]GIFTS data'!C57","v":8700},{"$f":"'[1]GIFTS data'!D57","v":"2018-08-31"},{"$f":"IF(LEFT('[1]GIFTS data'!G57,3)=\"SC0\",\"GB-SC-\"&'[1]GIFTS data'!G57,IF(LEN('[1]GIFTS data'!G57)=8,\"GB-COH-\"&'[1]GIFTS data'!G57,IF(LEFT('[1]GIFTS data'!G57,1)=\"X\",\"GB-REV-\"&'[1]GIFTS data'!G57,IF(AND(LEN('[1]GIFTS data'!G57)=7,LEFT('[1]GIFTS data'!G57,1)=\"1\"),\"GB-CHC-\"&'[1]GIFTS data'!G57,IF(LEN('[1]GIFTS data'!G57)=7,\"GB-COH-0\"&'[1]GIFTS data'!G57,IF(LEFT('[1]GIFTS data'!G57,3)=\"NIC\",\"GB-NIC-\"&RIGHT('[1]GIFTS data'!G57,LEN('[1]GIFTS data'!G57)-3),IF(LEN('[1]GIFTS data'!G57)=6,\"GB-CHC-\"&'[1]GIFTS data'!G57,'[1]Transformation sheet'!$B$3&'[1]GIFTS data'!E57)))))))","v":"GB-CHC-1140277"},{"$f":"'[1]GIFTS data'!F57","v":"Children's Respite Trust"},{"$f":"'[1]GIFTS data'!G57","v":1140277},{"$f":"'[1]GIFTS data'!J57","v":"Uckfield"},{"$f":"'[1]GIFTS data'!I57","v":"TN22 1QR"},{"$f":"'[1]GIFTS data'!H57","v":"South East"},{"$f":"IF(OR('[1]GIFTS data'!K57=\"4. Proactive Programme\",'[1]GIFTS data'!K57=\"3. Regular Grants Programme\"),\"No\",\"Yes\")","v":"Yes"},{"$f":"RIGHT('[1]GIFTS data'!K57,LEN('[1]GIFTS data'!K57)-3)","v":"Small Grants Programme"},{"$f":"'[1]Transformation sheet'!$B$8","v":"GB-CHC-274100"},{"$f":"'[1]Transformation sheet'!$B$9","v":"The Clothworkers Foundation"},"https://www.clothworkersfoundation.org.uk/",{"$f":"'[1]Transformation sheet'!$B$11","v":"2019-05-31"},{"$f":"IF(OR('[1]GIFTS data'!K57=\"4. Proactive Programme\",'[1]GIFTS data'!K57=\"3. Regular Grants Programme\"),\"Revenue\",\"Capital\")","v":"Capital"}]
[{"$f":"CONCATENATE('[1]Transformation sheet'!$B$1,'[1]GIFTS data'!A58)","v":"360G-ClothworkersFdn-201700562"},{"$f":"'[1]GIFTS data'!A58","v":201700562},{"$f":"CONCATENATE(\"Grant to \",'[1]GIFTS data'!F58)","v":"Grant to Chrysalis"},{"$f":"'[1]GIFTS data'!B58","v":"new heating system for a charity in Cumbria which works with people with learning disabilities"},{"$f":"'[1]Transformation sheet'!$B$2","v":"GBP"},{"$f":"'[1]GIFTS data'!C58","v":15000},{"$f":"'[1]GIFTS data'!D58","v":"2018-05-16"},{"$f":"IF(LEFT('[1]GIFTS data'!G58,3)=\"SC0\",\"GB-SC-\"&'[1]GIFTS data'!G58,IF(LEN('[1]GIFTS data'!G58)=8,\"GB-COH-\"&'[1]GIFTS data'!G58,IF(LEFT('[1]GIFTS data'!G58,1)=\"X\",\"GB-REV-\"&'[1]GIFTS data'!G58,IF(AND(LEN('[1]GIFTS data'!G58)=7,LEFT('[1]GIFTS data'!G58,1)=\"1\"),\"GB-CHC-\"&'[1]GIFTS data'!G58,IF(LEN('[1]GIFTS data'!G58)=7,\"GB-COH-0\"&'[1]GIFTS data'!G58,IF(LEFT('[1]GIFTS data'!G58,3)=\"NIC\",\"GB-NIC-\"&RIGHT('[1]GIFTS data'!G58,LEN('[1]GIFTS data'!G58)-3),IF(LEN('[1]GIFTS data'!G58)=6,\"GB-CHC-\"&'[1]GIFTS data'!G58,'[1]Transformation sheet'!$B$3&'[1]GIFTS data'!E58)))))))","v":"GB-CHC-1116125"},{"$f":"'[1]GIFTS data'!F58","v":"Chrysalis"},{"$f":"'[1]GIFTS data'!G58","v":1116125},{"$f":"'[1]GIFTS data'!J58","v":"Wigton"},{"$f":"'[1]GIFTS data'!I58","v":"CA7 9JR"},{"$f":"'[1]GIFTS data'!H58","v":"North West"},{"$f":"IF(OR('[1]GIFTS data'!K58=\"4. Proactive Programme\",'[1]GIFTS data'!K58=\"3. Regular Grants Programme\"),\"No\",\"Yes\")","v":"Yes"},{"$f":"RIGHT('[1]GIFTS data'!K58,LEN('[1]GIFTS data'!K58)-3)","v":"Main Grants Programme"},{"$f":"'[1]Transformation sheet'!$B$8","v":"GB-CHC-274100"},{"$f":"'[1]Transformation sheet'!$B$9","v":"The Clothworkers Foundation"},"https://www.clothworkersfoundation.org.uk/",{"$f":"'[1]Transformation sheet'!$B$11","v":"2019-05-31"},{"$f":"IF(OR('[1]GIFTS data'!K58=\"4. Proactive Programme\",'[1]GIFTS data'!K58=\"3. Regular Grants Programme\"),\"Revenue\",\"Capital\")","v":"Capital"}]
[{"$f":"CONCATENATE('[1]Transformation sheet'!$B$1,'[1]GIFTS data'!A59)","v":"360G-ClothworkersFdn-201700860"},{"$f":"'[1]GIFTS data'!A59","v":201700860},{"$f":"CONCATENATE(\"Grant to \",'[1]GIFTS data'!F59)","v":"Grant to Chuckle Productions"},{"$f":"'[1]GIFTS data'!B59","v":"purchase of audio visual equipment for a charity which works with people with disabilities"},{"$f":"'[1]Transformation sheet'!$B$2","v":"GBP"},{"$f":"'[1]GIFTS data'!C59","v":7400},{"$f":"'[1]GIFTS data'!D59","v":"2018-09-26"},{"$f":"IF(LEFT('[1]GIFTS data'!G59,3)=\"SC0\",\"GB-SC-\"&'[1]GIFTS data'!G59,IF(LEN('[1]GIFTS data'!G59)=8,\"GB-COH-\"&'[1]GIFTS data'!G59,IF(LEFT('[1]GIFTS data'!G59,1)=\"X\",\"GB-REV-\"&'[1]GIFTS data'!G59,IF(AND(LEN('[1]GIFTS data'!G59)=7,LEFT('[1]GIFTS data'!G59,1)=\"1\"),\"GB-CHC-\"&'[1]GIFTS data'!G59,IF(LEN('[1]GIFTS data'!G59)=7,\"GB-COH-0\"&'[1]GIFTS data'!G59,IF(LEFT('[1]GIFTS data'!G59,3)=\"NIC\",\"GB-NIC-\"&RIGHT('[1]GIFTS data'!G59,LEN('[1]GIFTS data'!G59)-3),IF(LEN('[1]GIFTS data'!G59)=6,\"GB-CHC-\"&'[1]GIFTS data'!G59,'[1]Transformation sheet'!$B$3&'[1]GIFTS data'!E59)))))))","v":"GB-COH-07097079"},{"$f":"'[1]GIFTS data'!F59","v":"Chuckle Productions"},{"$f":"'[1]GIFTS data'!G59","v":7097079},{"$f":"'[1]GIFTS data'!J59","v":"Stafford"},{"$f":"'[1]GIFTS data'!I59","v":"ST150SR"},{"$f":"'[1]GIFTS data'!H59","v":"West Midlands"},{"$f":"IF(OR('[1]GIFTS data'!K59=\"4. Proactive Programme\",'[1]GIFTS data'!K59=\"3. Regular Grants Programme\"),\"No\",\"Yes\")","v":"Yes"},{"$f":"RIGHT('[1]GIFTS data'!K59,LEN('[1]GIFTS data'!K59)-3)","v":"Small Grants Programme"},{"$f":"'[1]Transformation sheet'!$B$8","v":"GB-CHC-274100"},{"$f":"'[1]Transformation sheet'!$B$9","v":"The Clothworkers Foundation"},"https://www.clothworkersfoundation.org.uk/",{"$f":"'[1]Transformation sheet'!$B$11","v":"2019-05-31"},{"$f":"IF(OR('[1]GIFTS data'!K59=\"4. Proactive Programme\",'[1]GIFTS data'!K59=\"3. Regular Grants Programme\"),\"Revenue\",\"Capital\")","v":"Capital"}]
[{"$f":"CONCATENATE('[1]Transformation sheet'!$B$1,'[1]GIFTS data'!A60)","v":"360G-ClothworkersFdn-201700699"},{"$f":"'[1]GIFTS data'!A60","v":201700699},{"$f":"CONCATENATE(\"Grant to \",'[1]GIFTS data'!F60)","v":"Grant to Citizens Advice Bureau (Grangemouth & Bo'ness)"},{"$f":"'[1]GIFTS data'!B60","v":"purchase of a new boiler and window blinds for a charity which works with disabled people in Scotland"},{"$f":"'[1]Transformation sheet'!$B$2","v":"GBP"},{"$f":"'[1]GIFTS data'!C60","v":7200},{"$f":"'[1]GIFTS data'!D60","v":"2018-06-21"},{"$f":"IF(LEFT('[1]GIFTS data'!G60,3)=\"SC0\",\"GB-SC-\"&'[1]GIFTS data'!G60,IF(LEN('[1]GIFTS data'!G60)=8,\"GB-COH-\"&'[1]GIFTS data'!G60,IF(LEFT('[1]GIFTS data'!G60,1)=\"X\",\"GB-REV-\"&'[1]GIFTS data'!G60,IF(AND(LEN('[1]GIFTS data'!G60)=7,LEFT('[1]GIFTS data'!G60,1)=\"1\"),\"GB-CHC-\"&'[1]GIFTS data'!G60,IF(LEN('[1]GIFTS data'!G60)=7,\"GB-COH-0\"&'[1]GIFTS data'!G60,IF(LEFT('[1]GIFTS data'!G60,3)=\"NIC\",\"GB-NIC-\"&RIGHT('[1]GIFTS data'!G60,LEN('[1]GIFTS data'!G60)-3),IF(LEN('[1]GIFTS data'!G60)=6,\"GB-CHC-\"&'[1]GIFTS data'!G60,'[1]Transformation sheet'!$B$3&'[1]GIFTS data'!E60)))))))","v":"GB-SC-SC013233"},{"$f":"'[1]GIFTS data'!F60","v":"Citizens Advice Bureau (Grangemouth & Bo'ness)"},{"$f":"'[1]GIFTS data'!G60","v":"SC013233"},{"$f":"'[1]GIFTS data'!J60","v":"Grangemouth"},{"$f":"'[1]GIFTS data'!I60","v":"FK3 8HW"},{"$f":"'[1]GIFTS data'!H60","v":"Scotland"},{"$f":"IF(OR('[1]GIFTS data'!K60=\"4. Proactive Programme\",'[1]GIFTS data'!K60=\"3. Regular Grants Programme\"),\"No\",\"Yes\")","v":"Yes"},{"$f":"RIGHT('[1]GIFTS data'!K60,LEN('[1]GIFTS data'!K60)-3)","v":"Small Grants Programme"},{"$f":"'[1]Transformation sheet'!$B$8","v":"GB-CHC-274100"},{"$f":"'[1]Transformation sheet'!$B$9","v":"The Clothworkers Foundation"},"https://www.clothworkersfoundation.org.uk/",{"$f":"'[1]Transformation sheet'!$B$11","v":"2019-05-31"},{"$f":"IF(OR('[1]GIFTS data'!K60=\"4. Proactive Programme\",'[1]GIFTS data'!K60=\"3. Regular Grants Programme\"),\"Revenue\",\"Capital\")","v":"Capital"}]
[{"$f":"CONCATENATE('[1]Transformation sheet'!$B$1,'[1]GIFTS data'!A61)","v":"360G-ClothworkersFdn-201700571"},{"$f":"'[1]GIFTS data'!A61","v":201700571},{"$f":"CONCATENATE(\"Grant to \",'[1]GIFTS data'!F61)","v":"Grant to City of Sheffield Hatters Basketball Club"},{"$f":"'[1]GIFTS data'!B61","v":"purchase of a minibus for a charity which works with disadvantaged young people"},{"$f":"'[1]Transformation sheet'!$B$2","v":"GBP"},{"$f":"'[1]GIFTS data'!C61","v":15000},{"$f":"'[1]GIFTS data'!D61","v":"2018-04-11"},{"$f":"IF(LEFT('[1]GIFTS data'!G61,3)=\"SC0\",\"GB-SC-\"&'[1]GIFTS data'!G61,IF(LEN('[1]GIFTS data'!G61)=8,\"GB-COH-\"&'[1]GIFTS data'!G61,IF(LEFT('[1]GIFTS data'!G61,1)=\"X\",\"GB-REV-\"&'[1]GIFTS data'!G61,IF(AND(LEN('[1]GIFTS data'!G61)=7,LEFT('[1]GIFTS data'!G61,1)=\"1\"),\"GB-CHC-\"&'[1]GIFTS data'!G61,IF(LEN('[1]GIFTS data'!G61)=7,\"GB-COH-0\"&'[1]GIFTS data'!G61,IF(LEFT('[1]GIFTS data'!G61,3)=\"NIC\",\"GB-NIC-\"&RIGHT('[1]GIFTS data'!G61,LEN('[1]GIFTS data'!G61)-3),IF(LEN('[1]GIFTS data'!G61)=6,\"GB-CHC-\"&'[1]GIFTS data'!G61,'[1]Transformation sheet'!$B$3&'[1]GIFTS data'!E61)))))))","v":"GB-CHC-1122247"},{"$f":"'[1]GIFTS data'!F61","v":"City of Sheffield Hatters Basketball Club"},{"$f":"'[1]GIFTS data'!G61","v":1122247},{"$f":"'[1]GIFTS data'!J61","v":"SHEFFIELD"},{"$f":"'[1]GIFTS data'!I61","v":"S35 9ZA"},{"$f":"'[1]GIFTS data'!H61","v":"Yorks & Humberside"},{"$f":"IF(OR('[1]GIFTS data'!K61=\"4. Proactive Programme\",'[1]GIFTS data'!K61=\"3. Regular Grants Programme\"),\"No\",\"Yes\")","v":"Yes"},{"$f":"RIGHT('[1]GIFTS data'!K61,LEN('[1]GIFTS data'!K61)-3)","v":"Small Grants Programme"},{"$f":"'[1]Transformation sheet'!$B$8","v":"GB-CHC-274100"},{"$f":"'[1]Transformation sheet'!$B$9","v":"The Clothworkers Foundation"},"https://www.clothworkersfoundation.org.uk/",{"$f":"'[1]Transformation sheet'!$B$11","v":"2019-05-31"},{"$f":"IF(OR('[1]GIFTS data'!K61=\"4. Proactive Programme\",'[1]GIFTS data'!K61=\"3. Regular Grants Programme\"),\"Revenue\",\"Capital\")","v":"Capital"}]
[{"$f":"CONCATENATE('[1]Transformation sheet'!$B$1,'[1]GIFTS data'!A62)","v":"360G-ClothworkersFdn-201700753"},{"$f":"'[1]GIFTS data'!A62","v":201700753},{"$f":"CONCATENATE(\"Grant to \",'[1]GIFTS data'!F62)","v":"Grant to Cleveland Housing Advice Centre"},{"$f":"'[1]GIFTS data'!B62","v":"purchase of computers for a charity which works with prisoners and ex offenders in Middlesborough"},{"$f":"'[1]Transformation sheet'!$B$2","v":"GBP"},{"$f":"'[1]GIFTS data'!C62","v":6800},{"$f":"'[1]GIFTS data'!D62","v":"2018-07-19"},{"$f":"IF(LEFT('[1]GIFTS data'!G62,3)=\"SC0\",\"GB-SC-\"&'[1]GIFTS data'!G62,IF(LEN('[1]GIFTS data'!G62)=8,\"GB-COH-\"&'[1]GIFTS data'!G62,IF(LEFT('[1]GIFTS data'!G62,1)=\"X\",\"GB-REV-\"&'[1]GIFTS data'!G62,IF(AND(LEN('[1]GIFTS data'!G62)=7,LEFT('[1]GIFTS data'!G62,1)=\"1\"),\"GB-CHC-\"&'[1]GIFTS data'!G62,IF(LEN('[1]GIFTS data'!G62)=7,\"GB-COH-0\"&'[1]GIFTS data'!G62,IF(LEFT('[1]GIFTS data'!G62,3)=\"NIC\",\"GB-NIC-\"&RIGHT('[1]GIFTS data'!G62,LEN('[1]GIFTS data'!G62)-3),IF(LEN('[1]GIFTS data'!G62)=6,\"GB-CHC-\"&'[1]GIFTS data'!G62,'[1]Transformation sheet'!$B$3&'[1]GIFTS data'!E62)))))))","v":"GB-CHC-1152785"},{"$f":"'[1]GIFTS data'!F62","v":"Cleveland Housing Advice Centre"},{"$f":"'[1]GIFTS data'!G62","v":1152785},{"$f":"'[1]GIFTS data'!J62","v":"Middlesbrough"},{"$f":"'[1]GIFTS data'!I62","v":"TS1 5DW"},{"$f":"'[1]GIFTS data'!H62","v":"Yorks & Humberside"},{"$f":"IF(OR('[1]GIFTS data'!K62=\"4. Proactive Programme\",'[1]GIFTS data'!K62=\"3. Regular Grants Programme\"),\"No\",\"Yes\")","v":"Yes"},{"$f":"RIGHT('[1]GIFTS data'!K62,LEN('[1]GIFTS data'!K62)-3)","v":"Small Grants Programme"},{"$f":"'[1]Transformation sheet'!$B$8","v":"GB-CHC-274100"},{"$f":"'[1]Transformation sheet'!$B$9","v":"The Clothworkers Foundation"},"https://www.clothworkersfoundation.org.uk/",{"$f":"'[1]Transformation sheet'!$B$11","v":"2019-05-31"},{"$f":"IF(OR('[1]GIFTS data'!K62=\"4. Proactive Programme\",'[1]GIFTS data'!K62=\"3. Regular Grants Programme\"),\"Revenue\",\"Capital\")","v":"Capital"}]
[{"$f":"CONCATENATE('[1]Transformation sheet'!$B$1,'[1]GIFTS data'!A63)","v":"360G-ClothworkersFdn-201700791"},{"$f":"'[1]GIFTS data'!A63","v":201700791},{"$f":"CONCATENATE(\"Grant to \",'[1]GIFTS data'!F63)","v":"Grant to Clooney Estate Residents Association"},{"$f":"'[1]GIFTS data'!B63","v":"purchase of laptops and furniture for a charity which works with older people in Derry"},{"$f":"'[1]Transformation sheet'!$B$2","v":"GBP"},{"$f":"'[1]GIFTS data'!C63","v":5700},{"$f":"'[1]GIFTS data'!D63","v":"2018-08-31"},{"$f":"IF(LEFT('[1]GIFTS data'!G63,3)=\"SC0\",\"GB-SC-\"&'[1]GIFTS data'!G63,IF(LEN('[1]GIFTS data'!G63)=8,\"GB-COH-\"&'[1]GIFTS data'!G63,IF(LEFT('[1]GIFTS data'!G63,1)=\"X\",\"GB-REV-\"&'[1]GIFTS data'!G63,IF(AND(LEN('[1]GIFTS data'!G63)=7,LEFT('[1]GIFTS data'!G63,1)=\"1\"),\"GB-CHC-\"&'[1]GIFTS data'!G63,IF(LEN('[1]GIFTS data'!G63)=7,\"GB-COH-0\"&'[1]GIFTS data'!G63,IF(LEFT('[1]GIFTS data'!G63,3)=\"NIC\",\"GB-NIC-\"&RIGHT('[1]GIFTS data'!G63,LEN('[1]GIFTS data'!G63)-3),IF(LEN('[1]GIFTS data'!G63)=6,\"GB-CHC-\"&'[1]GIFTS data'!G63,'[1]Transformation sheet'!$B$3&'[1]GIFTS data'!E63)))))))","v":"GB-NIC-100279"},{"$f":"'[1]GIFTS data'!F63","v":"Clooney Estate Residents Association"},{"$f":"'[1]GIFTS data'!G63","v":"NIC100279"},{"$f":"'[1]GIFTS data'!J63","v":"Londonderry"},{"$f":"'[1]GIFTS data'!I63","v":"BT476LE"},{"$f":"'[1]GIFTS data'!H63","v":"Northern Ireland"},{"$f":"IF(OR('[1]GIFTS data'!K63=\"4. Proactive Programme\",'[1]GIFTS data'!K63=\"3. Regular Grants Programme\"),\"No\",\"Yes\")","v":"Yes"},{"$f":"RIGHT('[1]GIFTS data'!K63,LEN('[1]GIFTS data'!K63)-3)","v":"Small Grants Programme"},{"$f":"'[1]Transformation sheet'!$B$8","v":"GB-CHC-274100"},{"$f":"'[1]Transformation sheet'!$B$9","v":"The Clothworkers Foundation"},"https://www.clothworkersfoundation.org.uk/",{"$f":"'[1]Transformation sheet'!$B$11","v":"2019-05-31"},{"$f":"IF(OR('[1]GIFTS data'!K63=\"4. Proactive Programme\",'[1]GIFTS data'!K63=\"3. Regular Grants Programme\"),\"Revenue\",\"Capital\")","v":"Capital"}]
[{"$f":"CONCATENATE('[1]Transformation sheet'!$B$1,'[1]GIFTS data'!A64)","v":"360G-ClothworkersFdn-201700685"},{"$f":"'[1]GIFTS data'!A64","v":201700685},{"$f":"CONCATENATE(\"Grant to \",'[1]GIFTS data'!F64)","v":"Grant to Collingwood Bowling Club"},{"$f":"'[1]GIFTS data'!B64","v":"refurbishment of upper floor and toilets for a charity which works with older people in North Shields"},{"$f":"'[1]Transformation sheet'!$B$2","v":"GBP"},{"$f":"'[1]GIFTS data'!C64","v":5700},{"$f":"'[1]GIFTS data'!D64","v":"2018-06-21"},{"$f":"IF(LEFT('[1]GIFTS data'!G64,3)=\"SC0\",\"GB-SC-\"&'[1]GIFTS data'!G64,IF(LEN('[1]GIFTS data'!G64)=8,\"GB-COH-\"&'[1]GIFTS data'!G64,IF(LEFT('[1]GIFTS data'!G64,1)=\"X\",\"GB-REV-\"&'[1]GIFTS data'!G64,IF(AND(LEN('[1]GIFTS data'!G64)=7,LEFT('[1]GIFTS data'!G64,1)=\"1\"),\"GB-CHC-\"&'[1]GIFTS data'!G64,IF(LEN('[1]GIFTS data'!G64)=7,\"GB-COH-0\"&'[1]GIFTS data'!G64,IF(LEFT('[1]GIFTS data'!G64,3)=\"NIC\",\"GB-NIC-\"&RIGHT('[1]GIFTS data'!G64,LEN('[1]GIFTS data'!G64)-3),IF(LEN('[1]GIFTS data'!G64)=6,\"GB-CHC-\"&'[1]GIFTS data'!G64,'[1]Transformation sheet'!$B$3&'[1]GIFTS data'!E64)))))))","v":"GB-CHC-1170096"},{"$f":"'[1]GIFTS data'!F64","v":"Collingwood Bowling Club"},{"$f":"'[1]GIFTS data'!G64","v":1170096},{"$f":"'[1]GIFTS data'!J64","v":"North Shields"},{"$f":"'[1]GIFTS data'!I64","v":"NE29 7LY"},{"$f":"'[1]GIFTS data'!H64","v":"North East"},{"$f":"IF(OR('[1]GIFTS data'!K64=\"4. Proactive Programme\",'[1]GIFTS data'!K64=\"3. Regular Grants Programme\"),\"No\",\"Yes\")","v":"Yes"},{"$f":"RIGHT('[1]GIFTS data'!K64,LEN('[1]GIFTS data'!K64)-3)","v":"Small Grants Programme"},{"$f":"'[1]Transformation sheet'!$B$8","v":"GB-CHC-274100"},{"$f":"'[1]Transformation sheet'!$B$9","v":"The Clothworkers Foundation"},"https://www.clothworkersfoundation.org.uk/",{"$f":"'[1]Transformation sheet'!$B$11","v":"2019-05-31"},{"$f":"IF(OR('[1]GIFTS data'!K64=\"4. Proactive Programme\",'[1]GIFTS data'!K64=\"3. Regular Grants Programme\"),\"Revenue\",\"Capital\")","v":"Capital"}]
[{"$f":"CONCATENATE('[1]Transformation sheet'!$B$1,'[1]GIFTS data'!A65)","v":"360G-ClothworkersFdn-201700896"},{"$f":"'[1]GIFTS data'!A65","v":201700896},{"$f":"CONCATENATE(\"Grant to \",'[1]GIFTS data'!F65)","v":"Grant to Community Asset Project"},{"$f":"'[1]GIFTS data'!B65","v":"purchase of bicycles and helmets for a charity which works with disadvantaged young people in Glasgow"},{"$f":"'[1]Transformation sheet'!$B$2","v":"GBP"},{"$f":"'[1]GIFTS data'!C65","v":9000},{"$f":"'[1]GIFTS data'!D65","v":"2018-11-02"},{"$f":"IF(LEFT('[1]GIFTS data'!G65,3)=\"SC0\",\"GB-SC-\"&'[1]GIFTS data'!G65,IF(LEN('[1]GIFTS data'!G65)=8,\"GB-COH-\"&'[1]GIFTS data'!G65,IF(LEFT('[1]GIFTS data'!G65,1)=\"X\",\"GB-REV-\"&'[1]GIFTS data'!G65,IF(AND(LEN('[1]GIFTS data'!G65)=7,LEFT('[1]GIFTS data'!G65,1)=\"1\"),\"GB-CHC-\"&'[1]GIFTS data'!G65,IF(LEN('[1]GIFTS data'!G65)=7,\"GB-COH-0\"&'[1]GIFTS data'!G65,IF(LEFT('[1]GIFTS data'!G65,3)=\"NIC\",\"GB-NIC-\"&RIGHT('[1]GIFTS data'!G65,LEN('[1]GIFTS data'!G65)-3),IF(LEN('[1]GIFTS data'!G65)=6,\"GB-CHC-\"&'[1]GIFTS data'!G65,'[1]Transformation sheet'!$B$3&'[1]GIFTS data'!E65)))))))","v":"GB-SC-SC045758"},{"$f":"'[1]GIFTS data'!F65","v":"Community Asset Project"},{"$f":"'[1]GIFTS data'!G65","v":"SC045758"},{"$f":"'[1]GIFTS data'!J65","v":"Glasgow"},{"$f":"'[1]GIFTS data'!I65","v":"G1 4DF"},{"$f":"'[1]GIFTS data'!H65","v":"Scotland"},{"$f":"IF(OR('[1]GIFTS data'!K65=\"4. Proactive Programme\",'[1]GIFTS data'!K65=\"3. Regular Grants Programme\"),\"No\",\"Yes\")","v":"Yes"},{"$f":"RIGHT('[1]GIFTS data'!K65,LEN('[1]GIFTS data'!K65)-3)","v":"Small Grants Programme"},{"$f":"'[1]Transformation sheet'!$B$8","v":"GB-CHC-274100"},{"$f":"'[1]Transformation sheet'!$B$9","v":"The Clothworkers Foundation"},"https://www.clothworkersfoundation.org.uk/",{"$f":"'[1]Transformation sheet'!$B$11","v":"2019-05-31"},{"$f":"IF(OR('[1]GIFTS data'!K65=\"4. Proactive Programme\",'[1]GIFTS data'!K65=\"3. Regular Grants Programme\"),\"Revenue\",\"Capital\")","v":"Capital"}]
[{"$f":"CONCATENATE('[1]Transformation sheet'!$B$1,'[1]GIFTS data'!A66)","v":"360G-ClothworkersFdn-201700493"},{"$f":"'[1]GIFTS data'!A66","v":201700493},{"$f":"CONCATENATE(\"Grant to \",'[1]GIFTS data'!F66)","v":"Grant to Compaid Trust"},{"$f":"'[1]GIFTS data'!B66","v":"minibus for a charity which works with disabled people in Kent"},{"$f":"'[1]Transformation sheet'!$B$2","v":"GBP"},{"$f":"'[1]GIFTS data'!C66","v":19000},{"$f":"'[1]GIFTS data'!D66","v":"2018-05-16"},{"$f":"IF(LEFT('[1]GIFTS data'!G66,3)=\"SC0\",\"GB-SC-\"&'[1]GIFTS data'!G66,IF(LEN('[1]GIFTS data'!G66)=8,\"GB-COH-\"&'[1]GIFTS data'!G66,IF(LEFT('[1]GIFTS data'!G66,1)=\"X\",\"GB-REV-\"&'[1]GIFTS data'!G66,IF(AND(LEN('[1]GIFTS data'!G66)=7,LEFT('[1]GIFTS data'!G66,1)=\"1\"),\"GB-CHC-\"&'[1]GIFTS data'!G66,IF(LEN('[1]GIFTS data'!G66)=7,\"GB-COH-0\"&'[1]GIFTS data'!G66,IF(LEFT('[1]GIFTS data'!G66,3)=\"NIC\",\"GB-NIC-\"&RIGHT('[1]GIFTS data'!G66,LEN('[1]GIFTS data'!G66)-3),IF(LEN('[1]GIFTS data'!G66)=6,\"GB-CHC-\"&'[1]GIFTS data'!G66,'[1]Transformation sheet'!$B$3&'[1]GIFTS data'!E66)))))))","v":"GB-CHC-1064160"},{"$f":"'[1]GIFTS data'!F66","v":"Compaid Trust"},{"$f":"'[1]GIFTS data'!G66","v":1064160},{"$f":"'[1]GIFTS data'!J66","v":"Paddock Wood"},{"$f":"'[1]GIFTS data'!I66","v":"TN12 6BU"},{"$f":"'[1]GIFTS data'!H66","v":"South East"},{"$f":"IF(OR('[1]GIFTS data'!K66=\"4. Proactive Programme\",'[1]GIFTS data'!K66=\"3. Regular Grants Programme\"),\"No\",\"Yes\")","v":"Yes"},{"$f":"RIGHT('[1]GIFTS data'!K66,LEN('[1]GIFTS data'!K66)-3)","v":"Main Grants Programme"},{"$f":"'[1]Transformation sheet'!$B$8","v":"GB-CHC-274100"},{"$f":"'[1]Transformation sheet'!$B$9","v":"The Clothworkers Foundation"},"https://www.clothworkersfoundation.org.uk/",{"$f":"'[1]Transformation sheet'!$B$11","v":"2019-05-31"},{"$f":"IF(OR('[1]GIFTS data'!K66=\"4. Proactive Programme\",'[1]GIFTS data'!K66=\"3. Regular Grants Programme\"),\"Revenue\",\"Capital\")","v":"Capital"}]
[{"$f":"CONCATENATE('[1]Transformation sheet'!$B$1,'[1]GIFTS data'!A67)","v":"360G-ClothworkersFdn-201700572"},{"$f":"'[1]GIFTS data'!A67","v":201700572},{"$f":"CONCATENATE(\"Grant to \",'[1]GIFTS data'!F67)","v":"Grant to Compass Disability Service"},{"$f":"'[1]GIFTS data'!B67","v":"construction of a commercial kitchen and training suite for a charity which works with disabled people in Somerset"},{"$f":"'[1]Transformation sheet'!$B$2","v":"GBP"},{"$f":"'[1]GIFTS data'!C67","v":20000},{"$f":"'[1]GIFTS data'!D67","v":"2018-05-16"},{"$f":"IF(LEFT('[1]GIFTS data'!G67,3)=\"SC0\",\"GB-SC-\"&'[1]GIFTS data'!G67,IF(LEN('[1]GIFTS data'!G67)=8,\"GB-COH-\"&'[1]GIFTS data'!G67,IF(LEFT('[1]GIFTS data'!G67,1)=\"X\",\"GB-REV-\"&'[1]GIFTS data'!G67,IF(AND(LEN('[1]GIFTS data'!G67)=7,LEFT('[1]GIFTS data'!G67,1)=\"1\"),\"GB-CHC-\"&'[1]GIFTS data'!G67,IF(LEN('[1]GIFTS data'!G67)=7,\"GB-COH-0\"&'[1]GIFTS data'!G67,IF(LEFT('[1]GIFTS data'!G67,3)=\"NIC\",\"GB-NIC-\"&RIGHT('[1]GIFTS data'!G67,LEN('[1]GIFTS data'!G67)-3),IF(LEN('[1]GIFTS data'!G67)=6,\"GB-CHC-\"&'[1]GIFTS data'!G67,'[1]Transformation sheet'!$B$3&'[1]GIFTS data'!E67)))))))","v":"GB-CHC-1099376"},{"$f":"'[1]GIFTS data'!F67","v":"Compass Disability Service"},{"$f":"'[1]GIFTS data'!G67","v":1099376},{"$f":"'[1]GIFTS data'!J67","v":"Taunton"},{"$f":"'[1]GIFTS data'!I67","v":"TA1 1BH"},{"$f":"'[1]GIFTS data'!H67","v":"South West"},{"$f":"IF(OR('[1]GIFTS data'!K67=\"4. Proactive Programme\",'[1]GIFTS data'!K67=\"3. Regular Grants Programme\"),\"No\",\"Yes\")","v":"Yes"},{"$f":"RIGHT('[1]GIFTS data'!K67,LEN('[1]GIFTS data'!K67)-3)","v":"Main Grants Programme"},{"$f":"'[1]Transformation sheet'!$B$8","v":"GB-CHC-274100"},{"$f":"'[1]Transformation sheet'!$B$9","v":"The Clothworkers Foundation"},"https://www.clothworkersfoundation.org.uk/",{"$f":"'[1]Transformation sheet'!$B$11","v":"2019-05-31"},{"$f":"IF(OR('[1]GIFTS data'!K67=\"4. Proactive Programme\",'[1]GIFTS data'!K67=\"3. Regular Grants Programme\"),\"Revenue\",\"Capital\")","v":"Capital"}]
[{"$f":"CONCATENATE('[1]Transformation sheet'!$B$1,'[1]GIFTS data'!A68)","v":"360G-ClothworkersFdn-201700938"},{"$f":"'[1]GIFTS data'!A68","v":201700938},{"$f":"CONCATENATE(\"Grant to \",'[1]GIFTS data'!F68)","v":"Grant to Construct A Future"},{"$f":"'[1]GIFTS data'!B68","v":"purchase of a van for a charity which works with prisoners and ex-offenders in Kent"},{"$f":"'[1]Transformation sheet'!$B$2","v":"GBP"},{"$f":"'[1]GIFTS data'!C68","v":9500},{"$f":"'[1]GIFTS data'!D68","v":"2018-12-07"},{"$f":"IF(LEFT('[1]GIFTS data'!G68,3)=\"SC0\",\"GB-SC-\"&'[1]GIFTS data'!G68,IF(LEN('[1]GIFTS data'!G68)=8,\"GB-COH-\"&'[1]GIFTS data'!G68,IF(LEFT('[1]GIFTS data'!G68,1)=\"X\",\"GB-REV-\"&'[1]GIFTS data'!G68,IF(AND(LEN('[1]GIFTS data'!G68)=7,LEFT('[1]GIFTS data'!G68,1)=\"1\"),\"GB-CHC-\"&'[1]GIFTS data'!G68,IF(LEN('[1]GIFTS data'!G68)=7,\"GB-COH-0\"&'[1]GIFTS data'!G68,IF(LEFT('[1]GIFTS data'!G68,3)=\"NIC\",\"GB-NIC-\"&RIGHT('[1]GIFTS data'!G68,LEN('[1]GIFTS data'!G68)-3),IF(LEN('[1]GIFTS data'!G68)=6,\"GB-CHC-\"&'[1]GIFTS data'!G68,'[1]Transformation sheet'!$B$3&'[1]GIFTS data'!E68)))))))","v":"GB-CHC-1175615"},{"$f":"'[1]GIFTS data'!F68","v":"Construct A Future"},{"$f":"'[1]GIFTS data'!G68","v":1175615},{"$f":"'[1]GIFTS data'!J68","v":"Rochester"},{"$f":"'[1]GIFTS data'!I68","v":"ME1 3GA"},{"$f":"'[1]GIFTS data'!H68","v":"South East"},{"$f":"IF(OR('[1]GIFTS data'!K68=\"4. Proactive Programme\",'[1]GIFTS data'!K68=\"3. Regular Grants Programme\"),\"No\",\"Yes\")","v":"Yes"},{"$f":"RIGHT('[1]GIFTS data'!K68,LEN('[1]GIFTS data'!K68)-3)","v":"Small Grants Programme"},{"$f":"'[1]Transformation sheet'!$B$8","v":"GB-CHC-274100"},{"$f":"'[1]Transformation sheet'!$B$9","v":"The Clothworkers Foundation"},"https://www.clothworkersfoundation.org.uk/",{"$f":"'[1]Transformation sheet'!$B$11","v":"2019-05-31"},{"$f":"IF(OR('[1]GIFTS data'!K68=\"4. Proactive Programme\",'[1]GIFTS data'!K68=\"3. Regular Grants Programme\"),\"Revenue\",\"Capital\")","v":"Capital"}]
[{"$f":"CONCATENATE('[1]Transformation sheet'!$B$1,'[1]GIFTS data'!A69)","v":"360G-ClothworkersFdn-201700602"},{"$f":"'[1]GIFTS data'!A69","v":201700602},{"$f":"CONCATENATE(\"Grant to \",'[1]GIFTS data'!F69)","v":"Grant to Counselling Centre"},{"$f":"'[1]GIFTS data'!B69","v":"refurbishment of a counselling centre for a charity which works with disabled people in Kent"},{"$f":"'[1]Transformation sheet'!$B$2","v":"GBP"},{"$f":"'[1]GIFTS data'!C69","v":7050},{"$f":"'[1]GIFTS data'!D69","v":"2018-04-11"},{"$f":"IF(LEFT('[1]GIFTS data'!G69,3)=\"SC0\",\"GB-SC-\"&'[1]GIFTS data'!G69,IF(LEN('[1]GIFTS data'!G69)=8,\"GB-COH-\"&'[1]GIFTS data'!G69,IF(LEFT('[1]GIFTS data'!G69,1)=\"X\",\"GB-REV-\"&'[1]GIFTS data'!G69,IF(AND(LEN('[1]GIFTS data'!G69)=7,LEFT('[1]GIFTS data'!G69,1)=\"1\"),\"GB-CHC-\"&'[1]GIFTS data'!G69,IF(LEN('[1]GIFTS data'!G69)=7,\"GB-COH-0\"&'[1]GIFTS data'!G69,IF(LEFT('[1]GIFTS data'!G69,3)=\"NIC\",\"GB-NIC-\"&RIGHT('[1]GIFTS data'!G69,LEN('[1]GIFTS data'!G69)-3),IF(LEN('[1]GIFTS data'!G69)=6,\"GB-CHC-\"&'[1]GIFTS data'!G69,'[1]Transformation sheet'!$B$3&'[1]GIFTS data'!E69)))))))","v":"GB-CHC-1039911"},{"$f":"'[1]GIFTS data'!F69","v":"Counselling Centre"},{"$f":"'[1]GIFTS data'!G69","v":1039911},{"$f":"'[1]GIFTS data'!J69","v":"Tunbridge Wells"},{"$f":"'[1]GIFTS data'!I69","v":"TN4 9LP"},{"$f":"'[1]GIFTS data'!H69","v":"South East"},{"$f":"IF(OR('[1]GIFTS data'!K69=\"4. Proactive Programme\",'[1]GIFTS data'!K69=\"3. Regular Grants Programme\"),\"No\",\"Yes\")","v":"Yes"},{"$f":"RIGHT('[1]GIFTS data'!K69,LEN('[1]GIFTS data'!K69)-3)","v":"Small Grants Programme"},{"$f":"'[1]Transformation sheet'!$B$8","v":"GB-CHC-274100"},{"$f":"'[1]Transformation sheet'!$B$9","v":"The Clothworkers Foundation"},"https://www.clothworkersfoundation.org.uk/",{"$f":"'[1]Transformation sheet'!$B$11","v":"2019-05-31"},{"$f":"IF(OR('[1]GIFTS data'!K69=\"4. Proactive Programme\",'[1]GIFTS data'!K69=\"3. Regular Grants Programme\"),\"Revenue\",\"Capital\")","v":"Capital"}]
[{"$f":"CONCATENATE('[1]Transformation sheet'!$B$1,'[1]GIFTS data'!A70)","v":"360G-ClothworkersFdn-201700781"},{"$f":"'[1]GIFTS data'!A70","v":201700781},{"$f":"CONCATENATE(\"Grant to \",'[1]GIFTS data'!F70)","v":"Grant to Creating Ground"},{"$f":"'[1]GIFTS data'!B70","v":"purchase of IT and audio visual equipment for a charity which works with disadvantaged minority communtities in South London"},{"$f":"'[1]Transformation sheet'!$B$2","v":"GBP"},{"$f":"'[1]GIFTS data'!C70","v":3600},{"$f":"'[1]GIFTS data'!D70","v":"2018-08-31"},{"$f":"IF(LEFT('[1]GIFTS data'!G70,3)=\"SC0\",\"GB-SC-\"&'[1]GIFTS data'!G70,IF(LEN('[1]GIFTS data'!G70)=8,\"GB-COH-\"&'[1]GIFTS data'!G70,IF(LEFT('[1]GIFTS data'!G70,1)=\"X\",\"GB-REV-\"&'[1]GIFTS data'!G70,IF(AND(LEN('[1]GIFTS data'!G70)=7,LEFT('[1]GIFTS data'!G70,1)=\"1\"),\"GB-CHC-\"&'[1]GIFTS data'!G70,IF(LEN('[1]GIFTS data'!G70)=7,\"GB-COH-0\"&'[1]GIFTS data'!G70,IF(LEFT('[1]GIFTS data'!G70,3)=\"NIC\",\"GB-NIC-\"&RIGHT('[1]GIFTS data'!G70,LEN('[1]GIFTS data'!G70)-3),IF(LEN('[1]GIFTS data'!G70)=6,\"GB-CHC-\"&'[1]GIFTS data'!G70,'[1]Transformation sheet'!$B$3&'[1]GIFTS data'!E70)))))))","v":"GB-COH-10158083"},{"$f":"'[1]GIFTS data'!F70","v":"Creating Ground"},{"$f":"'[1]GIFTS data'!G70","v":10158083},{"$f":"'[1]GIFTS data'!J70","v":"London"},{"$f":"'[1]GIFTS data'!I70","v":"SE10 8JA"},{"$f":"'[1]GIFTS data'!H70","v":"Greater London"},{"$f":"IF(OR('[1]GIFTS data'!K70=\"4. Proactive Programme\",'[1]GIFTS data'!K70=\"3. Regular Grants Programme\"),\"No\",\"Yes\")","v":"Yes"},{"$f":"RIGHT('[1]GIFTS data'!K70,LEN('[1]GIFTS data'!K70)-3)","v":"Small Grants Programme"},{"$f":"'[1]Transformation sheet'!$B$8","v":"GB-CHC-274100"},{"$f":"'[1]Transformation sheet'!$B$9","v":"The Clothworkers Foundation"},"https://www.clothworkersfoundation.org.uk/",{"$f":"'[1]Transformation sheet'!$B$11","v":"2019-05-31"},{"$f":"IF(OR('[1]GIFTS data'!K70=\"4. Proactive Programme\",'[1]GIFTS data'!K70=\"3. Regular Grants Programme\"),\"Revenue\",\"Capital\")","v":"Capital"}]
[{"$f":"CONCATENATE('[1]Transformation sheet'!$B$1,'[1]GIFTS data'!A71)","v":"360G-ClothworkersFdn-201700760"},{"$f":"'[1]GIFTS data'!A71","v":201700760},{"$f":"CONCATENATE(\"Grant to \",'[1]GIFTS data'!F71)","v":"Grant to Creative Space Team"},{"$f":"'[1]GIFTS data'!B71","v":"purchase of a van for a charity which works with disabled people in Liverpool"},{"$f":"'[1]Transformation sheet'!$B$2","v":"GBP"},{"$f":"'[1]GIFTS data'!C71","v":10000},{"$f":"'[1]GIFTS data'!D71","v":"2018-08-31"},{"$f":"IF(LEFT('[1]GIFTS data'!G71,3)=\"SC0\",\"GB-SC-\"&'[1]GIFTS data'!G71,IF(LEN('[1]GIFTS data'!G71)=8,\"GB-COH-\"&'[1]GIFTS data'!G71,IF(LEFT('[1]GIFTS data'!G71,1)=\"X\",\"GB-REV-\"&'[1]GIFTS data'!G71,IF(AND(LEN('[1]GIFTS data'!G71)=7,LEFT('[1]GIFTS data'!G71,1)=\"1\"),\"GB-CHC-\"&'[1]GIFTS data'!G71,IF(LEN('[1]GIFTS data'!G71)=7,\"GB-COH-0\"&'[1]GIFTS data'!G71,IF(LEFT('[1]GIFTS data'!G71,3)=\"NIC\",\"GB-NIC-\"&RIGHT('[1]GIFTS data'!G71,LEN('[1]GIFTS data'!G71)-3),IF(LEN('[1]GIFTS data'!G71)=6,\"GB-CHC-\"&'[1]GIFTS data'!G71,'[1]Transformation sheet'!$B$3&'[1]GIFTS data'!E71)))))))","v":"GB-CHC-1157040"},{"$f":"'[1]GIFTS data'!F71","v":"Creative Space Team"},{"$f":"'[1]GIFTS data'!G71","v":1157040},{"$f":"'[1]GIFTS data'!J71","v":"Liverpool"},{"$f":"'[1]GIFTS data'!I71","v":"L3 6DX"},{"$f":"'[1]GIFTS data'!H71","v":"North West"},{"$f":"IF(OR('[1]GIFTS data'!K71=\"4. Proactive Programme\",'[1]GIFTS data'!K71=\"3. Regular Grants Programme\"),\"No\",\"Yes\")","v":"Yes"},{"$f":"RIGHT('[1]GIFTS data'!K71,LEN('[1]GIFTS data'!K71)-3)","v":"Small Grants Programme"},{"$f":"'[1]Transformation sheet'!$B$8","v":"GB-CHC-274100"},{"$f":"'[1]Transformation sheet'!$B$9","v":"The Clothworkers Foundation"},"https://www.clothworkersfoundation.org.uk/",{"$f":"'[1]Transformation sheet'!$B$11","v":"2019-05-31"},{"$f":"IF(OR('[1]GIFTS data'!K71=\"4. Proactive Programme\",'[1]GIFTS data'!K71=\"3. Regular Grants Programme\"),\"Revenue\",\"Capital\")","v":"Capital"}]
[{"$f":"CONCATENATE('[1]Transformation sheet'!$B$1,'[1]GIFTS data'!A72)","v":"360G-ClothworkersFdn-201700881"},{"$f":"'[1]GIFTS data'!A72","v":201700881},{"$f":"CONCATENATE(\"Grant to \",'[1]GIFTS data'!F72)","v":"Grant to Crookston Community Group"},{"$f":"'[1]GIFTS data'!B72","v":"purchase of a van for a charity which works with disadvantaged minority communities in Glasgow"},{"$f":"'[1]Transformation sheet'!$B$2","v":"GBP"},{"$f":"'[1]GIFTS data'!C72","v":10000},{"$f":"'[1]GIFTS data'!D72","v":"2018-11-02"},{"$f":"IF(LEFT('[1]GIFTS data'!G72,3)=\"SC0\",\"GB-SC-\"&'[1]GIFTS data'!G72,IF(LEN('[1]GIFTS data'!G72)=8,\"GB-COH-\"&'[1]GIFTS data'!G72,IF(LEFT('[1]GIFTS data'!G72,1)=\"X\",\"GB-REV-\"&'[1]GIFTS data'!G72,IF(AND(LEN('[1]GIFTS data'!G72)=7,LEFT('[1]GIFTS data'!G72,1)=\"1\"),\"GB-CHC-\"&'[1]GIFTS data'!G72,IF(LEN('[1]GIFTS data'!G72)=7,\"GB-COH-0\"&'[1]GIFTS data'!G72,IF(LEFT('[1]GIFTS data'!G72,3)=\"NIC\",\"GB-NIC-\"&RIGHT('[1]GIFTS data'!G72,LEN('[1]GIFTS data'!G72)-3),IF(LEN('[1]GIFTS data'!G72)=6,\"GB-CHC-\"&'[1]GIFTS data'!G72,'[1]Transformation sheet'!$B$3&'[1]GIFTS data'!E72)))))))","v":"GB-SC-SC043162"},{"$f":"'[1]GIFTS data'!F72","v":"Crookston Community Group"},{"$f":"'[1]GIFTS data'!G72","v":"SC043162"},{"$f":"'[1]GIFTS data'!J72","v":"Glasgow"},{"$f":"'[1]GIFTS data'!I72","v":"G53 5TF"},{"$f":"'[1]GIFTS data'!H72","v":"Scotland"},{"$f":"IF(OR('[1]GIFTS data'!K72=\"4. Proactive Programme\",'[1]GIFTS data'!K72=\"3. Regular Grants Programme\"),\"No\",\"Yes\")","v":"Yes"},{"$f":"RIGHT('[1]GIFTS data'!K72,LEN('[1]GIFTS data'!K72)-3)","v":"Small Grants Programme"},{"$f":"'[1]Transformation sheet'!$B$8","v":"GB-CHC-274100"},{"$f":"'[1]Transformation sheet'!$B$9","v":"The Clothworkers Foundation"},"https://www.clothworkersfoundation.org.uk/",{"$f":"'[1]Transformation sheet'!$B$11","v":"2019-05-31"},{"$f":"IF(OR('[1]GIFTS data'!K72=\"4. Proactive Programme\",'[1]GIFTS data'!K72=\"3. Regular Grants Programme\"),\"Revenue\",\"Capital\")","v":"Capital"}]
[{"$f":"CONCATENATE('[1]Transformation sheet'!$B$1,'[1]GIFTS data'!A73)","v":"360G-ClothworkersFdn-201700353"},{"$f":"'[1]GIFTS data'!A73","v":201700353},{"$f":"CONCATENATE(\"Grant to \",'[1]GIFTS data'!F73)","v":"Grant to Croxteth Gems Community Association"},{"$f":"'[1]GIFTS data'!B73","v":"refurbishment of soft play and sensory room for a charity which works with disabled people in Liverpool"},{"$f":"'[1]Transformation sheet'!$B$2","v":"GBP"},{"$f":"'[1]GIFTS data'!C73","v":17400},{"$f":"'[1]GIFTS data'!D73","v":"2018-02-08"},{"$f":"IF(LEFT('[1]GIFTS data'!G73,3)=\"SC0\",\"GB-SC-\"&'[1]GIFTS data'!G73,IF(LEN('[1]GIFTS data'!G73)=8,\"GB-COH-\"&'[1]GIFTS data'!G73,IF(LEFT('[1]GIFTS data'!G73,1)=\"X\",\"GB-REV-\"&'[1]GIFTS data'!G73,IF(AND(LEN('[1]GIFTS data'!G73)=7,LEFT('[1]GIFTS data'!G73,1)=\"1\"),\"GB-CHC-\"&'[1]GIFTS data'!G73,IF(LEN('[1]GIFTS data'!G73)=7,\"GB-COH-0\"&'[1]GIFTS data'!G73,IF(LEFT('[1]GIFTS data'!G73,3)=\"NIC\",\"GB-NIC-\"&RIGHT('[1]GIFTS data'!G73,LEN('[1]GIFTS data'!G73)-3),IF(LEN('[1]GIFTS data'!G73)=6,\"GB-CHC-\"&'[1]GIFTS data'!G73,'[1]Transformation sheet'!$B$3&'[1]GIFTS data'!E73)))))))","v":"GB-CHC-1071179"},{"$f":"'[1]GIFTS data'!F73","v":"Croxteth Gems Community Association"},{"$f":"'[1]GIFTS data'!G73","v":1071179},{"$f":"'[1]GIFTS data'!J73","v":"Liverpool"},{"$f":"'[1]GIFTS data'!I73","v":"L11 4TR"},{"$f":"'[1]GIFTS data'!H73","v":"North West"},{"$f":"IF(OR('[1]GIFTS data'!K73=\"4. Proactive Programme\",'[1]GIFTS data'!K73=\"3. Regular Grants Programme\"),\"No\",\"Yes\")","v":"Yes"},{"$f":"RIGHT('[1]GIFTS data'!K73,LEN('[1]GIFTS data'!K73)-3)","v":"Main Grants Programme"},{"$f":"'[1]Transformation sheet'!$B$8","v":"GB-CHC-274100"},{"$f":"'[1]Transformation sheet'!$B$9","v":"The Clothworkers Foundation"},"https://www.clothworkersfoundation.org.uk/",{"$f":"'[1]Transformation sheet'!$B$11","v":"2019-05-31"},{"$f":"IF(OR('[1]GIFTS data'!K73=\"4. Proactive Programme\",'[1]GIFTS data'!K73=\"3. Regular Grants Programme\"),\"Revenue\",\"Capital\")","v":"Capital"}]
[{"$f":"CONCATENATE('[1]Transformation sheet'!$B$1,'[1]GIFTS data'!A74)","v":"360G-ClothworkersFdn-201700531"},{"$f":"'[1]GIFTS data'!A74","v":201700531},{"$f":"CONCATENATE(\"Grant to \",'[1]GIFTS data'!F74)","v":"Grant to Cumbria Wheelchair Sports Club"},{"$f":"'[1]GIFTS data'!B74","v":"purchase of a minibus for a charity which works with disabled people"},{"$f":"'[1]Transformation sheet'!$B$2","v":"GBP"},{"$f":"'[1]GIFTS data'!C74","v":15000},{"$f":"'[1]GIFTS data'!D74","v":"2018-03-02"},{"$f":"IF(LEFT('[1]GIFTS data'!G74,3)=\"SC0\",\"GB-SC-\"&'[1]GIFTS data'!G74,IF(LEN('[1]GIFTS data'!G74)=8,\"GB-COH-\"&'[1]GIFTS data'!G74,IF(LEFT('[1]GIFTS data'!G74,1)=\"X\",\"GB-REV-\"&'[1]GIFTS data'!G74,IF(AND(LEN('[1]GIFTS data'!G74)=7,LEFT('[1]GIFTS data'!G74,1)=\"1\"),\"GB-CHC-\"&'[1]GIFTS data'!G74,IF(LEN('[1]GIFTS data'!G74)=7,\"GB-COH-0\"&'[1]GIFTS data'!G74,IF(LEFT('[1]GIFTS data'!G74,3)=\"NIC\",\"GB-NIC-\"&RIGHT('[1]GIFTS data'!G74,LEN('[1]GIFTS data'!G74)-3),IF(LEN('[1]GIFTS data'!G74)=6,\"GB-CHC-\"&'[1]GIFTS data'!G74,'[1]Transformation sheet'!$B$3&'[1]GIFTS data'!E74)))))))","v":"GB-CHC-1144266"},{"$f":"'[1]GIFTS data'!F74","v":"Cumbria Wheelchair Sports Club"},{"$f":"'[1]GIFTS data'!G74","v":1144266},{"$f":"'[1]GIFTS data'!J74","v":"Carlisle"},{"$f":"'[1]GIFTS data'!I74","v":"CA3 9JT"},{"$f":"'[1]GIFTS data'!H74","v":"North West"},{"$f":"IF(OR('[1]GIFTS data'!K74=\"4. Proactive Programme\",'[1]GIFTS data'!K74=\"3. Regular Grants Programme\"),\"No\",\"Yes\")","v":"Yes"},{"$f":"RIGHT('[1]GIFTS data'!K74,LEN('[1]GIFTS data'!K74)-3)","v":"Small Grants Programme"},{"$f":"'[1]Transformation sheet'!$B$8","v":"GB-CHC-274100"},{"$f":"'[1]Transformation sheet'!$B$9","v":"The Clothworkers Foundation"},"https://www.clothworkersfoundation.org.uk/",{"$f":"'[1]Transformation sheet'!$B$11","v":"2019-05-31"},{"$f":"IF(OR('[1]GIFTS data'!K74=\"4. Proactive Programme\",'[1]GIFTS data'!K74=\"3. Regular Grants Programme\"),\"Revenue\",\"Capital\")","v":"Capital"}]
[{"$f":"CONCATENATE('[1]Transformation sheet'!$B$1,'[1]GIFTS data'!A75)","v":"360G-ClothworkersFdn-201700770"},{"$f":"'[1]GIFTS data'!A75","v":201700770},{"$f":"CONCATENATE(\"Grant to \",'[1]GIFTS data'!F75)","v":"Grant to Curious Monkey"},{"$f":"'[1]GIFTS data'!B75","v":"purchase of audio and visual equipment for a charity which works with disadvantaged young people in Newcastle upon Tyne"},{"$f":"'[1]Transformation sheet'!$B$2","v":"GBP"},{"$f":"'[1]GIFTS data'!C75","v":4900},{"$f":"'[1]GIFTS data'!D75","v":"2018-08-31"},{"$f":"IF(LEFT('[1]GIFTS data'!G75,3)=\"SC0\",\"GB-SC-\"&'[1]GIFTS data'!G75,IF(LEN('[1]GIFTS data'!G75)=8,\"GB-COH-\"&'[1]GIFTS data'!G75,IF(LEFT('[1]GIFTS data'!G75,1)=\"X\",\"GB-REV-\"&'[1]GIFTS data'!G75,IF(AND(LEN('[1]GIFTS data'!G75)=7,LEFT('[1]GIFTS data'!G75,1)=\"1\"),\"GB-CHC-\"&'[1]GIFTS data'!G75,IF(LEN('[1]GIFTS data'!G75)=7,\"GB-COH-0\"&'[1]GIFTS data'!G75,IF(LEFT('[1]GIFTS data'!G75,3)=\"NIC\",\"GB-NIC-\"&RIGHT('[1]GIFTS data'!G75,LEN('[1]GIFTS data'!G75)-3),IF(LEN('[1]GIFTS data'!G75)=6,\"GB-CHC-\"&'[1]GIFTS data'!G75,'[1]Transformation sheet'!$B$3&'[1]GIFTS data'!E75)))))))","v":"GB-CHC-1167703"},{"$f":"'[1]GIFTS data'!F75","v":"Curious Monkey"},{"$f":"'[1]GIFTS data'!G75","v":1167703},{"$f":"'[1]GIFTS data'!J75","v":"Newcastle upon Tyne"},{"$f":"'[1]GIFTS data'!I75","v":"NE1 6QE"},{"$f":"'[1]GIFTS data'!H75","v":"North East"},{"$f":"IF(OR('[1]GIFTS data'!K75=\"4. Proactive Programme\",'[1]GIFTS data'!K75=\"3. Regular Grants Programme\"),\"No\",\"Yes\")","v":"Yes"},{"$f":"RIGHT('[1]GIFTS data'!K75,LEN('[1]GIFTS data'!K75)-3)","v":"Small Grants Programme"},{"$f":"'[1]Transformation sheet'!$B$8","v":"GB-CHC-274100"},{"$f":"'[1]Transformation sheet'!$B$9","v":"The Clothworkers Foundation"},"https://www.clothworkersfoundation.org.uk/",{"$f":"'[1]Transformation sheet'!$B$11","v":"2019-05-31"},{"$f":"IF(OR('[1]GIFTS data'!K75=\"4. Proactive Programme\",'[1]GIFTS data'!K75=\"3. Regular Grants Programme\"),\"Revenue\",\"Capital\")","v":"Capital"}]
[{"$f":"CONCATENATE('[1]Transformation sheet'!$B$1,'[1]GIFTS data'!A76)","v":"360G-ClothworkersFdn-201700543"},{"$f":"'[1]GIFTS data'!A76","v":201700543},{"$f":"CONCATENATE(\"Grant to \",'[1]GIFTS data'!F76)","v":"Grant to Deaf Business Academy"},{"$f":"'[1]GIFTS data'!B76","v":"purchase of IT equipment for a charity which works with disabled people"},{"$f":"'[1]Transformation sheet'!$B$2","v":"GBP"},{"$f":"'[1]GIFTS data'!C76","v":2300},{"$f":"'[1]GIFTS data'!D76","v":"2018-03-02"},{"$f":"IF(LEFT('[1]GIFTS data'!G76,3)=\"SC0\",\"GB-SC-\"&'[1]GIFTS data'!G76,IF(LEN('[1]GIFTS data'!G76)=8,\"GB-COH-\"&'[1]GIFTS data'!G76,IF(LEFT('[1]GIFTS data'!G76,1)=\"X\",\"GB-REV-\"&'[1]GIFTS data'!G76,IF(AND(LEN('[1]GIFTS data'!G76)=7,LEFT('[1]GIFTS data'!G76,1)=\"1\"),\"GB-CHC-\"&'[1]GIFTS data'!G76,IF(LEN('[1]GIFTS data'!G76)=7,\"GB-COH-0\"&'[1]GIFTS data'!G76,IF(LEFT('[1]GIFTS data'!G76,3)=\"NIC\",\"GB-NIC-\"&RIGHT('[1]GIFTS data'!G76,LEN('[1]GIFTS data'!G76)-3),IF(LEN('[1]GIFTS data'!G76)=6,\"GB-CHC-\"&'[1]GIFTS data'!G76,'[1]Transformation sheet'!$B$3&'[1]GIFTS data'!E76)))))))","v":"GB-COH-09110764"},{"$f":"'[1]GIFTS data'!F76","v":"Deaf Business Academy"},{"$f":"'[1]GIFTS data'!G76","v":9110764},{"$f":"'[1]GIFTS data'!J76","v":"Preston"},{"$f":"'[1]GIFTS data'!I76","v":"PR1 3BY"},{"$f":"'[1]GIFTS data'!H76","v":"North West"},{"$f":"IF(OR('[1]GIFTS data'!K76=\"4. Proactive Programme\",'[1]GIFTS data'!K76=\"3. Regular Grants Programme\"),\"No\",\"Yes\")","v":"Yes"},{"$f":"RIGHT('[1]GIFTS data'!K76,LEN('[1]GIFTS data'!K76)-3)","v":"Small Grants Programme"},{"$f":"'[1]Transformation sheet'!$B$8","v":"GB-CHC-274100"},{"$f":"'[1]Transformation sheet'!$B$9","v":"The Clothworkers Foundation"},"https://www.clothworkersfoundation.org.uk/",{"$f":"'[1]Transformation sheet'!$B$11","v":"2019-05-31"},{"$f":"IF(OR('[1]GIFTS data'!K76=\"4. Proactive Programme\",'[1]GIFTS data'!K76=\"3. Regular Grants Programme\"),\"Revenue\",\"Capital\")","v":"Capital"}]
[{"$f":"CONCATENATE('[1]Transformation sheet'!$B$1,'[1]GIFTS data'!A77)","v":"360G-ClothworkersFdn-201700662"},{"$f":"'[1]GIFTS data'!A77","v":201700662},{"$f":"CONCATENATE(\"Grant to \",'[1]GIFTS data'!F77)","v":"Grant to Derwen College"},{"$f":"'[1]GIFTS data'!B77","v":"Hydrotherapy pool for a specialist residential college in Shropshire  that works with young people learning difficulties and disabilities"},{"$f":"'[1]Transformation sheet'!$B$2","v":"GBP"},{"$f":"'[1]GIFTS data'!C77","v":25000},{"$f":"'[1]GIFTS data'!D77","v":"2018-07-17"},{"$f":"IF(LEFT('[1]GIFTS data'!G77,3)=\"SC0\",\"GB-SC-\"&'[1]GIFTS data'!G77,IF(LEN('[1]GIFTS data'!G77)=8,\"GB-COH-\"&'[1]GIFTS data'!G77,IF(LEFT('[1]GIFTS data'!G77,1)=\"X\",\"GB-REV-\"&'[1]GIFTS data'!G77,IF(AND(LEN('[1]GIFTS data'!G77)=7,LEFT('[1]GIFTS data'!G77,1)=\"1\"),\"GB-CHC-\"&'[1]GIFTS data'!G77,IF(LEN('[1]GIFTS data'!G77)=7,\"GB-COH-0\"&'[1]GIFTS data'!G77,IF(LEFT('[1]GIFTS data'!G77,3)=\"NIC\",\"GB-NIC-\"&RIGHT('[1]GIFTS data'!G77,LEN('[1]GIFTS data'!G77)-3),IF(LEN('[1]GIFTS data'!G77)=6,\"GB-CHC-\"&'[1]GIFTS data'!G77,'[1]Transformation sheet'!$B$3&'[1]GIFTS data'!E77)))))))","v":"GB-CHC-1153280"},{"$f":"'[1]GIFTS data'!F77","v":"Derwen College"},{"$f":"'[1]GIFTS data'!G77","v":1153280},{"$f":"'[1]GIFTS data'!J77","v":"Oswestry"},{"$f":"'[1]GIFTS data'!I77","v":"SY11 3JA"},{"$f":"'[1]GIFTS data'!H77","v":"West Midlands"},{"$f":"IF(OR('[1]GIFTS data'!K77=\"4. Proactive Programme\",'[1]GIFTS data'!K77=\"3. Regular Grants Programme\"),\"No\",\"Yes\")","v":"Yes"},{"$f":"RIGHT('[1]GIFTS data'!K77,LEN('[1]GIFTS data'!K77)-3)","v":"Main Grants Programme"},{"$f":"'[1]Transformation sheet'!$B$8","v":"GB-CHC-274100"},{"$f":"'[1]Transformation sheet'!$B$9","v":"The Clothworkers Foundation"},"https://www.clothworkersfoundation.org.uk/",{"$f":"'[1]Transformation sheet'!$B$11","v":"2019-05-31"},{"$f":"IF(OR('[1]GIFTS data'!K77=\"4. Proactive Programme\",'[1]GIFTS data'!K77=\"3. Regular Grants Programme\"),\"Revenue\",\"Capital\")","v":"Capital"}]
[{"$f":"CONCATENATE('[1]Transformation sheet'!$B$1,'[1]GIFTS data'!A78)","v":"360G-ClothworkersFdn-201700681"},{"$f":"'[1]GIFTS data'!A78","v":201700681},{"$f":"CONCATENATE(\"Grant to \",'[1]GIFTS data'!F78)","v":"Grant to Devon Rape Crisis and Sexual Abuse Services"},{"$f":"'[1]GIFTS data'!B78","v":"refurbishment of counselling rooms for a charity which works with survivors of sexual and domestic violence in Devon"},{"$f":"'[1]Transformation sheet'!$B$2","v":"GBP"},{"$f":"'[1]GIFTS data'!C78","v":40000},{"$f":"'[1]GIFTS data'!D78","v":"2018-09-26"},{"$f":"IF(LEFT('[1]GIFTS data'!G78,3)=\"SC0\",\"GB-SC-\"&'[1]GIFTS data'!G78,IF(LEN('[1]GIFTS data'!G78)=8,\"GB-COH-\"&'[1]GIFTS data'!G78,IF(LEFT('[1]GIFTS data'!G78,1)=\"X\",\"GB-REV-\"&'[1]GIFTS data'!G78,IF(AND(LEN('[1]GIFTS data'!G78)=7,LEFT('[1]GIFTS data'!G78,1)=\"1\"),\"GB-CHC-\"&'[1]GIFTS data'!G78,IF(LEN('[1]GIFTS data'!G78)=7,\"GB-COH-0\"&'[1]GIFTS data'!G78,IF(LEFT('[1]GIFTS data'!G78,3)=\"NIC\",\"GB-NIC-\"&RIGHT('[1]GIFTS data'!G78,LEN('[1]GIFTS data'!G78)-3),IF(LEN('[1]GIFTS data'!G78)=6,\"GB-CHC-\"&'[1]GIFTS data'!G78,'[1]Transformation sheet'!$B$3&'[1]GIFTS data'!E78)))))))","v":"GB-CHC-1144548"},{"$f":"'[1]GIFTS data'!F78","v":"Devon Rape Crisis and Sexual Abuse Services"},{"$f":"'[1]GIFTS data'!G78","v":1144548},{"$f":"'[1]GIFTS data'!J78","v":"Exeter"},{"$f":"'[1]GIFTS data'!I78","v":"EX4 6RY"},{"$f":"'[1]GIFTS data'!H78","v":"South West"},{"$f":"IF(OR('[1]GIFTS data'!K78=\"4. Proactive Programme\",'[1]GIFTS data'!K78=\"3. Regular Grants Programme\"),\"No\",\"Yes\")","v":"Yes"},{"$f":"RIGHT('[1]GIFTS data'!K78,LEN('[1]GIFTS data'!K78)-3)","v":"Main Grants Programme"},{"$f":"'[1]Transformation sheet'!$B$8","v":"GB-CHC-274100"},{"$f":"'[1]Transformation sheet'!$B$9","v":"The Clothworkers Foundation"},"https://www.clothworkersfoundation.org.uk/",{"$f":"'[1]Transformation sheet'!$B$11","v":"2019-05-31"},{"$f":"IF(OR('[1]GIFTS data'!K78=\"4. Proactive Programme\",'[1]GIFTS data'!K78=\"3. Regular Grants Programme\"),\"Revenue\",\"Capital\")","v":"Capital"}]
[{"$f":"CONCATENATE('[1]Transformation sheet'!$B$1,'[1]GIFTS data'!A79)","v":"360G-ClothworkersFdn-201700470"},{"$f":"'[1]GIFTS data'!A79","v":201700470},{"$f":"CONCATENATE(\"Grant to \",'[1]GIFTS data'!F79)","v":"Grant to Disability Action in the Borough of Barnet"},{"$f":"'[1]GIFTS data'!B79","v":"purchase IT equipment for a charity which works with disabled people in London"},{"$f":"'[1]Transformation sheet'!$B$2","v":"GBP"},{"$f":"'[1]GIFTS data'!C79","v":4600},{"$f":"'[1]GIFTS data'!D79","v":"2018-03-01"},{"$f":"IF(LEFT('[1]GIFTS data'!G79,3)=\"SC0\",\"GB-SC-\"&'[1]GIFTS data'!G79,IF(LEN('[1]GIFTS data'!G79)=8,\"GB-COH-\"&'[1]GIFTS data'!G79,IF(LEFT('[1]GIFTS data'!G79,1)=\"X\",\"GB-REV-\"&'[1]GIFTS data'!G79,IF(AND(LEN('[1]GIFTS data'!G79)=7,LEFT('[1]GIFTS data'!G79,1)=\"1\"),\"GB-CHC-\"&'[1]GIFTS data'!G79,IF(LEN('[1]GIFTS data'!G79)=7,\"GB-COH-0\"&'[1]GIFTS data'!G79,IF(LEFT('[1]GIFTS data'!G79,3)=\"NIC\",\"GB-NIC-\"&RIGHT('[1]GIFTS data'!G79,LEN('[1]GIFTS data'!G79)-3),IF(LEN('[1]GIFTS data'!G79)=6,\"GB-CHC-\"&'[1]GIFTS data'!G79,'[1]Transformation sheet'!$B$3&'[1]GIFTS data'!E79)))))))","v":"GB-CHC-1011335"},{"$f":"'[1]GIFTS data'!F79","v":"Disability Action in the Borough of Barnet"},{"$f":"'[1]GIFTS data'!G79","v":1011335},{"$f":"'[1]GIFTS data'!J79","v":"LONDON"},{"$f":"'[1]GIFTS data'!I79","v":"NW7 2LF"},{"$f":"'[1]GIFTS data'!H79","v":"Greater London"},{"$f":"IF(OR('[1]GIFTS data'!K79=\"4. Proactive Programme\",'[1]GIFTS data'!K79=\"3. Regular Grants Programme\"),\"No\",\"Yes\")","v":"Yes"},{"$f":"RIGHT('[1]GIFTS data'!K79,LEN('[1]GIFTS data'!K79)-3)","v":"Small Grants Programme"},{"$f":"'[1]Transformation sheet'!$B$8","v":"GB-CHC-274100"},{"$f":"'[1]Transformation sheet'!$B$9","v":"The Clothworkers Foundation"},"https://www.clothworkersfoundation.org.uk/",{"$f":"'[1]Transformation sheet'!$B$11","v":"2019-05-31"},{"$f":"IF(OR('[1]GIFTS data'!K79=\"4. Proactive Programme\",'[1]GIFTS data'!K79=\"3. Regular Grants Programme\"),\"Revenue\",\"Capital\")","v":"Capital"}]
[{"$f":"CONCATENATE('[1]Transformation sheet'!$B$1,'[1]GIFTS data'!A80)","v":"360G-ClothworkersFdn-201700698"},{"$f":"'[1]GIFTS data'!A80","v":201700698},{"$f":"CONCATENATE(\"Grant to \",'[1]GIFTS data'!F80)","v":"Grant to Disability Challengers"},{"$f":"'[1]GIFTS data'!B80","v":"refurbishment of a youth centre for a charity which works with disabled people in Guildford"},{"$f":"'[1]Transformation sheet'!$B$2","v":"GBP"},{"$f":"'[1]GIFTS data'!C80","v":50000},{"$f":"'[1]GIFTS data'!D80","v":"2018-09-26"},{"$f":"IF(LEFT('[1]GIFTS data'!G80,3)=\"SC0\",\"GB-SC-\"&'[1]GIFTS data'!G80,IF(LEN('[1]GIFTS data'!G80)=8,\"GB-COH-\"&'[1]GIFTS data'!G80,IF(LEFT('[1]GIFTS data'!G80,1)=\"X\",\"GB-REV-\"&'[1]GIFTS data'!G80,IF(AND(LEN('[1]GIFTS data'!G80)=7,LEFT('[1]GIFTS data'!G80,1)=\"1\"),\"GB-CHC-\"&'[1]GIFTS data'!G80,IF(LEN('[1]GIFTS data'!G80)=7,\"GB-COH-0\"&'[1]GIFTS data'!G80,IF(LEFT('[1]GIFTS data'!G80,3)=\"NIC\",\"GB-NIC-\"&RIGHT('[1]GIFTS data'!G80,LEN('[1]GIFTS data'!G80)-3),IF(LEN('[1]GIFTS data'!G80)=6,\"GB-CHC-\"&'[1]GIFTS data'!G80,'[1]Transformation sheet'!$B$3&'[1]GIFTS data'!E80)))))))","v":"GB-CHC-1095134"},{"$f":"'[1]GIFTS data'!F80","v":"Disability Challengers"},{"$f":"'[1]GIFTS data'!G80","v":1095134},{"$f":"'[1]GIFTS data'!J80","v":"Guildford"},{"$f":"'[1]GIFTS data'!I80","v":"GU1 1TU"},{"$f":"'[1]GIFTS data'!H80","v":"South East"},{"$f":"IF(OR('[1]GIFTS data'!K80=\"4. Proactive Programme\",'[1]GIFTS data'!K80=\"3. Regular Grants Programme\"),\"No\",\"Yes\")","v":"Yes"},{"$f":"RIGHT('[1]GIFTS data'!K80,LEN('[1]GIFTS data'!K80)-3)","v":"Main Grants Programme"},{"$f":"'[1]Transformation sheet'!$B$8","v":"GB-CHC-274100"},{"$f":"'[1]Transformation sheet'!$B$9","v":"The Clothworkers Foundation"},"https://www.clothworkersfoundation.org.uk/",{"$f":"'[1]Transformation sheet'!$B$11","v":"2019-05-31"},{"$f":"IF(OR('[1]GIFTS data'!K80=\"4. Proactive Programme\",'[1]GIFTS data'!K80=\"3. Regular Grants Programme\"),\"Revenue\",\"Capital\")","v":"Capital"}]
[{"$f":"CONCATENATE('[1]Transformation sheet'!$B$1,'[1]GIFTS data'!A81)","v":"360G-ClothworkersFdn-201700436"},{"$f":"'[1]GIFTS data'!A81","v":201700436},{"$f":"CONCATENATE(\"Grant to \",'[1]GIFTS data'!F81)","v":"Grant to Disability Rights UK"},{"$f":"'[1]GIFTS data'!B81","v":"purchase of IT equipment for a charity which works with disabled people in London"},{"$f":"'[1]Transformation sheet'!$B$2","v":"GBP"},{"$f":"'[1]GIFTS data'!C81","v":15000},{"$f":"'[1]GIFTS data'!D81","v":"2018-05-16"},{"$f":"IF(LEFT('[1]GIFTS data'!G81,3)=\"SC0\",\"GB-SC-\"&'[1]GIFTS data'!G81,IF(LEN('[1]GIFTS data'!G81)=8,\"GB-COH-\"&'[1]GIFTS data'!G81,IF(LEFT('[1]GIFTS data'!G81,1)=\"X\",\"GB-REV-\"&'[1]GIFTS data'!G81,IF(AND(LEN('[1]GIFTS data'!G81)=7,LEFT('[1]GIFTS data'!G81,1)=\"1\"),\"GB-CHC-\"&'[1]GIFTS data'!G81,IF(LEN('[1]GIFTS data'!G81)=7,\"GB-COH-0\"&'[1]GIFTS data'!G81,IF(LEFT('[1]GIFTS data'!G81,3)=\"NIC\",\"GB-NIC-\"&RIGHT('[1]GIFTS data'!G81,LEN('[1]GIFTS data'!G81)-3),IF(LEN('[1]GIFTS data'!G81)=6,\"GB-CHC-\"&'[1]GIFTS data'!G81,'[1]Transformation sheet'!$B$3&'[1]GIFTS data'!E81)))))))","v":"GB-CHC-1138585"},{"$f":"'[1]GIFTS data'!F81","v":"Disability Rights UK"},{"$f":"'[1]GIFTS data'!G81","v":1138585},{"$f":"'[1]GIFTS data'!J81","v":"London"},{"$f":"'[1]GIFTS data'!I81","v":"N1 6AH"},{"$f":"'[1]GIFTS data'!H81","v":"Greater London"},{"$f":"IF(OR('[1]GIFTS data'!K81=\"4. Proactive Programme\",'[1]GIFTS data'!K81=\"3. Regular Grants Programme\"),\"No\",\"Yes\")","v":"Yes"},{"$f":"RIGHT('[1]GIFTS data'!K81,LEN('[1]GIFTS data'!K81)-3)","v":"Main Grants Programme"},{"$f":"'[1]Transformation sheet'!$B$8","v":"GB-CHC-274100"},{"$f":"'[1]Transformation sheet'!$B$9","v":"The Clothworkers Foundation"},"https://www.clothworkersfoundation.org.uk/",{"$f":"'[1]Transformation sheet'!$B$11","v":"2019-05-31"},{"$f":"IF(OR('[1]GIFTS data'!K81=\"4. Proactive Programme\",'[1]GIFTS data'!K81=\"3. Regular Grants Programme\"),\"Revenue\",\"Capital\")","v":"Capital"}]
[{"$f":"CONCATENATE('[1]Transformation sheet'!$B$1,'[1]GIFTS data'!A82)","v":"360G-ClothworkersFdn-201700587"},{"$f":"'[1]GIFTS data'!A82","v":201700587},{"$f":"CONCATENATE(\"Grant to \",'[1]GIFTS data'!F82)","v":"Grant to Diverse Abilities Plus"},{"$f":"'[1]GIFTS data'!B82","v":"refurbishment of a day centre for a charity which works with disabled people in Dorset"},{"$f":"'[1]Transformation sheet'!$B$2","v":"GBP"},{"$f":"'[1]GIFTS data'!C82","v":22000},{"$f":"'[1]GIFTS data'!D82","v":"2018-05-18"},{"$f":"IF(LEFT('[1]GIFTS data'!G82,3)=\"SC0\",\"GB-SC-\"&'[1]GIFTS data'!G82,IF(LEN('[1]GIFTS data'!G82)=8,\"GB-COH-\"&'[1]GIFTS data'!G82,IF(LEFT('[1]GIFTS data'!G82,1)=\"X\",\"GB-REV-\"&'[1]GIFTS data'!G82,IF(AND(LEN('[1]GIFTS data'!G82)=7,LEFT('[1]GIFTS data'!G82,1)=\"1\"),\"GB-CHC-\"&'[1]GIFTS data'!G82,IF(LEN('[1]GIFTS data'!G82)=7,\"GB-COH-0\"&'[1]GIFTS data'!G82,IF(LEFT('[1]GIFTS data'!G82,3)=\"NIC\",\"GB-NIC-\"&RIGHT('[1]GIFTS data'!G82,LEN('[1]GIFTS data'!G82)-3),IF(LEN('[1]GIFTS data'!G82)=6,\"GB-CHC-\"&'[1]GIFTS data'!G82,'[1]Transformation sheet'!$B$3&'[1]GIFTS data'!E82)))))))","v":"GB-CHC-282197"},{"$f":"'[1]GIFTS data'!F82","v":"Diverse Abilities Plus"},{"$f":"'[1]GIFTS data'!G82","v":282197},{"$f":"'[1]GIFTS data'!J82","v":"Poole"},{"$f":"'[1]GIFTS data'!I82","v":"BH12 4NZ"},{"$f":"'[1]GIFTS data'!H82","v":"South West"},{"$f":"IF(OR('[1]GIFTS data'!K82=\"4. Proactive Programme\",'[1]GIFTS data'!K82=\"3. Regular Grants Programme\"),\"No\",\"Yes\")","v":"Yes"},{"$f":"RIGHT('[1]GIFTS data'!K82,LEN('[1]GIFTS data'!K82)-3)","v":"Main Grants Programme"},{"$f":"'[1]Transformation sheet'!$B$8","v":"GB-CHC-274100"},{"$f":"'[1]Transformation sheet'!$B$9","v":"The Clothworkers Foundation"},"https://www.clothworkersfoundation.org.uk/",{"$f":"'[1]Transformation sheet'!$B$11","v":"2019-05-31"},{"$f":"IF(OR('[1]GIFTS data'!K82=\"4. Proactive Programme\",'[1]GIFTS data'!K82=\"3. Regular Grants Programme\"),\"Revenue\",\"Capital\")","v":"Capital"}]
[{"$f":"CONCATENATE('[1]Transformation sheet'!$B$1,'[1]GIFTS data'!A83)","v":"360G-ClothworkersFdn-201700727"},{"$f":"'[1]GIFTS data'!A83","v":201700727},{"$f":"CONCATENATE(\"Grant to \",'[1]GIFTS data'!F83)","v":"Grant to Domestic Violence Services"},{"$f":"'[1]GIFTS data'!B83","v":"purchase of ipads, sim cards and personal alarms for a charity which works with survivors of domestic or sexual violence in West Yorkshire"},{"$f":"'[1]Transformation sheet'!$B$2","v":"GBP"},{"$f":"'[1]GIFTS data'!C83","v":5800},{"$f":"'[1]GIFTS data'!D83","v":"2018-07-19"},{"$f":"IF(LEFT('[1]GIFTS data'!G83,3)=\"SC0\",\"GB-SC-\"&'[1]GIFTS data'!G83,IF(LEN('[1]GIFTS data'!G83)=8,\"GB-COH-\"&'[1]GIFTS data'!G83,IF(LEFT('[1]GIFTS data'!G83,1)=\"X\",\"GB-REV-\"&'[1]GIFTS data'!G83,IF(AND(LEN('[1]GIFTS data'!G83)=7,LEFT('[1]GIFTS data'!G83,1)=\"1\"),\"GB-CHC-\"&'[1]GIFTS data'!G83,IF(LEN('[1]GIFTS data'!G83)=7,\"GB-COH-0\"&'[1]GIFTS data'!G83,IF(LEFT('[1]GIFTS data'!G83,3)=\"NIC\",\"GB-NIC-\"&RIGHT('[1]GIFTS data'!G83,LEN('[1]GIFTS data'!G83)-3),IF(LEN('[1]GIFTS data'!G83)=6,\"GB-CHC-\"&'[1]GIFTS data'!G83,'[1]Transformation sheet'!$B$3&'[1]GIFTS data'!E83)))))))","v":"GB-CHC-1085520"},{"$f":"'[1]GIFTS data'!F83","v":"Domestic Violence Services"},{"$f":"'[1]GIFTS data'!G83","v":1085520},{"$f":"'[1]GIFTS data'!J83","v":"Keighley"},{"$f":"'[1]GIFTS data'!I83","v":"BD21 2UD"},{"$f":"'[1]GIFTS data'!H83","v":"Yorks & Humberside"},{"$f":"IF(OR('[1]GIFTS data'!K83=\"4. Proactive Programme\",'[1]GIFTS data'!K83=\"3. Regular Grants Programme\"),\"No\",\"Yes\")","v":"Yes"},{"$f":"RIGHT('[1]GIFTS data'!K83,LEN('[1]GIFTS data'!K83)-3)","v":"Small Grants Programme"},{"$f":"'[1]Transformation sheet'!$B$8","v":"GB-CHC-274100"},{"$f":"'[1]Transformation sheet'!$B$9","v":"The Clothworkers Foundation"},"https://www.clothworkersfoundation.org.uk/",{"$f":"'[1]Transformation sheet'!$B$11","v":"2019-05-31"},{"$f":"IF(OR('[1]GIFTS data'!K83=\"4. Proactive Programme\",'[1]GIFTS data'!K83=\"3. Regular Grants Programme\"),\"Revenue\",\"Capital\")","v":"Capital"}]
[{"$f":"CONCATENATE('[1]Transformation sheet'!$B$1,'[1]GIFTS data'!A84)","v":"360G-ClothworkersFdn-201700960"},{"$f":"'[1]GIFTS data'!A84","v":201700960},{"$f":"CONCATENATE(\"Grant to \",'[1]GIFTS data'!F84)","v":"Grant to East and Central Sutherland Citizens Advice Bureau"},{"$f":"'[1]GIFTS data'!B84","v":"installation of an accessible toilet and new carpets for a charity which works with people with disabilities in Sutherland"},{"$f":"'[1]Transformation sheet'!$B$2","v":"GBP"},{"$f":"'[1]GIFTS data'!C84","v":9800},{"$f":"'[1]GIFTS data'!D84","v":"2018-12-07"},{"$f":"IF(LEFT('[1]GIFTS data'!G84,3)=\"SC0\",\"GB-SC-\"&'[1]GIFTS data'!G84,IF(LEN('[1]GIFTS data'!G84)=8,\"GB-COH-\"&'[1]GIFTS data'!G84,IF(LEFT('[1]GIFTS data'!G84,1)=\"X\",\"GB-REV-\"&'[1]GIFTS data'!G84,IF(AND(LEN('[1]GIFTS data'!G84)=7,LEFT('[1]GIFTS data'!G84,1)=\"1\"),\"GB-CHC-\"&'[1]GIFTS data'!G84,IF(LEN('[1]GIFTS data'!G84)=7,\"GB-COH-0\"&'[1]GIFTS data'!G84,IF(LEFT('[1]GIFTS data'!G84,3)=\"NIC\",\"GB-NIC-\"&RIGHT('[1]GIFTS data'!G84,LEN('[1]GIFTS data'!G84)-3),IF(LEN('[1]GIFTS data'!G84)=6,\"GB-CHC-\"&'[1]GIFTS data'!G84,'[1]Transformation sheet'!$B$3&'[1]GIFTS data'!E84)))))))","v":"GB-SC-SC039847"},{"$f":"'[1]GIFTS data'!F84","v":"East and Central Sutherland Citizens Advice Bureau"},{"$f":"'[1]GIFTS data'!G84","v":"SC039847"},{"$f":"'[1]GIFTS data'!J84","v":"Golspie"},{"$f":"'[1]GIFTS data'!I84","v":"KW10 6SN"},{"$f":"'[1]GIFTS data'!H84","v":"Scotland"},{"$f":"IF(OR('[1]GIFTS data'!K84=\"4. Proactive Programme\",'[1]GIFTS data'!K84=\"3. Regular Grants Programme\"),\"No\",\"Yes\")","v":"Yes"},{"$f":"RIGHT('[1]GIFTS data'!K84,LEN('[1]GIFTS data'!K84)-3)","v":"Small Grants Programme"},{"$f":"'[1]Transformation sheet'!$B$8","v":"GB-CHC-274100"},{"$f":"'[1]Transformation sheet'!$B$9","v":"The Clothworkers Foundation"},"https://www.clothworkersfoundation.org.uk/",{"$f":"'[1]Transformation sheet'!$B$11","v":"2019-05-31"},{"$f":"IF(OR('[1]GIFTS data'!K84=\"4. Proactive Programme\",'[1]GIFTS data'!K84=\"3. Regular Grants Programme\"),\"Revenue\",\"Capital\")","v":"Capital"}]
[{"$f":"CONCATENATE('[1]Transformation sheet'!$B$1,'[1]GIFTS data'!A85)","v":"360G-ClothworkersFdn-201700585"},{"$f":"'[1]GIFTS data'!A85","v":201700585},{"$f":"CONCATENATE(\"Grant to \",'[1]GIFTS data'!F85)","v":"Grant to Easton Community Centre"},{"$f":"'[1]GIFTS data'!B85","v":"refurbishment of facilities and purchase of IT equipment for a charity which works with disadvantaged minority communities in Bristol"},{"$f":"'[1]Transformation sheet'!$B$2","v":"GBP"},{"$f":"'[1]GIFTS data'!C85","v":10000},{"$f":"'[1]GIFTS data'!D85","v":"2018-04-11"},{"$f":"IF(LEFT('[1]GIFTS data'!G85,3)=\"SC0\",\"GB-SC-\"&'[1]GIFTS data'!G85,IF(LEN('[1]GIFTS data'!G85)=8,\"GB-COH-\"&'[1]GIFTS data'!G85,IF(LEFT('[1]GIFTS data'!G85,1)=\"X\",\"GB-REV-\"&'[1]GIFTS data'!G85,IF(AND(LEN('[1]GIFTS data'!G85)=7,LEFT('[1]GIFTS data'!G85,1)=\"1\"),\"GB-CHC-\"&'[1]GIFTS data'!G85,IF(LEN('[1]GIFTS data'!G85)=7,\"GB-COH-0\"&'[1]GIFTS data'!G85,IF(LEFT('[1]GIFTS data'!G85,3)=\"NIC\",\"GB-NIC-\"&RIGHT('[1]GIFTS data'!G85,LEN('[1]GIFTS data'!G85)-3),IF(LEN('[1]GIFTS data'!G85)=6,\"GB-CHC-\"&'[1]GIFTS data'!G85,'[1]Transformation sheet'!$B$3&'[1]GIFTS data'!E85)))))))","v":"GB-CHC-1151133"},{"$f":"'[1]GIFTS data'!F85","v":"Easton Community Centre"},{"$f":"'[1]GIFTS data'!G85","v":1151133},{"$f":"'[1]GIFTS data'!J85","v":"Bristol"},{"$f":"'[1]GIFTS data'!I85","v":"BS5 6AW"},{"$f":"'[1]GIFTS data'!H85","v":"South West"},{"$f":"IF(OR('[1]GIFTS data'!K85=\"4. Proactive Programme\",'[1]GIFTS data'!K85=\"3. Regular Grants Programme\"),\"No\",\"Yes\")","v":"Yes"},{"$f":"RIGHT('[1]GIFTS data'!K85,LEN('[1]GIFTS data'!K85)-3)","v":"Small Grants Programme"},{"$f":"'[1]Transformation sheet'!$B$8","v":"GB-CHC-274100"},{"$f":"'[1]Transformation sheet'!$B$9","v":"The Clothworkers Foundation"},"https://www.clothworkersfoundation.org.uk/",{"$f":"'[1]Transformation sheet'!$B$11","v":"2019-05-31"},{"$f":"IF(OR('[1]GIFTS data'!K85=\"4. Proactive Programme\",'[1]GIFTS data'!K85=\"3. Regular Grants Programme\"),\"Revenue\",\"Capital\")","v":"Capital"}]
[{"$f":"CONCATENATE('[1]Transformation sheet'!$B$1,'[1]GIFTS data'!A86)","v":"360G-ClothworkersFdn-201700663"},{"$f":"'[1]GIFTS data'!A86","v":201700663},{"$f":"CONCATENATE(\"Grant to \",'[1]GIFTS data'!F86)","v":"Grant to Elizabeth Fry Home"},{"$f":"'[1]GIFTS data'!B86","v":"refurbishment of a hostel kitchen for a charity which works with ex-offenders in Berkshire"},{"$f":"'[1]Transformation sheet'!$B$2","v":"GBP"},{"$f":"'[1]GIFTS data'!C86","v":25000},{"$f":"'[1]GIFTS data'!D86","v":"2018-07-17"},{"$f":"IF(LEFT('[1]GIFTS data'!G86,3)=\"SC0\",\"GB-SC-\"&'[1]GIFTS data'!G86,IF(LEN('[1]GIFTS data'!G86)=8,\"GB-COH-\"&'[1]GIFTS data'!G86,IF(LEFT('[1]GIFTS data'!G86,1)=\"X\",\"GB-REV-\"&'[1]GIFTS data'!G86,IF(AND(LEN('[1]GIFTS data'!G86)=7,LEFT('[1]GIFTS data'!G86,1)=\"1\"),\"GB-CHC-\"&'[1]GIFTS data'!G86,IF(LEN('[1]GIFTS data'!G86)=7,\"GB-COH-0\"&'[1]GIFTS data'!G86,IF(LEFT('[1]GIFTS data'!G86,3)=\"NIC\",\"GB-NIC-\"&RIGHT('[1]GIFTS data'!G86,LEN('[1]GIFTS data'!G86)-3),IF(LEN('[1]GIFTS data'!G86)=6,\"GB-CHC-\"&'[1]GIFTS data'!G86,'[1]Transformation sheet'!$B$3&'[1]GIFTS data'!E86)))))))","v":"GB-CHC-1152840"},{"$f":"'[1]GIFTS data'!F86","v":"Elizabeth Fry Home"},{"$f":"'[1]GIFTS data'!G86","v":1152840},{"$f":"'[1]GIFTS data'!J86","v":"Reading"},{"$f":"'[1]GIFTS data'!I86","v":"RG1 6LQ"},{"$f":"'[1]GIFTS data'!H86","v":"South East"},{"$f":"IF(OR('[1]GIFTS data'!K86=\"4. Proactive Programme\",'[1]GIFTS data'!K86=\"3. Regular Grants Programme\"),\"No\",\"Yes\")","v":"Yes"},{"$f":"RIGHT('[1]GIFTS data'!K86,LEN('[1]GIFTS data'!K86)-3)","v":"Main Grants Programme"},{"$f":"'[1]Transformation sheet'!$B$8","v":"GB-CHC-274100"},{"$f":"'[1]Transformation sheet'!$B$9","v":"The Clothworkers Foundation"},"https://www.clothworkersfoundation.org.uk/",{"$f":"'[1]Transformation sheet'!$B$11","v":"2019-05-31"},{"$f":"IF(OR('[1]GIFTS data'!K86=\"4. Proactive Programme\",'[1]GIFTS data'!K86=\"3. Regular Grants Programme\"),\"Revenue\",\"Capital\")","v":"Capital"}]
[{"$f":"CONCATENATE('[1]Transformation sheet'!$B$1,'[1]GIFTS data'!A87)","v":"360G-ClothworkersFdn-201700767"},{"$f":"'[1]GIFTS data'!A87","v":201700767},{"$f":"CONCATENATE(\"Grant to \",'[1]GIFTS data'!F87)","v":"Grant to Emmaus Coventry and Warwickshire"},{"$f":"'[1]GIFTS data'!B87","v":"purchase of a vehicle for a charity which works with homeless people in Coventry"},{"$f":"'[1]Transformation sheet'!$B$2","v":"GBP"},{"$f":"'[1]GIFTS data'!C87","v":16000},{"$f":"'[1]GIFTS data'!D87","v":"2018-10-16"},{"$f":"IF(LEFT('[1]GIFTS data'!G87,3)=\"SC0\",\"GB-SC-\"&'[1]GIFTS data'!G87,IF(LEN('[1]GIFTS data'!G87)=8,\"GB-COH-\"&'[1]GIFTS data'!G87,IF(LEFT('[1]GIFTS data'!G87,1)=\"X\",\"GB-REV-\"&'[1]GIFTS data'!G87,IF(AND(LEN('[1]GIFTS data'!G87)=7,LEFT('[1]GIFTS data'!G87,1)=\"1\"),\"GB-CHC-\"&'[1]GIFTS data'!G87,IF(LEN('[1]GIFTS data'!G87)=7,\"GB-COH-0\"&'[1]GIFTS data'!G87,IF(LEFT('[1]GIFTS data'!G87,3)=\"NIC\",\"GB-NIC-\"&RIGHT('[1]GIFTS data'!G87,LEN('[1]GIFTS data'!G87)-3),IF(LEN('[1]GIFTS data'!G87)=6,\"GB-CHC-\"&'[1]GIFTS data'!G87,'[1]Transformation sheet'!$B$3&'[1]GIFTS data'!E87)))))))","v":"GB-CHC-1064474"},{"$f":"'[1]GIFTS data'!F87","v":"Emmaus Coventry and Warwickshire"},{"$f":"'[1]GIFTS data'!G87","v":1064474},{"$f":"'[1]GIFTS data'!J87","v":"Coventry"},{"$f":"'[1]GIFTS data'!I87","v":"CV2 3DT"},{"$f":"'[1]GIFTS data'!H87","v":"West Midlands"},{"$f":"IF(OR('[1]GIFTS data'!K87=\"4. Proactive Programme\",'[1]GIFTS data'!K87=\"3. Regular Grants Programme\"),\"No\",\"Yes\")","v":"Yes"},{"$f":"RIGHT('[1]GIFTS data'!K87,LEN('[1]GIFTS data'!K87)-3)","v":"Main Grants Programme"},{"$f":"'[1]Transformation sheet'!$B$8","v":"GB-CHC-274100"},{"$f":"'[1]Transformation sheet'!$B$9","v":"The Clothworkers Foundation"},"https://www.clothworkersfoundation.org.uk/",{"$f":"'[1]Transformation sheet'!$B$11","v":"2019-05-31"},{"$f":"IF(OR('[1]GIFTS data'!K87=\"4. Proactive Programme\",'[1]GIFTS data'!K87=\"3. Regular Grants Programme\"),\"Revenue\",\"Capital\")","v":"Capital"}]
[{"$f":"CONCATENATE('[1]Transformation sheet'!$B$1,'[1]GIFTS data'!A88)","v":"360G-ClothworkersFdn-201700642"},{"$f":"'[1]GIFTS data'!A88","v":201700642},{"$f":"CONCATENATE(\"Grant to \",'[1]GIFTS data'!F88)","v":"Grant to Emmaus Preston"},{"$f":"'[1]GIFTS data'!B88","v":"purchase of a minibus for a charity which works with homeless people in Preston"},{"$f":"'[1]Transformation sheet'!$B$2","v":"GBP"},{"$f":"'[1]GIFTS data'!C88","v":9700},{"$f":"'[1]GIFTS data'!D88","v":"2018-05-04"},{"$f":"IF(LEFT('[1]GIFTS data'!G88,3)=\"SC0\",\"GB-SC-\"&'[1]GIFTS data'!G88,IF(LEN('[1]GIFTS data'!G88)=8,\"GB-COH-\"&'[1]GIFTS data'!G88,IF(LEFT('[1]GIFTS data'!G88,1)=\"X\",\"GB-REV-\"&'[1]GIFTS data'!G88,IF(AND(LEN('[1]GIFTS data'!G88)=7,LEFT('[1]GIFTS data'!G88,1)=\"1\"),\"GB-CHC-\"&'[1]GIFTS data'!G88,IF(LEN('[1]GIFTS data'!G88)=7,\"GB-COH-0\"&'[1]GIFTS data'!G88,IF(LEFT('[1]GIFTS data'!G88,3)=\"NIC\",\"GB-NIC-\"&RIGHT('[1]GIFTS data'!G88,LEN('[1]GIFTS data'!G88)-3),IF(LEN('[1]GIFTS data'!G88)=6,\"GB-CHC-\"&'[1]GIFTS data'!G88,'[1]Transformation sheet'!$B$3&'[1]GIFTS data'!E88)))))))","v":"GB-CHC-1073677"},{"$f":"'[1]GIFTS data'!F88","v":"Emmaus Preston"},{"$f":"'[1]GIFTS data'!G88","v":1073677},{"$f":"'[1]GIFTS data'!J88","v":"Preston"},{"$f":"'[1]GIFTS data'!I88","v":"PR1 5ST"},{"$f":"'[1]GIFTS data'!H88","v":"North West"},{"$f":"IF(OR('[1]GIFTS data'!K88=\"4. Proactive Programme\",'[1]GIFTS data'!K88=\"3. Regular Grants Programme\"),\"No\",\"Yes\")","v":"Yes"},{"$f":"RIGHT('[1]GIFTS data'!K88,LEN('[1]GIFTS data'!K88)-3)","v":"Small Grants Programme"},{"$f":"'[1]Transformation sheet'!$B$8","v":"GB-CHC-274100"},{"$f":"'[1]Transformation sheet'!$B$9","v":"The Clothworkers Foundation"},"https://www.clothworkersfoundation.org.uk/",{"$f":"'[1]Transformation sheet'!$B$11","v":"2019-05-31"},{"$f":"IF(OR('[1]GIFTS data'!K88=\"4. Proactive Programme\",'[1]GIFTS data'!K88=\"3. Regular Grants Programme\"),\"Revenue\",\"Capital\")","v":"Capital"}]
[{"$f":"CONCATENATE('[1]Transformation sheet'!$B$1,'[1]GIFTS data'!A89)","v":"360G-ClothworkersFdn-201700811"},{"$f":"'[1]GIFTS data'!A89","v":201700811},{"$f":"CONCATENATE(\"Grant to \",'[1]GIFTS data'!F89)","v":"Grant to Endeavour School Anchorage Association"},{"$f":"'[1]GIFTS data'!B89","v":"renovation of a playground for a charity which works with children with disabilities in Essex"},{"$f":"'[1]Transformation sheet'!$B$2","v":"GBP"},{"$f":"'[1]GIFTS data'!C89","v":10000},{"$f":"'[1]GIFTS data'!D89","v":"2018-08-31"},{"$f":"IF(LEFT('[1]GIFTS data'!G89,3)=\"SC0\",\"GB-SC-\"&'[1]GIFTS data'!G89,IF(LEN('[1]GIFTS data'!G89)=8,\"GB-COH-\"&'[1]GIFTS data'!G89,IF(LEFT('[1]GIFTS data'!G89,1)=\"X\",\"GB-REV-\"&'[1]GIFTS data'!G89,IF(AND(LEN('[1]GIFTS data'!G89)=7,LEFT('[1]GIFTS data'!G89,1)=\"1\"),\"GB-CHC-\"&'[1]GIFTS data'!G89,IF(LEN('[1]GIFTS data'!G89)=7,\"GB-COH-0\"&'[1]GIFTS data'!G89,IF(LEFT('[1]GIFTS data'!G89,3)=\"NIC\",\"GB-NIC-\"&RIGHT('[1]GIFTS data'!G89,LEN('[1]GIFTS data'!G89)-3),IF(LEN('[1]GIFTS data'!G89)=6,\"GB-CHC-\"&'[1]GIFTS data'!G89,'[1]Transformation sheet'!$B$3&'[1]GIFTS data'!E89)))))))","v":"GB-CHC-268679"},{"$f":"'[1]GIFTS data'!F89","v":"Endeavour School Anchorage Association"},{"$f":"'[1]GIFTS data'!G89","v":268679},{"$f":"'[1]GIFTS data'!J89","v":"Brentwood"},{"$f":"'[1]GIFTS data'!I89","v":"CM15 8BE"},{"$f":"'[1]GIFTS data'!H89","v":"East"},{"$f":"IF(OR('[1]GIFTS data'!K89=\"4. Proactive Programme\",'[1]GIFTS data'!K89=\"3. Regular Grants Programme\"),\"No\",\"Yes\")","v":"Yes"},{"$f":"RIGHT('[1]GIFTS data'!K89,LEN('[1]GIFTS data'!K89)-3)","v":"Small Grants Programme"},{"$f":"'[1]Transformation sheet'!$B$8","v":"GB-CHC-274100"},{"$f":"'[1]Transformation sheet'!$B$9","v":"The Clothworkers Foundation"},"https://www.clothworkersfoundation.org.uk/",{"$f":"'[1]Transformation sheet'!$B$11","v":"2019-05-31"},{"$f":"IF(OR('[1]GIFTS data'!K89=\"4. Proactive Programme\",'[1]GIFTS data'!K89=\"3. Regular Grants Programme\"),\"Revenue\",\"Capital\")","v":"Capital"}]
[{"$f":"CONCATENATE('[1]Transformation sheet'!$B$1,'[1]GIFTS data'!A90)","v":"360G-ClothworkersFdn-201700905"},{"$f":"'[1]GIFTS data'!A90","v":201700905},{"$f":"CONCATENATE(\"Grant to \",'[1]GIFTS data'!F90)","v":"Grant to EquATA"},{"$f":"'[1]GIFTS data'!B90","v":"construction of horse stables for a charity which works with people with disabilities in Northamptonshire"},{"$f":"'[1]Transformation sheet'!$B$2","v":"GBP"},{"$f":"'[1]GIFTS data'!C90","v":8600},{"$f":"'[1]GIFTS data'!D90","v":"2018-12-07"},{"$f":"IF(LEFT('[1]GIFTS data'!G90,3)=\"SC0\",\"GB-SC-\"&'[1]GIFTS data'!G90,IF(LEN('[1]GIFTS data'!G90)=8,\"GB-COH-\"&'[1]GIFTS data'!G90,IF(LEFT('[1]GIFTS data'!G90,1)=\"X\",\"GB-REV-\"&'[1]GIFTS data'!G90,IF(AND(LEN('[1]GIFTS data'!G90)=7,LEFT('[1]GIFTS data'!G90,1)=\"1\"),\"GB-CHC-\"&'[1]GIFTS data'!G90,IF(LEN('[1]GIFTS data'!G90)=7,\"GB-COH-0\"&'[1]GIFTS data'!G90,IF(LEFT('[1]GIFTS data'!G90,3)=\"NIC\",\"GB-NIC-\"&RIGHT('[1]GIFTS data'!G90,LEN('[1]GIFTS data'!G90)-3),IF(LEN('[1]GIFTS data'!G90)=6,\"GB-CHC-\"&'[1]GIFTS data'!G90,'[1]Transformation sheet'!$B$3&'[1]GIFTS data'!E90)))))))","v":"GB-CHC-1154908"},{"$f":"'[1]GIFTS data'!F90","v":"EquATA"},{"$f":"'[1]GIFTS data'!G90","v":1154908},{"$f":"'[1]GIFTS data'!J90","v":"Grafton Underwood"},{"$f":"'[1]GIFTS data'!I90","v":"NN14 3AE"},{"$f":"'[1]GIFTS data'!H90","v":"East Midlands"},{"$f":"IF(OR('[1]GIFTS data'!K90=\"4. Proactive Programme\",'[1]GIFTS data'!K90=\"3. Regular Grants Programme\"),\"No\",\"Yes\")","v":"Yes"},{"$f":"RIGHT('[1]GIFTS data'!K90,LEN('[1]GIFTS data'!K90)-3)","v":"Small Grants Programme"},{"$f":"'[1]Transformation sheet'!$B$8","v":"GB-CHC-274100"},{"$f":"'[1]Transformation sheet'!$B$9","v":"The Clothworkers Foundation"},"https://www.clothworkersfoundation.org.uk/",{"$f":"'[1]Transformation sheet'!$B$11","v":"2019-05-31"},{"$f":"IF(OR('[1]GIFTS data'!K90=\"4. Proactive Programme\",'[1]GIFTS data'!K90=\"3. Regular Grants Programme\"),\"Revenue\",\"Capital\")","v":"Capital"}]
[{"$f":"CONCATENATE('[1]Transformation sheet'!$B$1,'[1]GIFTS data'!A91)","v":"360G-ClothworkersFdn-201700850"},{"$f":"'[1]GIFTS data'!A91","v":201700850},{"$f":"CONCATENATE(\"Grant to \",'[1]GIFTS data'!F91)","v":"Grant to Ethel Trust"},{"$f":"'[1]GIFTS data'!B91","v":"refurbishment of toilets, carpet and lighting for a charity which works with people with disabilities in South Yorkshire"},{"$f":"'[1]Transformation sheet'!$B$2","v":"GBP"},{"$f":"'[1]GIFTS data'!C91","v":3000},{"$f":"'[1]GIFTS data'!D91","v":"2018-09-26"},{"$f":"IF(LEFT('[1]GIFTS data'!G91,3)=\"SC0\",\"GB-SC-\"&'[1]GIFTS data'!G91,IF(LEN('[1]GIFTS data'!G91)=8,\"GB-COH-\"&'[1]GIFTS data'!G91,IF(LEFT('[1]GIFTS data'!G91,1)=\"X\",\"GB-REV-\"&'[1]GIFTS data'!G91,IF(AND(LEN('[1]GIFTS data'!G91)=7,LEFT('[1]GIFTS data'!G91,1)=\"1\"),\"GB-CHC-\"&'[1]GIFTS data'!G91,IF(LEN('[1]GIFTS data'!G91)=7,\"GB-COH-0\"&'[1]GIFTS data'!G91,IF(LEFT('[1]GIFTS data'!G91,3)=\"NIC\",\"GB-NIC-\"&RIGHT('[1]GIFTS data'!G91,LEN('[1]GIFTS data'!G91)-3),IF(LEN('[1]GIFTS data'!G91)=6,\"GB-CHC-\"&'[1]GIFTS data'!G91,'[1]Transformation sheet'!$B$3&'[1]GIFTS data'!E91)))))))","v":"GB-CHC-700389"},{"$f":"'[1]GIFTS data'!F91","v":"Ethel Trust"},{"$f":"'[1]GIFTS data'!G91","v":700389},{"$f":"'[1]GIFTS data'!J91","v":"Sheffield"},{"$f":"'[1]GIFTS data'!I91","v":"S1 4FW"},{"$f":"'[1]GIFTS data'!H91","v":"Yorks & Humberside"},{"$f":"IF(OR('[1]GIFTS data'!K91=\"4. Proactive Programme\",'[1]GIFTS data'!K91=\"3. Regular Grants Programme\"),\"No\",\"Yes\")","v":"Yes"},{"$f":"RIGHT('[1]GIFTS data'!K91,LEN('[1]GIFTS data'!K91)-3)","v":"Small Grants Programme"},{"$f":"'[1]Transformation sheet'!$B$8","v":"GB-CHC-274100"},{"$f":"'[1]Transformation sheet'!$B$9","v":"The Clothworkers Foundation"},"https://www.clothworkersfoundation.org.uk/",{"$f":"'[1]Transformation sheet'!$B$11","v":"2019-05-31"},{"$f":"IF(OR('[1]GIFTS data'!K91=\"4. Proactive Programme\",'[1]GIFTS data'!K91=\"3. Regular Grants Programme\"),\"Revenue\",\"Capital\")","v":"Capital"}]
[{"$f":"CONCATENATE('[1]Transformation sheet'!$B$1,'[1]GIFTS data'!A92)","v":"360G-ClothworkersFdn-201700630"},{"$f":"'[1]GIFTS data'!A92","v":201700630},{"$f":"CONCATENATE(\"Grant to \",'[1]GIFTS data'!F92)","v":"Grant to EVA Women's Aid"},{"$f":"'[1]GIFTS data'!B92","v":"purchase of office premises for a charity which works with survivors of domestic and sexual violence in Redcar & Cleveland"},{"$f":"'[1]Transformation sheet'!$B$2","v":"GBP"},{"$f":"'[1]GIFTS data'!C92","v":50000},{"$f":"'[1]GIFTS data'!D92","v":"2018-06-28"},{"$f":"IF(LEFT('[1]GIFTS data'!G92,3)=\"SC0\",\"GB-SC-\"&'[1]GIFTS data'!G92,IF(LEN('[1]GIFTS data'!G92)=8,\"GB-COH-\"&'[1]GIFTS data'!G92,IF(LEFT('[1]GIFTS data'!G92,1)=\"X\",\"GB-REV-\"&'[1]GIFTS data'!G92,IF(AND(LEN('[1]GIFTS data'!G92)=7,LEFT('[1]GIFTS data'!G92,1)=\"1\"),\"GB-CHC-\"&'[1]GIFTS data'!G92,IF(LEN('[1]GIFTS data'!G92)=7,\"GB-COH-0\"&'[1]GIFTS data'!G92,IF(LEFT('[1]GIFTS data'!G92,3)=\"NIC\",\"GB-NIC-\"&RIGHT('[1]GIFTS data'!G92,LEN('[1]GIFTS data'!G92)-3),IF(LEN('[1]GIFTS data'!G92)=6,\"GB-CHC-\"&'[1]GIFTS data'!G92,'[1]Transformation sheet'!$B$3&'[1]GIFTS data'!E92)))))))","v":"GB-CHC-1088469"},{"$f":"'[1]GIFTS data'!F92","v":"EVA Women's Aid"},{"$f":"'[1]GIFTS data'!G92","v":1088469},{"$f":"'[1]GIFTS data'!J92","v":"Redcar"},{"$f":"'[1]GIFTS data'!I92","v":"TS10 3DL"},{"$f":"'[1]GIFTS data'!H92","v":"North East"},{"$f":"IF(OR('[1]GIFTS data'!K92=\"4. Proactive Programme\",'[1]GIFTS data'!K92=\"3. Regular Grants Programme\"),\"No\",\"Yes\")","v":"Yes"},{"$f":"RIGHT('[1]GIFTS data'!K92,LEN('[1]GIFTS data'!K92)-3)","v":"Main Grants Programme"},{"$f":"'[1]Transformation sheet'!$B$8","v":"GB-CHC-274100"},{"$f":"'[1]Transformation sheet'!$B$9","v":"The Clothworkers Foundation"},"https://www.clothworkersfoundation.org.uk/",{"$f":"'[1]Transformation sheet'!$B$11","v":"2019-05-31"},{"$f":"IF(OR('[1]GIFTS data'!K92=\"4. Proactive Programme\",'[1]GIFTS data'!K92=\"3. Regular Grants Programme\"),\"Revenue\",\"Capital\")","v":"Capital"}]
[{"$f":"CONCATENATE('[1]Transformation sheet'!$B$1,'[1]GIFTS data'!A93)","v":"360G-ClothworkersFdn-201700768"},{"$f":"'[1]GIFTS data'!A93","v":201700768},{"$f":"CONCATENATE(\"Grant to \",'[1]GIFTS data'!F93)","v":"Grant to Exeter Community Transport Association"},{"$f":"'[1]GIFTS data'!B93","v":"purchase of a bus for a charity which works with disabled people in Exeter"},{"$f":"'[1]Transformation sheet'!$B$2","v":"GBP"},{"$f":"'[1]GIFTS data'!C93","v":15000},{"$f":"'[1]GIFTS data'!D93","v":"2018-08-31"},{"$f":"IF(LEFT('[1]GIFTS data'!G93,3)=\"SC0\",\"GB-SC-\"&'[1]GIFTS data'!G93,IF(LEN('[1]GIFTS data'!G93)=8,\"GB-COH-\"&'[1]GIFTS data'!G93,IF(LEFT('[1]GIFTS data'!G93,1)=\"X\",\"GB-REV-\"&'[1]GIFTS data'!G93,IF(AND(LEN('[1]GIFTS data'!G93)=7,LEFT('[1]GIFTS data'!G93,1)=\"1\"),\"GB-CHC-\"&'[1]GIFTS data'!G93,IF(LEN('[1]GIFTS data'!G93)=7,\"GB-COH-0\"&'[1]GIFTS data'!G93,IF(LEFT('[1]GIFTS data'!G93,3)=\"NIC\",\"GB-NIC-\"&RIGHT('[1]GIFTS data'!G93,LEN('[1]GIFTS data'!G93)-3),IF(LEN('[1]GIFTS data'!G93)=6,\"GB-CHC-\"&'[1]GIFTS data'!G93,'[1]Transformation sheet'!$B$3&'[1]GIFTS data'!E93)))))))","v":"GB-CHC-1129560"},{"$f":"'[1]GIFTS data'!F93","v":"Exeter Community Transport Association"},{"$f":"'[1]GIFTS data'!G93","v":1129560},{"$f":"'[1]GIFTS data'!J93","v":"EXETER"},{"$f":"'[1]GIFTS data'!I93","v":"EX1 1GA"},{"$f":"'[1]GIFTS data'!H93","v":"South West"},{"$f":"IF(OR('[1]GIFTS data'!K93=\"4. Proactive Programme\",'[1]GIFTS data'!K93=\"3. Regular Grants Programme\"),\"No\",\"Yes\")","v":"Yes"},{"$f":"RIGHT('[1]GIFTS data'!K93,LEN('[1]GIFTS data'!K93)-3)","v":"Small Grants Programme"},{"$f":"'[1]Transformation sheet'!$B$8","v":"GB-CHC-274100"},{"$f":"'[1]Transformation sheet'!$B$9","v":"The Clothworkers Foundation"},"https://www.clothworkersfoundation.org.uk/",{"$f":"'[1]Transformation sheet'!$B$11","v":"2019-05-31"},{"$f":"IF(OR('[1]GIFTS data'!K93=\"4. Proactive Programme\",'[1]GIFTS data'!K93=\"3. Regular Grants Programme\"),\"Revenue\",\"Capital\")","v":"Capital"}]
[{"$f":"CONCATENATE('[1]Transformation sheet'!$B$1,'[1]GIFTS data'!A94)","v":"360G-ClothworkersFdn-201700793"},{"$f":"'[1]GIFTS data'!A94","v":201700793},{"$f":"CONCATENATE(\"Grant to \",'[1]GIFTS data'!F94)","v":"Grant to Exeter Gateway Centre"},{"$f":"'[1]GIFTS data'!B94","v":"Extension and refurbishment of a building for a charity which works with people with disabilities in Devon"},{"$f":"'[1]Transformation sheet'!$B$2","v":"GBP"},{"$f":"'[1]GIFTS data'!C94","v":15000},{"$f":"'[1]GIFTS data'!D94","v":"2018-10-16"},{"$f":"IF(LEFT('[1]GIFTS data'!G94,3)=\"SC0\",\"GB-SC-\"&'[1]GIFTS data'!G94,IF(LEN('[1]GIFTS data'!G94)=8,\"GB-COH-\"&'[1]GIFTS data'!G94,IF(LEFT('[1]GIFTS data'!G94,1)=\"X\",\"GB-REV-\"&'[1]GIFTS data'!G94,IF(AND(LEN('[1]GIFTS data'!G94)=7,LEFT('[1]GIFTS data'!G94,1)=\"1\"),\"GB-CHC-\"&'[1]GIFTS data'!G94,IF(LEN('[1]GIFTS data'!G94)=7,\"GB-COH-0\"&'[1]GIFTS data'!G94,IF(LEFT('[1]GIFTS data'!G94,3)=\"NIC\",\"GB-NIC-\"&RIGHT('[1]GIFTS data'!G94,LEN('[1]GIFTS data'!G94)-3),IF(LEN('[1]GIFTS data'!G94)=6,\"GB-CHC-\"&'[1]GIFTS data'!G94,'[1]Transformation sheet'!$B$3&'[1]GIFTS data'!E94)))))))","v":"GB-CHC-1111396"},{"$f":"'[1]GIFTS data'!F94","v":"Exeter Gateway Centre"},{"$f":"'[1]GIFTS data'!G94","v":1111396},{"$f":"'[1]GIFTS data'!J94","v":"Exeter"},{"$f":"'[1]GIFTS data'!I94","v":"EX4 7AE"},{"$f":"'[1]GIFTS data'!H94","v":"South West"},{"$f":"IF(OR('[1]GIFTS data'!K94=\"4. Proactive Programme\",'[1]GIFTS data'!K94=\"3. Regular Grants Programme\"),\"No\",\"Yes\")","v":"Yes"},{"$f":"RIGHT('[1]GIFTS data'!K94,LEN('[1]GIFTS data'!K94)-3)","v":"Main Grants Programme"},{"$f":"'[1]Transformation sheet'!$B$8","v":"GB-CHC-274100"},{"$f":"'[1]Transformation sheet'!$B$9","v":"The Clothworkers Foundation"},"https://www.clothworkersfoundation.org.uk/",{"$f":"'[1]Transformation sheet'!$B$11","v":"2019-05-31"},{"$f":"IF(OR('[1]GIFTS data'!K94=\"4. Proactive Programme\",'[1]GIFTS data'!K94=\"3. Regular Grants Programme\"),\"Revenue\",\"Capital\")","v":"Capital"}]
[{"$f":"CONCATENATE('[1]Transformation sheet'!$B$1,'[1]GIFTS data'!A95)","v":"360G-ClothworkersFdn-201700163"},{"$f":"'[1]GIFTS data'!A95","v":201700163},{"$f":"CONCATENATE(\"Grant to \",'[1]GIFTS data'!F95)","v":"Grant to Eye Music Trust"},{"$f":"'[1]GIFTS data'!B95","v":"purchase of specialist equipment for a charity which works with disabled people in London"},{"$f":"'[1]Transformation sheet'!$B$2","v":"GBP"},{"$f":"'[1]GIFTS data'!C95","v":9000},{"$f":"'[1]GIFTS data'!D95","v":"2018-03-02"},{"$f":"IF(LEFT('[1]GIFTS data'!G95,3)=\"SC0\",\"GB-SC-\"&'[1]GIFTS data'!G95,IF(LEN('[1]GIFTS data'!G95)=8,\"GB-COH-\"&'[1]GIFTS data'!G95,IF(LEFT('[1]GIFTS data'!G95,1)=\"X\",\"GB-REV-\"&'[1]GIFTS data'!G95,IF(AND(LEN('[1]GIFTS data'!G95)=7,LEFT('[1]GIFTS data'!G95,1)=\"1\"),\"GB-CHC-\"&'[1]GIFTS data'!G95,IF(LEN('[1]GIFTS data'!G95)=7,\"GB-COH-0\"&'[1]GIFTS data'!G95,IF(LEFT('[1]GIFTS data'!G95,3)=\"NIC\",\"GB-NIC-\"&RIGHT('[1]GIFTS data'!G95,LEN('[1]GIFTS data'!G95)-3),IF(LEN('[1]GIFTS data'!G95)=6,\"GB-CHC-\"&'[1]GIFTS data'!G95,'[1]Transformation sheet'!$B$3&'[1]GIFTS data'!E95)))))))","v":"GB-CHC-1113190"},{"$f":"'[1]GIFTS data'!F95","v":"Eye Music Trust"},{"$f":"'[1]GIFTS data'!G95","v":1113190},{"$f":"'[1]GIFTS data'!J95","v":"South Croydon"},{"$f":"'[1]GIFTS data'!I95","v":"CR2 0QS"},{"$f":"'[1]GIFTS data'!H95","v":"Greater London"},{"$f":"IF(OR('[1]GIFTS data'!K95=\"4. Proactive Programme\",'[1]GIFTS data'!K95=\"3. Regular Grants Programme\"),\"No\",\"Yes\")","v":"Yes"},{"$f":"RIGHT('[1]GIFTS data'!K95,LEN('[1]GIFTS data'!K95)-3)","v":"Small Grants Programme"},{"$f":"'[1]Transformation sheet'!$B$8","v":"GB-CHC-274100"},{"$f":"'[1]Transformation sheet'!$B$9","v":"The Clothworkers Foundation"},"https://www.clothworkersfoundation.org.uk/",{"$f":"'[1]Transformation sheet'!$B$11","v":"2019-05-31"},{"$f":"IF(OR('[1]GIFTS data'!K95=\"4. Proactive Programme\",'[1]GIFTS data'!K95=\"3. Regular Grants Programme\"),\"Revenue\",\"Capital\")","v":"Capital"}]
[{"$f":"CONCATENATE('[1]Transformation sheet'!$B$1,'[1]GIFTS data'!A96)","v":"360G-ClothworkersFdn-201700876"},{"$f":"'[1]GIFTS data'!A96","v":201700876},{"$f":"CONCATENATE(\"Grant to \",'[1]GIFTS data'!F96)","v":"Grant to Favor UK"},{"$f":"'[1]GIFTS data'!B96","v":"purchase of IT, AV and promotional equipment for a charity which works with people in recovery from alcohol and substance misuse nationally"},{"$f":"'[1]Transformation sheet'!$B$2","v":"GBP"},{"$f":"'[1]GIFTS data'!C96","v":3800},{"$f":"'[1]GIFTS data'!D96","v":"2018-11-02"},{"$f":"IF(LEFT('[1]GIFTS data'!G96,3)=\"SC0\",\"GB-SC-\"&'[1]GIFTS data'!G96,IF(LEN('[1]GIFTS data'!G96)=8,\"GB-COH-\"&'[1]GIFTS data'!G96,IF(LEFT('[1]GIFTS data'!G96,1)=\"X\",\"GB-REV-\"&'[1]GIFTS data'!G96,IF(AND(LEN('[1]GIFTS data'!G96)=7,LEFT('[1]GIFTS data'!G96,1)=\"1\"),\"GB-CHC-\"&'[1]GIFTS data'!G96,IF(LEN('[1]GIFTS data'!G96)=7,\"GB-COH-0\"&'[1]GIFTS data'!G96,IF(LEFT('[1]GIFTS data'!G96,3)=\"NIC\",\"GB-NIC-\"&RIGHT('[1]GIFTS data'!G96,LEN('[1]GIFTS data'!G96)-3),IF(LEN('[1]GIFTS data'!G96)=6,\"GB-CHC-\"&'[1]GIFTS data'!G96,'[1]Transformation sheet'!$B$3&'[1]GIFTS data'!E96)))))))","v":"GB-SC-SC043961"},{"$f":"'[1]GIFTS data'!F96","v":"Favor UK"},{"$f":"'[1]GIFTS data'!G96","v":"SC043961"},{"$f":"'[1]GIFTS data'!J96","v":"Glasgow"},{"$f":"'[1]GIFTS data'!I96","v":"G20 6PL"},{"$f":"'[1]GIFTS data'!H96","v":"Scotland"},{"$f":"IF(OR('[1]GIFTS data'!K96=\"4. Proactive Programme\",'[1]GIFTS data'!K96=\"3. Regular Grants Programme\"),\"No\",\"Yes\")","v":"Yes"},{"$f":"RIGHT('[1]GIFTS data'!K96,LEN('[1]GIFTS data'!K96)-3)","v":"Small Grants Programme"},{"$f":"'[1]Transformation sheet'!$B$8","v":"GB-CHC-274100"},{"$f":"'[1]Transformation sheet'!$B$9","v":"The Clothworkers Foundation"},"https://www.clothworkersfoundation.org.uk/",{"$f":"'[1]Transformation sheet'!$B$11","v":"2019-05-31"},{"$f":"IF(OR('[1]GIFTS data'!K96=\"4. Proactive Programme\",'[1]GIFTS data'!K96=\"3. Regular Grants Programme\"),\"Revenue\",\"Capital\")","v":"Capital"}]
[{"$f":"CONCATENATE('[1]Transformation sheet'!$B$1,'[1]GIFTS data'!A97)","v":"360G-ClothworkersFdn-201700545"},{"$f":"'[1]GIFTS data'!A97","v":201700545},{"$f":"CONCATENATE(\"Grant to \",'[1]GIFTS data'!F97)","v":"Grant to Fermanagh Rural Community Initiative"},{"$f":"'[1]GIFTS data'!B97","v":"purchase of a cutting machine for a charity which works with disadvantaged minority communities"},{"$f":"'[1]Transformation sheet'!$B$2","v":"GBP"},{"$f":"'[1]GIFTS data'!C97","v":10000},{"$f":"'[1]GIFTS data'!D97","v":"2018-03-02"},{"$f":"IF(LEFT('[1]GIFTS data'!G97,3)=\"SC0\",\"GB-SC-\"&'[1]GIFTS data'!G97,IF(LEN('[1]GIFTS data'!G97)=8,\"GB-COH-\"&'[1]GIFTS data'!G97,IF(LEFT('[1]GIFTS data'!G97,1)=\"X\",\"GB-REV-\"&'[1]GIFTS data'!G97,IF(AND(LEN('[1]GIFTS data'!G97)=7,LEFT('[1]GIFTS data'!G97,1)=\"1\"),\"GB-CHC-\"&'[1]GIFTS data'!G97,IF(LEN('[1]GIFTS data'!G97)=7,\"GB-COH-0\"&'[1]GIFTS data'!G97,IF(LEFT('[1]GIFTS data'!G97,3)=\"NIC\",\"GB-NIC-\"&RIGHT('[1]GIFTS data'!G97,LEN('[1]GIFTS data'!G97)-3),IF(LEN('[1]GIFTS data'!G97)=6,\"GB-CHC-\"&'[1]GIFTS data'!G97,'[1]Transformation sheet'!$B$3&'[1]GIFTS data'!E97)))))))","v":"GB-NIC-100658"},{"$f":"'[1]GIFTS data'!F97","v":"Fermanagh Rural Community Initiative"},{"$f":"'[1]GIFTS data'!G97","v":"NIC100658"},{"$f":"'[1]GIFTS data'!J97","v":"Enniskillen"},{"$f":"'[1]GIFTS data'!I97","v":"BT74 6HR"},{"$f":"'[1]GIFTS data'!H97","v":"Northern Ireland"},{"$f":"IF(OR('[1]GIFTS data'!K97=\"4. Proactive Programme\",'[1]GIFTS data'!K97=\"3. Regular Grants Programme\"),\"No\",\"Yes\")","v":"Yes"},{"$f":"RIGHT('[1]GIFTS data'!K97,LEN('[1]GIFTS data'!K97)-3)","v":"Small Grants Programme"},{"$f":"'[1]Transformation sheet'!$B$8","v":"GB-CHC-274100"},{"$f":"'[1]Transformation sheet'!$B$9","v":"The Clothworkers Foundation"},"https://www.clothworkersfoundation.org.uk/",{"$f":"'[1]Transformation sheet'!$B$11","v":"2019-05-31"},{"$f":"IF(OR('[1]GIFTS data'!K97=\"4. Proactive Programme\",'[1]GIFTS data'!K97=\"3. Regular Grants Programme\"),\"Revenue\",\"Capital\")","v":"Capital"}]
[{"$f":"CONCATENATE('[1]Transformation sheet'!$B$1,'[1]GIFTS data'!A98)","v":"360G-ClothworkersFdn-201700872"},{"$f":"'[1]GIFTS data'!A98","v":201700872},{"$f":"CONCATENATE(\"Grant to \",'[1]GIFTS data'!F98)","v":"Grant to Footprints Project"},{"$f":"'[1]GIFTS data'!B98","v":"purchase of office equipment, building and construction tools for a charity which works with prisoners and ex offenders in Dorset"},{"$f":"'[1]Transformation sheet'!$B$2","v":"GBP"},{"$f":"'[1]GIFTS data'!C98","v":8000},{"$f":"'[1]GIFTS data'!D98","v":"2018-11-02"},{"$f":"IF(LEFT('[1]GIFTS data'!G98,3)=\"SC0\",\"GB-SC-\"&'[1]GIFTS data'!G98,IF(LEN('[1]GIFTS data'!G98)=8,\"GB-COH-\"&'[1]GIFTS data'!G98,IF(LEFT('[1]GIFTS data'!G98,1)=\"X\",\"GB-REV-\"&'[1]GIFTS data'!G98,IF(AND(LEN('[1]GIFTS data'!G98)=7,LEFT('[1]GIFTS data'!G98,1)=\"1\"),\"GB-CHC-\"&'[1]GIFTS data'!G98,IF(LEN('[1]GIFTS data'!G98)=7,\"GB-COH-0\"&'[1]GIFTS data'!G98,IF(LEFT('[1]GIFTS data'!G98,3)=\"NIC\",\"GB-NIC-\"&RIGHT('[1]GIFTS data'!G98,LEN('[1]GIFTS data'!G98)-3),IF(LEN('[1]GIFTS data'!G98)=6,\"GB-CHC-\"&'[1]GIFTS data'!G98,'[1]Transformation sheet'!$B$3&'[1]GIFTS data'!E98)))))))","v":"GB-CHC-1110916"},{"$f":"'[1]GIFTS data'!F98","v":"Footprints Project"},{"$f":"'[1]GIFTS data'!G98","v":1110916},{"$f":"'[1]GIFTS data'!J98","v":"Poole"},{"$f":"'[1]GIFTS data'!I98","v":"BH14 0JW"},{"$f":"'[1]GIFTS data'!H98","v":"South West"},{"$f":"IF(OR('[1]GIFTS data'!K98=\"4. Proactive Programme\",'[1]GIFTS data'!K98=\"3. Regular Grants Programme\"),\"No\",\"Yes\")","v":"Yes"},{"$f":"RIGHT('[1]GIFTS data'!K98,LEN('[1]GIFTS data'!K98)-3)","v":"Small Grants Programme"},{"$f":"'[1]Transformation sheet'!$B$8","v":"GB-CHC-274100"},{"$f":"'[1]Transformation sheet'!$B$9","v":"The Clothworkers Foundation"},"https://www.clothworkersfoundation.org.uk/",{"$f":"'[1]Transformation sheet'!$B$11","v":"2019-05-31"},{"$f":"IF(OR('[1]GIFTS data'!K98=\"4. Proactive Programme\",'[1]GIFTS data'!K98=\"3. Regular Grants Programme\"),\"Revenue\",\"Capital\")","v":"Capital"}]
[{"$f":"CONCATENATE('[1]Transformation sheet'!$B$1,'[1]GIFTS data'!A99)","v":"360G-ClothworkersFdn-201700516"},{"$f":"'[1]GIFTS data'!A99","v":201700516},{"$f":"CONCATENATE(\"Grant to \",'[1]GIFTS data'!F99)","v":"Grant to Foresight Project (North East Lincolnshire)"},{"$f":"'[1]GIFTS data'!B99","v":"construction of a training centre/supported accommodation for a charity which works with disabled people in Grimsby"},{"$f":"'[1]Transformation sheet'!$B$2","v":"GBP"},{"$f":"'[1]GIFTS data'!C99","v":100000},{"$f":"'[1]GIFTS data'!D99","v":"2018-06-28"},{"$f":"IF(LEFT('[1]GIFTS data'!G99,3)=\"SC0\",\"GB-SC-\"&'[1]GIFTS data'!G99,IF(LEN('[1]GIFTS data'!G99)=8,\"GB-COH-\"&'[1]GIFTS data'!G99,IF(LEFT('[1]GIFTS data'!G99,1)=\"X\",\"GB-REV-\"&'[1]GIFTS data'!G99,IF(AND(LEN('[1]GIFTS data'!G99)=7,LEFT('[1]GIFTS data'!G99,1)=\"1\"),\"GB-CHC-\"&'[1]GIFTS data'!G99,IF(LEN('[1]GIFTS data'!G99)=7,\"GB-COH-0\"&'[1]GIFTS data'!G99,IF(LEFT('[1]GIFTS data'!G99,3)=\"NIC\",\"GB-NIC-\"&RIGHT('[1]GIFTS data'!G99,LEN('[1]GIFTS data'!G99)-3),IF(LEN('[1]GIFTS data'!G99)=6,\"GB-CHC-\"&'[1]GIFTS data'!G99,'[1]Transformation sheet'!$B$3&'[1]GIFTS data'!E99)))))))","v":"GB-CHC-1095120"},{"$f":"'[1]GIFTS data'!F99","v":"Foresight Project (North East Lincolnshire)"},{"$f":"'[1]GIFTS data'!G99","v":1095120},{"$f":"'[1]GIFTS data'!J99","v":"Grimsby"},{"$f":"'[1]GIFTS data'!I99","v":"DN32 7SF"},{"$f":"'[1]GIFTS data'!H99","v":"East Midlands"},{"$f":"IF(OR('[1]GIFTS data'!K99=\"4. Proactive Programme\",'[1]GIFTS data'!K99=\"3. Regular Grants Programme\"),\"No\",\"Yes\")","v":"Yes"},{"$f":"RIGHT('[1]GIFTS data'!K99,LEN('[1]GIFTS data'!K99)-3)","v":"Main Grants Programme"},{"$f":"'[1]Transformation sheet'!$B$8","v":"GB-CHC-274100"},{"$f":"'[1]Transformation sheet'!$B$9","v":"The Clothworkers Foundation"},"https://www.clothworkersfoundation.org.uk/",{"$f":"'[1]Transformation sheet'!$B$11","v":"2019-05-31"},{"$f":"IF(OR('[1]GIFTS data'!K99=\"4. Proactive Programme\",'[1]GIFTS data'!K99=\"3. Regular Grants Programme\"),\"Revenue\",\"Capital\")","v":"Capital"}]
[{"$f":"CONCATENATE('[1]Transformation sheet'!$B$1,'[1]GIFTS data'!A100)","v":"360G-ClothworkersFdn-201700704"},{"$f":"'[1]GIFTS data'!A100","v":201700704},{"$f":"CONCATENATE(\"Grant to \",'[1]GIFTS data'!F100)","v":"Grant to Fotonow SW"},{"$f":"'[1]GIFTS data'!B100","v":"purchase of photography and video equipment for a charity which works with disadvantaged minority communities in Devon"},{"$f":"'[1]Transformation sheet'!$B$2","v":"GBP"},{"$f":"'[1]GIFTS data'!C100","v":8200},{"$f":"'[1]GIFTS data'!D100","v":"2018-06-21"},{"$f":"IF(LEFT('[1]GIFTS data'!G100,3)=\"SC0\",\"GB-SC-\"&'[1]GIFTS data'!G100,IF(LEN('[1]GIFTS data'!G100)=8,\"GB-COH-\"&'[1]GIFTS data'!G100,IF(LEFT('[1]GIFTS data'!G100,1)=\"X\",\"GB-REV-\"&'[1]GIFTS data'!G100,IF(AND(LEN('[1]GIFTS data'!G100)=7,LEFT('[1]GIFTS data'!G100,1)=\"1\"),\"GB-CHC-\"&'[1]GIFTS data'!G100,IF(LEN('[1]GIFTS data'!G100)=7,\"GB-COH-0\"&'[1]GIFTS data'!G100,IF(LEFT('[1]GIFTS data'!G100,3)=\"NIC\",\"GB-NIC-\"&RIGHT('[1]GIFTS data'!G100,LEN('[1]GIFTS data'!G100)-3),IF(LEN('[1]GIFTS data'!G100)=6,\"GB-CHC-\"&'[1]GIFTS data'!G100,'[1]Transformation sheet'!$B$3&'[1]GIFTS data'!E100)))))))","v":"GB-COH-06888975"},{"$f":"'[1]GIFTS data'!F100","v":"Fotonow SW"},{"$f":"'[1]GIFTS data'!G100","v":6888975},{"$f":"'[1]GIFTS data'!J100","v":"Plymouth"},{"$f":"'[1]GIFTS data'!I100","v":"PL1 3RP"},{"$f":"'[1]GIFTS data'!H100","v":"South West"},{"$f":"IF(OR('[1]GIFTS data'!K100=\"4. Proactive Programme\",'[1]GIFTS data'!K100=\"3. Regular Grants Programme\"),\"No\",\"Yes\")","v":"Yes"},{"$f":"RIGHT('[1]GIFTS data'!K100,LEN('[1]GIFTS data'!K100)-3)","v":"Small Grants Programme"},{"$f":"'[1]Transformation sheet'!$B$8","v":"GB-CHC-274100"},{"$f":"'[1]Transformation sheet'!$B$9","v":"The Clothworkers Foundation"},"https://www.clothworkersfoundation.org.uk/",{"$f":"'[1]Transformation sheet'!$B$11","v":"2019-05-31"},{"$f":"IF(OR('[1]GIFTS data'!K100=\"4. Proactive Programme\",'[1]GIFTS data'!K100=\"3. Regular Grants Programme\"),\"Revenue\",\"Capital\")","v":"Capital"}]
[{"$f":"CONCATENATE('[1]Transformation sheet'!$B$1,'[1]GIFTS data'!A101)","v":"360G-ClothworkersFdn-201700464"},{"$f":"'[1]GIFTS data'!A101","v":201700464},{"$f":"CONCATENATE(\"Grant to \",'[1]GIFTS data'!F101)","v":"Grant to Friends and Places Together"},{"$f":"'[1]GIFTS data'!B101","v":"refurbishment of rooms and purchase of IT equipment for a charity which works with disabled people in Westcliffe on Sea"},{"$f":"'[1]Transformation sheet'!$B$2","v":"GBP"},{"$f":"'[1]GIFTS data'!C101","v":2500},{"$f":"'[1]GIFTS data'!D101","v":"2018-01-30"},{"$f":"IF(LEFT('[1]GIFTS data'!G101,3)=\"SC0\",\"GB-SC-\"&'[1]GIFTS data'!G101,IF(LEN('[1]GIFTS data'!G101)=8,\"GB-COH-\"&'[1]GIFTS data'!G101,IF(LEFT('[1]GIFTS data'!G101,1)=\"X\",\"GB-REV-\"&'[1]GIFTS data'!G101,IF(AND(LEN('[1]GIFTS data'!G101)=7,LEFT('[1]GIFTS data'!G101,1)=\"1\"),\"GB-CHC-\"&'[1]GIFTS data'!G101,IF(LEN('[1]GIFTS data'!G101)=7,\"GB-COH-0\"&'[1]GIFTS data'!G101,IF(LEFT('[1]GIFTS data'!G101,3)=\"NIC\",\"GB-NIC-\"&RIGHT('[1]GIFTS data'!G101,LEN('[1]GIFTS data'!G101)-3),IF(LEN('[1]GIFTS data'!G101)=6,\"GB-CHC-\"&'[1]GIFTS data'!G101,'[1]Transformation sheet'!$B$3&'[1]GIFTS data'!E101)))))))","v":"GB-CHC-1159584"},{"$f":"'[1]GIFTS data'!F101","v":"Friends and Places Together"},{"$f":"'[1]GIFTS data'!G101","v":1159584},{"$f":"'[1]GIFTS data'!J101","v":"Westcliff on Sea"},{"$f":"'[1]GIFTS data'!I101","v":"SS0 8BA"},{"$f":"'[1]GIFTS data'!H101","v":"East"},{"$f":"IF(OR('[1]GIFTS data'!K101=\"4. Proactive Programme\",'[1]GIFTS data'!K101=\"3. Regular Grants Programme\"),\"No\",\"Yes\")","v":"Yes"},{"$f":"RIGHT('[1]GIFTS data'!K101,LEN('[1]GIFTS data'!K101)-3)","v":"Small Grants Programme"},{"$f":"'[1]Transformation sheet'!$B$8","v":"GB-CHC-274100"},{"$f":"'[1]Transformation sheet'!$B$9","v":"The Clothworkers Foundation"},"https://www.clothworkersfoundation.org.uk/",{"$f":"'[1]Transformation sheet'!$B$11","v":"2019-05-31"},{"$f":"IF(OR('[1]GIFTS data'!K101=\"4. Proactive Programme\",'[1]GIFTS data'!K101=\"3. Regular Grants Programme\"),\"Revenue\",\"Capital\")","v":"Capital"}]
[{"$f":"CONCATENATE('[1]Transformation sheet'!$B$1,'[1]GIFTS data'!A102)","v":"360G-ClothworkersFdn-201700537"},{"$f":"'[1]GIFTS data'!A102","v":201700537},{"$f":"CONCATENATE(\"Grant to \",'[1]GIFTS data'!F102)","v":"Grant to Friends of Alfreton Park Community Special School"},{"$f":"'[1]GIFTS data'!B102","v":"purchase of a people carrier for a charity which works with disabled people in Derbyshire"},{"$f":"'[1]Transformation sheet'!$B$2","v":"GBP"},{"$f":"'[1]GIFTS data'!C102","v":15000},{"$f":"'[1]GIFTS data'!D102","v":"2018-03-02"},{"$f":"IF(LEFT('[1]GIFTS data'!G102,3)=\"SC0\",\"GB-SC-\"&'[1]GIFTS data'!G102,IF(LEN('[1]GIFTS data'!G102)=8,\"GB-COH-\"&'[1]GIFTS data'!G102,IF(LEFT('[1]GIFTS data'!G102,1)=\"X\",\"GB-REV-\"&'[1]GIFTS data'!G102,IF(AND(LEN('[1]GIFTS data'!G102)=7,LEFT('[1]GIFTS data'!G102,1)=\"1\"),\"GB-CHC-\"&'[1]GIFTS data'!G102,IF(LEN('[1]GIFTS data'!G102)=7,\"GB-COH-0\"&'[1]GIFTS data'!G102,IF(LEFT('[1]GIFTS data'!G102,3)=\"NIC\",\"GB-NIC-\"&RIGHT('[1]GIFTS data'!G102,LEN('[1]GIFTS data'!G102)-3),IF(LEN('[1]GIFTS data'!G102)=6,\"GB-CHC-\"&'[1]GIFTS data'!G102,'[1]Transformation sheet'!$B$3&'[1]GIFTS data'!E102)))))))","v":"GB-CHC-1048496"},{"$f":"'[1]GIFTS data'!F102","v":"Friends of Alfreton Park Community Special School"},{"$f":"'[1]GIFTS data'!G102","v":1048496},{"$f":"'[1]GIFTS data'!J102","v":"Alfreton"},{"$f":"'[1]GIFTS data'!I102","v":"DE55 7AL"},{"$f":"'[1]GIFTS data'!H102","v":"East Midlands"},{"$f":"IF(OR('[1]GIFTS data'!K102=\"4. Proactive Programme\",'[1]GIFTS data'!K102=\"3. Regular Grants Programme\"),\"No\",\"Yes\")","v":"Yes"},{"$f":"RIGHT('[1]GIFTS data'!K102,LEN('[1]GIFTS data'!K102)-3)","v":"Small Grants Programme"},{"$f":"'[1]Transformation sheet'!$B$8","v":"GB-CHC-274100"},{"$f":"'[1]Transformation sheet'!$B$9","v":"The Clothworkers Foundation"},"https://www.clothworkersfoundation.org.uk/",{"$f":"'[1]Transformation sheet'!$B$11","v":"2019-05-31"},{"$f":"IF(OR('[1]GIFTS data'!K102=\"4. Proactive Programme\",'[1]GIFTS data'!K102=\"3. Regular Grants Programme\"),\"Revenue\",\"Capital\")","v":"Capital"}]
[{"$f":"CONCATENATE('[1]Transformation sheet'!$B$1,'[1]GIFTS data'!A103)","v":"360G-ClothworkersFdn-201700486"},{"$f":"'[1]GIFTS data'!A103","v":201700486},{"$f":"CONCATENATE(\"Grant to \",'[1]GIFTS data'!F103)","v":"Grant to Friends of Avalon School"},{"$f":"'[1]GIFTS data'!B103","v":"Hydrotherapy pool for a charity which raises funds for a school for children with special needs in Somerset"},{"$f":"'[1]Transformation sheet'!$B$2","v":"GBP"},{"$f":"'[1]GIFTS data'!C103","v":30000},{"$f":"'[1]GIFTS data'!D103","v":"2018-06-28"},{"$f":"IF(LEFT('[1]GIFTS data'!G103,3)=\"SC0\",\"GB-SC-\"&'[1]GIFTS data'!G103,IF(LEN('[1]GIFTS data'!G103)=8,\"GB-COH-\"&'[1]GIFTS data'!G103,IF(LEFT('[1]GIFTS data'!G103,1)=\"X\",\"GB-REV-\"&'[1]GIFTS data'!G103,IF(AND(LEN('[1]GIFTS data'!G103)=7,LEFT('[1]GIFTS data'!G103,1)=\"1\"),\"GB-CHC-\"&'[1]GIFTS data'!G103,IF(LEN('[1]GIFTS data'!G103)=7,\"GB-COH-0\"&'[1]GIFTS data'!G103,IF(LEFT('[1]GIFTS data'!G103,3)=\"NIC\",\"GB-NIC-\"&RIGHT('[1]GIFTS data'!G103,LEN('[1]GIFTS data'!G103)-3),IF(LEN('[1]GIFTS data'!G103)=6,\"GB-CHC-\"&'[1]GIFTS data'!G103,'[1]Transformation sheet'!$B$3&'[1]GIFTS data'!E103)))))))","v":"GB-CHC-1146241"},{"$f":"'[1]GIFTS data'!F103","v":"Friends of Avalon School"},{"$f":"'[1]GIFTS data'!G103","v":1146241},{"$f":"'[1]GIFTS data'!J103","v":"Street"},{"$f":"'[1]GIFTS data'!I103","v":"BA16 0PS"},{"$f":"'[1]GIFTS data'!H103","v":"South West"},{"$f":"IF(OR('[1]GIFTS data'!K103=\"4. Proactive Programme\",'[1]GIFTS data'!K103=\"3. Regular Grants Programme\"),\"No\",\"Yes\")","v":"Yes"},{"$f":"RIGHT('[1]GIFTS data'!K103,LEN('[1]GIFTS data'!K103)-3)","v":"Main Grants Programme"},{"$f":"'[1]Transformation sheet'!$B$8","v":"GB-CHC-274100"},{"$f":"'[1]Transformation sheet'!$B$9","v":"The Clothworkers Foundation"},"https://www.clothworkersfoundation.org.uk/",{"$f":"'[1]Transformation sheet'!$B$11","v":"2019-05-31"},{"$f":"IF(OR('[1]GIFTS data'!K103=\"4. Proactive Programme\",'[1]GIFTS data'!K103=\"3. Regular Grants Programme\"),\"Revenue\",\"Capital\")","v":"Capital"}]
[{"$f":"CONCATENATE('[1]Transformation sheet'!$B$1,'[1]GIFTS data'!A104)","v":"360G-ClothworkersFdn-201700953"},{"$f":"'[1]GIFTS data'!A104","v":201700953},{"$f":"CONCATENATE(\"Grant to \",'[1]GIFTS data'!F104)","v":"Grant to Friends of Oak Grove College"},{"$f":"'[1]GIFTS data'!B104","v":"purchase of two new hoist systems for a charity which works with people with disabilities in West Sussex"},{"$f":"'[1]Transformation sheet'!$B$2","v":"GBP"},{"$f":"'[1]GIFTS data'!C104","v":7800},{"$f":"'[1]GIFTS data'!D104","v":"2018-12-07"},{"$f":"IF(LEFT('[1]GIFTS data'!G104,3)=\"SC0\",\"GB-SC-\"&'[1]GIFTS data'!G104,IF(LEN('[1]GIFTS data'!G104)=8,\"GB-COH-\"&'[1]GIFTS data'!G104,IF(LEFT('[1]GIFTS data'!G104,1)=\"X\",\"GB-REV-\"&'[1]GIFTS data'!G104,IF(AND(LEN('[1]GIFTS data'!G104)=7,LEFT('[1]GIFTS data'!G104,1)=\"1\"),\"GB-CHC-\"&'[1]GIFTS data'!G104,IF(LEN('[1]GIFTS data'!G104)=7,\"GB-COH-0\"&'[1]GIFTS data'!G104,IF(LEFT('[1]GIFTS data'!G104,3)=\"NIC\",\"GB-NIC-\"&RIGHT('[1]GIFTS data'!G104,LEN('[1]GIFTS data'!G104)-3),IF(LEN('[1]GIFTS data'!G104)=6,\"GB-CHC-\"&'[1]GIFTS data'!G104,'[1]Transformation sheet'!$B$3&'[1]GIFTS data'!E104)))))))","v":"GB-CHC-271168"},{"$f":"'[1]GIFTS data'!F104","v":"Friends of Oak Grove College"},{"$f":"'[1]GIFTS data'!G104","v":271168},{"$f":"'[1]GIFTS data'!J104","v":"Worthing"},{"$f":"'[1]GIFTS data'!I104","v":"BN13 1JX"},{"$f":"'[1]GIFTS data'!H104","v":"South East"},{"$f":"IF(OR('[1]GIFTS data'!K104=\"4. Proactive Programme\",'[1]GIFTS data'!K104=\"3. Regular Grants Programme\"),\"No\",\"Yes\")","v":"Yes"},{"$f":"RIGHT('[1]GIFTS data'!K104,LEN('[1]GIFTS data'!K104)-3)","v":"Small Grants Programme"},{"$f":"'[1]Transformation sheet'!$B$8","v":"GB-CHC-274100"},{"$f":"'[1]Transformation sheet'!$B$9","v":"The Clothworkers Foundation"},"https://www.clothworkersfoundation.org.uk/",{"$f":"'[1]Transformation sheet'!$B$11","v":"2019-05-31"},{"$f":"IF(OR('[1]GIFTS data'!K104=\"4. Proactive Programme\",'[1]GIFTS data'!K104=\"3. Regular Grants Programme\"),\"Revenue\",\"Capital\")","v":"Capital"}]
[{"$f":"CONCATENATE('[1]Transformation sheet'!$B$1,'[1]GIFTS data'!A105)","v":"360G-ClothworkersFdn-201700467"},{"$f":"'[1]GIFTS data'!A105","v":201700467},{"$f":"CONCATENATE(\"Grant to \",'[1]GIFTS data'!F105)","v":"Grant to Friends of Sir Charles Parsons School (FOSCPS)"},{"$f":"'[1]GIFTS data'!B105","v":"purchase of outdoor equipment for a charity which works with disabled people in Newcastle upon Tyne"},{"$f":"'[1]Transformation sheet'!$B$2","v":"GBP"},{"$f":"'[1]GIFTS data'!C105","v":10000},{"$f":"'[1]GIFTS data'!D105","v":"2018-01-30"},{"$f":"IF(LEFT('[1]GIFTS data'!G105,3)=\"SC0\",\"GB-SC-\"&'[1]GIFTS data'!G105,IF(LEN('[1]GIFTS data'!G105)=8,\"GB-COH-\"&'[1]GIFTS data'!G105,IF(LEFT('[1]GIFTS data'!G105,1)=\"X\",\"GB-REV-\"&'[1]GIFTS data'!G105,IF(AND(LEN('[1]GIFTS data'!G105)=7,LEFT('[1]GIFTS data'!G105,1)=\"1\"),\"GB-CHC-\"&'[1]GIFTS data'!G105,IF(LEN('[1]GIFTS data'!G105)=7,\"GB-COH-0\"&'[1]GIFTS data'!G105,IF(LEFT('[1]GIFTS data'!G105,3)=\"NIC\",\"GB-NIC-\"&RIGHT('[1]GIFTS data'!G105,LEN('[1]GIFTS data'!G105)-3),IF(LEN('[1]GIFTS data'!G105)=6,\"GB-CHC-\"&'[1]GIFTS data'!G105,'[1]Transformation sheet'!$B$3&'[1]GIFTS data'!E105)))))))","v":"GB-CHC-1165658"},{"$f":"'[1]GIFTS data'!F105","v":"Friends of Sir Charles Parsons School (FOSCPS)"},{"$f":"'[1]GIFTS data'!G105","v":1165658},{"$f":"'[1]GIFTS data'!J105","v":"Newcastle upon Tyne"},{"$f":"'[1]GIFTS data'!I105","v":"NE6 4ED"},{"$f":"'[1]GIFTS data'!H105","v":"North East"},{"$f":"IF(OR('[1]GIFTS data'!K105=\"4. Proactive Programme\",'[1]GIFTS data'!K105=\"3. Regular Grants Programme\"),\"No\",\"Yes\")","v":"Yes"},{"$f":"RIGHT('[1]GIFTS data'!K105,LEN('[1]GIFTS data'!K105)-3)","v":"Small Grants Programme"},{"$f":"'[1]Transformation sheet'!$B$8","v":"GB-CHC-274100"},{"$f":"'[1]Transformation sheet'!$B$9","v":"The Clothworkers Foundation"},"https://www.clothworkersfoundation.org.uk/",{"$f":"'[1]Transformation sheet'!$B$11","v":"2019-05-31"},{"$f":"IF(OR('[1]GIFTS data'!K105=\"4. Proactive Programme\",'[1]GIFTS data'!K105=\"3. Regular Grants Programme\"),\"Revenue\",\"Capital\")","v":"Capital"}]
[{"$f":"CONCATENATE('[1]Transformation sheet'!$B$1,'[1]GIFTS data'!A106)","v":"360G-ClothworkersFdn-201700949"},{"$f":"'[1]GIFTS data'!A106","v":201700949},{"$f":"CONCATENATE(\"Grant to \",'[1]GIFTS data'!F106)","v":"Grant to Friends of St Luke's"},{"$f":"'[1]GIFTS data'!B106","v":"refurbishment and kit out of a sensory room for a charity which works for people with disabilities"},{"$f":"'[1]Transformation sheet'!$B$2","v":"GBP"},{"$f":"'[1]GIFTS data'!C106","v":10000},{"$f":"'[1]GIFTS data'!D106","v":"2018-12-07"},{"$f":"IF(LEFT('[1]GIFTS data'!G106,3)=\"SC0\",\"GB-SC-\"&'[1]GIFTS data'!G106,IF(LEN('[1]GIFTS data'!G106)=8,\"GB-COH-\"&'[1]GIFTS data'!G106,IF(LEFT('[1]GIFTS data'!G106,1)=\"X\",\"GB-REV-\"&'[1]GIFTS data'!G106,IF(AND(LEN('[1]GIFTS data'!G106)=7,LEFT('[1]GIFTS data'!G106,1)=\"1\"),\"GB-CHC-\"&'[1]GIFTS data'!G106,IF(LEN('[1]GIFTS data'!G106)=7,\"GB-COH-0\"&'[1]GIFTS data'!G106,IF(LEFT('[1]GIFTS data'!G106,3)=\"NIC\",\"GB-NIC-\"&RIGHT('[1]GIFTS data'!G106,LEN('[1]GIFTS data'!G106)-3),IF(LEN('[1]GIFTS data'!G106)=6,\"GB-CHC-\"&'[1]GIFTS data'!G106,'[1]Transformation sheet'!$B$3&'[1]GIFTS data'!E106)))))))","v":"GB-CHC-1106427"},{"$f":"'[1]GIFTS data'!F106","v":"Friends of St Luke's"},{"$f":"'[1]GIFTS data'!G106","v":1106427},{"$f":"'[1]GIFTS data'!J106","v":"Redbourn"},{"$f":"'[1]GIFTS data'!I106","v":"AL3 7ET"},{"$f":"'[1]GIFTS data'!H106","v":"East"},{"$f":"IF(OR('[1]GIFTS data'!K106=\"4. Proactive Programme\",'[1]GIFTS data'!K106=\"3. Regular Grants Programme\"),\"No\",\"Yes\")","v":"Yes"},{"$f":"RIGHT('[1]GIFTS data'!K106,LEN('[1]GIFTS data'!K106)-3)","v":"Small Grants Programme"},{"$f":"'[1]Transformation sheet'!$B$8","v":"GB-CHC-274100"},{"$f":"'[1]Transformation sheet'!$B$9","v":"The Clothworkers Foundation"},"https://www.clothworkersfoundation.org.uk/",{"$f":"'[1]Transformation sheet'!$B$11","v":"2019-05-31"},{"$f":"IF(OR('[1]GIFTS data'!K106=\"4. Proactive Programme\",'[1]GIFTS data'!K106=\"3. Regular Grants Programme\"),\"Revenue\",\"Capital\")","v":"Capital"}]
[{"$f":"CONCATENATE('[1]Transformation sheet'!$B$1,'[1]GIFTS data'!A107)","v":"360G-ClothworkersFdn-201700019.01"},{"$f":"'[1]GIFTS data'!A107","v":201700019.00999999},{"$f":"CONCATENATE(\"Grant to \",'[1]GIFTS data'!F107)","v":"Grant to Friends of the Elderly"},{"$f":"'[1]GIFTS data'!B107","v":"Grants for disadvantaged older people"},{"$f":"'[1]Transformation sheet'!$B$2","v":"GBP"},{"$f":"'[1]GIFTS data'!C107","v":25000},{"$f":"'[1]GIFTS data'!D107","v":"2018-02-08"},{"$f":"IF(LEFT('[1]GIFTS data'!G107,3)=\"SC0\",\"GB-SC-\"&'[1]GIFTS data'!G107,IF(LEN('[1]GIFTS data'!G107)=8,\"GB-COH-\"&'[1]GIFTS data'!G107,IF(LEFT('[1]GIFTS data'!G107,1)=\"X\",\"GB-REV-\"&'[1]GIFTS data'!G107,IF(AND(LEN('[1]GIFTS data'!G107)=7,LEFT('[1]GIFTS data'!G107,1)=\"1\"),\"GB-CHC-\"&'[1]GIFTS data'!G107,IF(LEN('[1]GIFTS data'!G107)=7,\"GB-COH-0\"&'[1]GIFTS data'!G107,IF(LEFT('[1]GIFTS data'!G107,3)=\"NIC\",\"GB-NIC-\"&RIGHT('[1]GIFTS data'!G107,LEN('[1]GIFTS data'!G107)-3),IF(LEN('[1]GIFTS data'!G107)=6,\"GB-CHC-\"&'[1]GIFTS data'!G107,'[1]Transformation sheet'!$B$3&'[1]GIFTS data'!E107)))))))","v":"GB-CHC-226064"},{"$f":"'[1]GIFTS data'!F107","v":"Friends of the Elderly"},{"$f":"'[1]GIFTS data'!G107","v":226064},{"$f":"'[1]GIFTS data'!J107","v":" "},{"$f":"'[1]GIFTS data'!I107","v":"SW1W 0LZ"},{"$f":"'[1]GIFTS data'!H107","v":"National"},{"$f":"IF(OR('[1]GIFTS data'!K107=\"4. Proactive Programme\",'[1]GIFTS data'!K107=\"3. Regular Grants Programme\"),\"No\",\"Yes\")","v":"No"},{"$f":"RIGHT('[1]GIFTS data'!K107,LEN('[1]GIFTS data'!K107)-3)","v":"Regular Grants Programme"},{"$f":"'[1]Transformation sheet'!$B$8","v":"GB-CHC-274100"},{"$f":"'[1]Transformation sheet'!$B$9","v":"The Clothworkers Foundation"},"https://www.clothworkersfoundation.org.uk/",{"$f":"'[1]Transformation sheet'!$B$11","v":"2019-05-31"},{"$f":"IF(OR('[1]GIFTS data'!K107=\"4. Proactive Programme\",'[1]GIFTS data'!K107=\"3. Regular Grants Programme\"),\"Revenue\",\"Capital\")","v":"Revenue"}]
[{"$f":"CONCATENATE('[1]Transformation sheet'!$B$1,'[1]GIFTS data'!A108)","v":"360G-ClothworkersFdn-201700500"},{"$f":"'[1]GIFTS data'!A108","v":201700500},{"$f":"CONCATENATE(\"Grant to \",'[1]GIFTS data'!F108)","v":"Grant to Ganton School"},{"$f":"'[1]GIFTS data'!B108","v":"refurbishment of room for a charity which works with disabled people in Hull"},{"$f":"'[1]Transformation sheet'!$B$2","v":"GBP"},{"$f":"'[1]GIFTS data'!C108","v":10000},{"$f":"'[1]GIFTS data'!D108","v":"2018-01-30"},{"$f":"IF(LEFT('[1]GIFTS data'!G108,3)=\"SC0\",\"GB-SC-\"&'[1]GIFTS data'!G108,IF(LEN('[1]GIFTS data'!G108)=8,\"GB-COH-\"&'[1]GIFTS data'!G108,IF(LEFT('[1]GIFTS data'!G108,1)=\"X\",\"GB-REV-\"&'[1]GIFTS data'!G108,IF(AND(LEN('[1]GIFTS data'!G108)=7,LEFT('[1]GIFTS data'!G108,1)=\"1\"),\"GB-CHC-\"&'[1]GIFTS data'!G108,IF(LEN('[1]GIFTS data'!G108)=7,\"GB-COH-0\"&'[1]GIFTS data'!G108,IF(LEFT('[1]GIFTS data'!G108,3)=\"NIC\",\"GB-NIC-\"&RIGHT('[1]GIFTS data'!G108,LEN('[1]GIFTS data'!G108)-3),IF(LEN('[1]GIFTS data'!G108)=6,\"GB-CHC-\"&'[1]GIFTS data'!G108,'[1]Transformation sheet'!$B$3&'[1]GIFTS data'!E108)))))))","v":"GB-CHC-934973"},{"$f":"'[1]GIFTS data'!F108","v":"Ganton School"},{"$f":"'[1]GIFTS data'!G108","v":934973},{"$f":"'[1]GIFTS data'!J108","v":"Hull"},{"$f":"'[1]GIFTS data'!I108","v":"HU4 7JB"},{"$f":"'[1]GIFTS data'!H108","v":"Yorks & Humberside"},{"$f":"IF(OR('[1]GIFTS data'!K108=\"4. Proactive Programme\",'[1]GIFTS data'!K108=\"3. Regular Grants Programme\"),\"No\",\"Yes\")","v":"Yes"},{"$f":"RIGHT('[1]GIFTS data'!K108,LEN('[1]GIFTS data'!K108)-3)","v":"Small Grants Programme"},{"$f":"'[1]Transformation sheet'!$B$8","v":"GB-CHC-274100"},{"$f":"'[1]Transformation sheet'!$B$9","v":"The Clothworkers Foundation"},"https://www.clothworkersfoundation.org.uk/",{"$f":"'[1]Transformation sheet'!$B$11","v":"2019-05-31"},{"$f":"IF(OR('[1]GIFTS data'!K108=\"4. Proactive Programme\",'[1]GIFTS data'!K108=\"3. Regular Grants Programme\"),\"Revenue\",\"Capital\")","v":"Capital"}]
[{"$f":"CONCATENATE('[1]Transformation sheet'!$B$1,'[1]GIFTS data'!A109)","v":"360G-ClothworkersFdn-201700855"},{"$f":"'[1]GIFTS data'!A109","v":201700855},{"$f":"CONCATENATE(\"Grant to \",'[1]GIFTS data'!F109)","v":"Grant to Garvald Edinburgh"},{"$f":"'[1]GIFTS data'!B109","v":"refurbishment of premises for a charity which works with people with disabilities in Edinburgh"},{"$f":"'[1]Transformation sheet'!$B$2","v":"GBP"},{"$f":"'[1]GIFTS data'!C109","v":25000},{"$f":"'[1]GIFTS data'!D109","v":"2018-10-16"},{"$f":"IF(LEFT('[1]GIFTS data'!G109,3)=\"SC0\",\"GB-SC-\"&'[1]GIFTS data'!G109,IF(LEN('[1]GIFTS data'!G109)=8,\"GB-COH-\"&'[1]GIFTS data'!G109,IF(LEFT('[1]GIFTS data'!G109,1)=\"X\",\"GB-REV-\"&'[1]GIFTS data'!G109,IF(AND(LEN('[1]GIFTS data'!G109)=7,LEFT('[1]GIFTS data'!G109,1)=\"1\"),\"GB-CHC-\"&'[1]GIFTS data'!G109,IF(LEN('[1]GIFTS data'!G109)=7,\"GB-COH-0\"&'[1]GIFTS data'!G109,IF(LEFT('[1]GIFTS data'!G109,3)=\"NIC\",\"GB-NIC-\"&RIGHT('[1]GIFTS data'!G109,LEN('[1]GIFTS data'!G109)-3),IF(LEN('[1]GIFTS data'!G109)=6,\"GB-CHC-\"&'[1]GIFTS data'!G109,'[1]Transformation sheet'!$B$3&'[1]GIFTS data'!E109)))))))","v":"GB-SC-SC014228"},{"$f":"'[1]GIFTS data'!F109","v":"Garvald Edinburgh"},{"$f":"'[1]GIFTS data'!G109","v":"SC014228"},{"$f":"'[1]GIFTS data'!J109","v":"Edinburgh"},{"$f":"'[1]GIFTS data'!I109","v":"EH11 3AL"},{"$f":"'[1]GIFTS data'!H109","v":"Scotland"},{"$f":"IF(OR('[1]GIFTS data'!K109=\"4. Proactive Programme\",'[1]GIFTS data'!K109=\"3. Regular Grants Programme\"),\"No\",\"Yes\")","v":"Yes"},{"$f":"RIGHT('[1]GIFTS data'!K109,LEN('[1]GIFTS data'!K109)-3)","v":"Main Grants Programme"},{"$f":"'[1]Transformation sheet'!$B$8","v":"GB-CHC-274100"},{"$f":"'[1]Transformation sheet'!$B$9","v":"The Clothworkers Foundation"},"https://www.clothworkersfoundation.org.uk/",{"$f":"'[1]Transformation sheet'!$B$11","v":"2019-05-31"},{"$f":"IF(OR('[1]GIFTS data'!K109=\"4. Proactive Programme\",'[1]GIFTS data'!K109=\"3. Regular Grants Programme\"),\"Revenue\",\"Capital\")","v":"Capital"}]
[{"$f":"CONCATENATE('[1]Transformation sheet'!$B$1,'[1]GIFTS data'!A110)","v":"360G-ClothworkersFdn-201700387"},{"$f":"'[1]GIFTS data'!A110","v":201700387},{"$f":"CONCATENATE(\"Grant to \",'[1]GIFTS data'!F110)","v":"Grant to Garwood Foundation"},{"$f":"'[1]GIFTS data'!B110","v":"purchase of a minibus for a charity which works with disabled people in London"},{"$f":"'[1]Transformation sheet'!$B$2","v":"GBP"},{"$f":"'[1]GIFTS data'!C110","v":15000},{"$f":"'[1]GIFTS data'!D110","v":"2018-02-08"},{"$f":"IF(LEFT('[1]GIFTS data'!G110,3)=\"SC0\",\"GB-SC-\"&'[1]GIFTS data'!G110,IF(LEN('[1]GIFTS data'!G110)=8,\"GB-COH-\"&'[1]GIFTS data'!G110,IF(LEFT('[1]GIFTS data'!G110,1)=\"X\",\"GB-REV-\"&'[1]GIFTS data'!G110,IF(AND(LEN('[1]GIFTS data'!G110)=7,LEFT('[1]GIFTS data'!G110,1)=\"1\"),\"GB-CHC-\"&'[1]GIFTS data'!G110,IF(LEN('[1]GIFTS data'!G110)=7,\"GB-COH-0\"&'[1]GIFTS data'!G110,IF(LEFT('[1]GIFTS data'!G110,3)=\"NIC\",\"GB-NIC-\"&RIGHT('[1]GIFTS data'!G110,LEN('[1]GIFTS data'!G110)-3),IF(LEN('[1]GIFTS data'!G110)=6,\"GB-CHC-\"&'[1]GIFTS data'!G110,'[1]Transformation sheet'!$B$3&'[1]GIFTS data'!E110)))))))","v":"GB-CHC-272905"},{"$f":"'[1]GIFTS data'!F110","v":"Garwood Foundation"},{"$f":"'[1]GIFTS data'!G110","v":272905},{"$f":"'[1]GIFTS data'!J110","v":"South Croydon"},{"$f":"'[1]GIFTS data'!I110","v":"CR2 7HZ"},{"$f":"'[1]GIFTS data'!H110","v":"Greater London"},{"$f":"IF(OR('[1]GIFTS data'!K110=\"4. Proactive Programme\",'[1]GIFTS data'!K110=\"3. Regular Grants Programme\"),\"No\",\"Yes\")","v":"Yes"},{"$f":"RIGHT('[1]GIFTS data'!K110,LEN('[1]GIFTS data'!K110)-3)","v":"Main Grants Programme"},{"$f":"'[1]Transformation sheet'!$B$8","v":"GB-CHC-274100"},{"$f":"'[1]Transformation sheet'!$B$9","v":"The Clothworkers Foundation"},"https://www.clothworkersfoundation.org.uk/",{"$f":"'[1]Transformation sheet'!$B$11","v":"2019-05-31"},{"$f":"IF(OR('[1]GIFTS data'!K110=\"4. Proactive Programme\",'[1]GIFTS data'!K110=\"3. Regular Grants Programme\"),\"Revenue\",\"Capital\")","v":"Capital"}]
[{"$f":"CONCATENATE('[1]Transformation sheet'!$B$1,'[1]GIFTS data'!A111)","v":"360G-ClothworkersFdn-201700378"},{"$f":"'[1]GIFTS data'!A111","v":201700378},{"$f":"CONCATENATE(\"Grant to \",'[1]GIFTS data'!F111)","v":"Grant to Gellideg Foundation Community Association (The GFG)"},{"$f":"'[1]GIFTS data'!B111","v":"Landscaping project for a charity which works with disadvantaged young people in Merthyr Tydfil"},{"$f":"'[1]Transformation sheet'!$B$2","v":"GBP"},{"$f":"'[1]GIFTS data'!C111","v":60000},{"$f":"'[1]GIFTS data'!D111","v":"2018-03-27"},{"$f":"IF(LEFT('[1]GIFTS data'!G111,3)=\"SC0\",\"GB-SC-\"&'[1]GIFTS data'!G111,IF(LEN('[1]GIFTS data'!G111)=8,\"GB-COH-\"&'[1]GIFTS data'!G111,IF(LEFT('[1]GIFTS data'!G111,1)=\"X\",\"GB-REV-\"&'[1]GIFTS data'!G111,IF(AND(LEN('[1]GIFTS data'!G111)=7,LEFT('[1]GIFTS data'!G111,1)=\"1\"),\"GB-CHC-\"&'[1]GIFTS data'!G111,IF(LEN('[1]GIFTS data'!G111)=7,\"GB-COH-0\"&'[1]GIFTS data'!G111,IF(LEFT('[1]GIFTS data'!G111,3)=\"NIC\",\"GB-NIC-\"&RIGHT('[1]GIFTS data'!G111,LEN('[1]GIFTS data'!G111)-3),IF(LEN('[1]GIFTS data'!G111)=6,\"GB-CHC-\"&'[1]GIFTS data'!G111,'[1]Transformation sheet'!$B$3&'[1]GIFTS data'!E111)))))))","v":"GB-CHC-1110453"},{"$f":"'[1]GIFTS data'!F111","v":"Gellideg Foundation Community Association (The GFG)"},{"$f":"'[1]GIFTS data'!G111","v":1110453},{"$f":"'[1]GIFTS data'!J111","v":"Merthyr Tydfil"},{"$f":"'[1]GIFTS data'!I111","v":"CF48 1HB"},{"$f":"'[1]GIFTS data'!H111","v":"Wales"},{"$f":"IF(OR('[1]GIFTS data'!K111=\"4. Proactive Programme\",'[1]GIFTS data'!K111=\"3. Regular Grants Programme\"),\"No\",\"Yes\")","v":"Yes"},{"$f":"RIGHT('[1]GIFTS data'!K111,LEN('[1]GIFTS data'!K111)-3)","v":"Main Grants Programme"},{"$f":"'[1]Transformation sheet'!$B$8","v":"GB-CHC-274100"},{"$f":"'[1]Transformation sheet'!$B$9","v":"The Clothworkers Foundation"},"https://www.clothworkersfoundation.org.uk/",{"$f":"'[1]Transformation sheet'!$B$11","v":"2019-05-31"},{"$f":"IF(OR('[1]GIFTS data'!K111=\"4. Proactive Programme\",'[1]GIFTS data'!K111=\"3. Regular Grants Programme\"),\"Revenue\",\"Capital\")","v":"Capital"}]
[{"$f":"CONCATENATE('[1]Transformation sheet'!$B$1,'[1]GIFTS data'!A112)","v":"360G-ClothworkersFdn-201700714"},{"$f":"'[1]GIFTS data'!A112","v":201700714},{"$f":"CONCATENATE(\"Grant to \",'[1]GIFTS data'!F112)","v":"Grant to Genie In The Gutter"},{"$f":"'[1]GIFTS data'!B112","v":"purchase of digital and musical equipment for a charity which works with people recovering from addiction in Liverpool"},{"$f":"'[1]Transformation sheet'!$B$2","v":"GBP"},{"$f":"'[1]GIFTS data'!C112","v":10000},{"$f":"'[1]GIFTS data'!D112","v":"2018-07-19"},{"$f":"IF(LEFT('[1]GIFTS data'!G112,3)=\"SC0\",\"GB-SC-\"&'[1]GIFTS data'!G112,IF(LEN('[1]GIFTS data'!G112)=8,\"GB-COH-\"&'[1]GIFTS data'!G112,IF(LEFT('[1]GIFTS data'!G112,1)=\"X\",\"GB-REV-\"&'[1]GIFTS data'!G112,IF(AND(LEN('[1]GIFTS data'!G112)=7,LEFT('[1]GIFTS data'!G112,1)=\"1\"),\"GB-CHC-\"&'[1]GIFTS data'!G112,IF(LEN('[1]GIFTS data'!G112)=7,\"GB-COH-0\"&'[1]GIFTS data'!G112,IF(LEFT('[1]GIFTS data'!G112,3)=\"NIC\",\"GB-NIC-\"&RIGHT('[1]GIFTS data'!G112,LEN('[1]GIFTS data'!G112)-3),IF(LEN('[1]GIFTS data'!G112)=6,\"GB-CHC-\"&'[1]GIFTS data'!G112,'[1]Transformation sheet'!$B$3&'[1]GIFTS data'!E112)))))))","v":"GB-CHC-1172952"},{"$f":"'[1]GIFTS data'!F112","v":"Genie In The Gutter"},{"$f":"'[1]GIFTS data'!G112","v":1172952},{"$f":"'[1]GIFTS data'!J112","v":"Liverpool"},{"$f":"'[1]GIFTS data'!I112","v":"L1 9EN"},{"$f":"'[1]GIFTS data'!H112","v":"North West"},{"$f":"IF(OR('[1]GIFTS data'!K112=\"4. Proactive Programme\",'[1]GIFTS data'!K112=\"3. Regular Grants Programme\"),\"No\",\"Yes\")","v":"Yes"},{"$f":"RIGHT('[1]GIFTS data'!K112,LEN('[1]GIFTS data'!K112)-3)","v":"Small Grants Programme"},{"$f":"'[1]Transformation sheet'!$B$8","v":"GB-CHC-274100"},{"$f":"'[1]Transformation sheet'!$B$9","v":"The Clothworkers Foundation"},"https://www.clothworkersfoundation.org.uk/",{"$f":"'[1]Transformation sheet'!$B$11","v":"2019-05-31"},{"$f":"IF(OR('[1]GIFTS data'!K112=\"4. Proactive Programme\",'[1]GIFTS data'!K112=\"3. Regular Grants Programme\"),\"Revenue\",\"Capital\")","v":"Capital"}]
[{"$f":"CONCATENATE('[1]Transformation sheet'!$B$1,'[1]GIFTS data'!A113)","v":"360G-ClothworkersFdn-201700750"},{"$f":"'[1]GIFTS data'!A113","v":201700750},{"$f":"CONCATENATE(\"Grant to \",'[1]GIFTS data'!F113)","v":"Grant to Golden-Oldies"},{"$f":"'[1]GIFTS data'!B113","v":"purchase of audio visual equipment for a charity which works with older people in England and Wales"},{"$f":"'[1]Transformation sheet'!$B$2","v":"GBP"},{"$f":"'[1]GIFTS data'!C113","v":9000},{"$f":"'[1]GIFTS data'!D113","v":"2018-07-19"},{"$f":"IF(LEFT('[1]GIFTS data'!G113,3)=\"SC0\",\"GB-SC-\"&'[1]GIFTS data'!G113,IF(LEN('[1]GIFTS data'!G113)=8,\"GB-COH-\"&'[1]GIFTS data'!G113,IF(LEFT('[1]GIFTS data'!G113,1)=\"X\",\"GB-REV-\"&'[1]GIFTS data'!G113,IF(AND(LEN('[1]GIFTS data'!G113)=7,LEFT('[1]GIFTS data'!G113,1)=\"1\"),\"GB-CHC-\"&'[1]GIFTS data'!G113,IF(LEN('[1]GIFTS data'!G113)=7,\"GB-COH-0\"&'[1]GIFTS data'!G113,IF(LEFT('[1]GIFTS data'!G113,3)=\"NIC\",\"GB-NIC-\"&RIGHT('[1]GIFTS data'!G113,LEN('[1]GIFTS data'!G113)-3),IF(LEN('[1]GIFTS data'!G113)=6,\"GB-CHC-\"&'[1]GIFTS data'!G113,'[1]Transformation sheet'!$B$3&'[1]GIFTS data'!E113)))))))","v":"GB-CHC-1121600"},{"$f":"'[1]GIFTS data'!F113","v":"Golden-Oldies"},{"$f":"'[1]GIFTS data'!G113","v":1121600},{"$f":"'[1]GIFTS data'!J113","v":"Radstock"},{"$f":"'[1]GIFTS data'!I113","v":"BA3 4XE"},{"$f":"'[1]GIFTS data'!H113","v":"South West"},{"$f":"IF(OR('[1]GIFTS data'!K113=\"4. Proactive Programme\",'[1]GIFTS data'!K113=\"3. Regular Grants Programme\"),\"No\",\"Yes\")","v":"Yes"},{"$f":"RIGHT('[1]GIFTS data'!K113,LEN('[1]GIFTS data'!K113)-3)","v":"Small Grants Programme"},{"$f":"'[1]Transformation sheet'!$B$8","v":"GB-CHC-274100"},{"$f":"'[1]Transformation sheet'!$B$9","v":"The Clothworkers Foundation"},"https://www.clothworkersfoundation.org.uk/",{"$f":"'[1]Transformation sheet'!$B$11","v":"2019-05-31"},{"$f":"IF(OR('[1]GIFTS data'!K113=\"4. Proactive Programme\",'[1]GIFTS data'!K113=\"3. Regular Grants Programme\"),\"Revenue\",\"Capital\")","v":"Capital"}]
[{"$f":"CONCATENATE('[1]Transformation sheet'!$B$1,'[1]GIFTS data'!A114)","v":"360G-ClothworkersFdn-201700703"},{"$f":"'[1]GIFTS data'!A114","v":201700703},{"$f":"CONCATENATE(\"Grant to \",'[1]GIFTS data'!F114)","v":"Grant to Gospel Oak Community Centre"},{"$f":"'[1]GIFTS data'!B114","v":"purchase of laptops and projector for a charity which works with disadvantaged young people in Birmingham"},{"$f":"'[1]Transformation sheet'!$B$2","v":"GBP"},{"$f":"'[1]GIFTS data'!C114","v":3500},{"$f":"'[1]GIFTS data'!D114","v":"2018-06-21"},{"$f":"IF(LEFT('[1]GIFTS data'!G114,3)=\"SC0\",\"GB-SC-\"&'[1]GIFTS data'!G114,IF(LEN('[1]GIFTS data'!G114)=8,\"GB-COH-\"&'[1]GIFTS data'!G114,IF(LEFT('[1]GIFTS data'!G114,1)=\"X\",\"GB-REV-\"&'[1]GIFTS data'!G114,IF(AND(LEN('[1]GIFTS data'!G114)=7,LEFT('[1]GIFTS data'!G114,1)=\"1\"),\"GB-CHC-\"&'[1]GIFTS data'!G114,IF(LEN('[1]GIFTS data'!G114)=7,\"GB-COH-0\"&'[1]GIFTS data'!G114,IF(LEFT('[1]GIFTS data'!G114,3)=\"NIC\",\"GB-NIC-\"&RIGHT('[1]GIFTS data'!G114,LEN('[1]GIFTS data'!G114)-3),IF(LEN('[1]GIFTS data'!G114)=6,\"GB-CHC-\"&'[1]GIFTS data'!G114,'[1]Transformation sheet'!$B$3&'[1]GIFTS data'!E114)))))))","v":"GB-CHC-1099557"},{"$f":"'[1]GIFTS data'!F114","v":"Gospel Oak Community Centre"},{"$f":"'[1]GIFTS data'!G114","v":1099557},{"$f":"'[1]GIFTS data'!J114","v":"Birmingham"},{"$f":"'[1]GIFTS data'!I114","v":"B28 9NU"},{"$f":"'[1]GIFTS data'!H114","v":"West Midlands"},{"$f":"IF(OR('[1]GIFTS data'!K114=\"4. Proactive Programme\",'[1]GIFTS data'!K114=\"3. Regular Grants Programme\"),\"No\",\"Yes\")","v":"Yes"},{"$f":"RIGHT('[1]GIFTS data'!K114,LEN('[1]GIFTS data'!K114)-3)","v":"Small Grants Programme"},{"$f":"'[1]Transformation sheet'!$B$8","v":"GB-CHC-274100"},{"$f":"'[1]Transformation sheet'!$B$9","v":"The Clothworkers Foundation"},"https://www.clothworkersfoundation.org.uk/",{"$f":"'[1]Transformation sheet'!$B$11","v":"2019-05-31"},{"$f":"IF(OR('[1]GIFTS data'!K114=\"4. Proactive Programme\",'[1]GIFTS data'!K114=\"3. Regular Grants Programme\"),\"Revenue\",\"Capital\")","v":"Capital"}]
[{"$f":"CONCATENATE('[1]Transformation sheet'!$B$1,'[1]GIFTS data'!A115)","v":"360G-ClothworkersFdn-201700713"},{"$f":"'[1]GIFTS data'!A115","v":201700713},{"$f":"CONCATENATE(\"Grant to \",'[1]GIFTS data'!F115)","v":"Grant to Great Arley School PTFA"},{"$f":"'[1]GIFTS data'!B115","v":"installation of steel canopy and UV panels for a charity which works with disabled people in Lancashire"},{"$f":"'[1]Transformation sheet'!$B$2","v":"GBP"},{"$f":"'[1]GIFTS data'!C115","v":10000},{"$f":"'[1]GIFTS data'!D115","v":"2018-07-19"},{"$f":"IF(LEFT('[1]GIFTS data'!G115,3)=\"SC0\",\"GB-SC-\"&'[1]GIFTS data'!G115,IF(LEN('[1]GIFTS data'!G115)=8,\"GB-COH-\"&'[1]GIFTS data'!G115,IF(LEFT('[1]GIFTS data'!G115,1)=\"X\",\"GB-REV-\"&'[1]GIFTS data'!G115,IF(AND(LEN('[1]GIFTS data'!G115)=7,LEFT('[1]GIFTS data'!G115,1)=\"1\"),\"GB-CHC-\"&'[1]GIFTS data'!G115,IF(LEN('[1]GIFTS data'!G115)=7,\"GB-COH-0\"&'[1]GIFTS data'!G115,IF(LEFT('[1]GIFTS data'!G115,3)=\"NIC\",\"GB-NIC-\"&RIGHT('[1]GIFTS data'!G115,LEN('[1]GIFTS data'!G115)-3),IF(LEN('[1]GIFTS data'!G115)=6,\"GB-CHC-\"&'[1]GIFTS data'!G115,'[1]Transformation sheet'!$B$3&'[1]GIFTS data'!E115)))))))","v":"GB-CHC-1150263"},{"$f":"'[1]GIFTS data'!F115","v":"Great Arley School PTFA"},{"$f":"'[1]GIFTS data'!G115","v":1150263},{"$f":"'[1]GIFTS data'!J115","v":"Thornton Cleveleys"},{"$f":"'[1]GIFTS data'!I115","v":"FY5 4HH"},{"$f":"'[1]GIFTS data'!H115","v":"North West"},{"$f":"IF(OR('[1]GIFTS data'!K115=\"4. Proactive Programme\",'[1]GIFTS data'!K115=\"3. Regular Grants Programme\"),\"No\",\"Yes\")","v":"Yes"},{"$f":"RIGHT('[1]GIFTS data'!K115,LEN('[1]GIFTS data'!K115)-3)","v":"Small Grants Programme"},{"$f":"'[1]Transformation sheet'!$B$8","v":"GB-CHC-274100"},{"$f":"'[1]Transformation sheet'!$B$9","v":"The Clothworkers Foundation"},"https://www.clothworkersfoundation.org.uk/",{"$f":"'[1]Transformation sheet'!$B$11","v":"2019-05-31"},{"$f":"IF(OR('[1]GIFTS data'!K115=\"4. Proactive Programme\",'[1]GIFTS data'!K115=\"3. Regular Grants Programme\"),\"Revenue\",\"Capital\")","v":"Capital"}]
[{"$f":"CONCATENATE('[1]Transformation sheet'!$B$1,'[1]GIFTS data'!A116)","v":"360G-ClothworkersFdn-201700762"},{"$f":"'[1]GIFTS data'!A116","v":201700762},{"$f":"CONCATENATE(\"Grant to \",'[1]GIFTS data'!F116)","v":"Grant to Green Candle Dance Company"},{"$f":"'[1]GIFTS data'!B116","v":"purchase and installation of a VPN router for a charity which works with older people in Bethnal Green"},{"$f":"'[1]Transformation sheet'!$B$2","v":"GBP"},{"$f":"'[1]GIFTS data'!C116","v":4600},{"$f":"'[1]GIFTS data'!D116","v":"2018-08-31"},"GB-CHC-0801774",{"$f":"'[1]GIFTS data'!F116","v":"Green Candle Dance Company"},{"$f":"'[1]GIFTS data'!G116","v":"0801774​"},{"$f":"'[1]GIFTS data'!J116","v":"Bethnal Green"},{"$f":"'[1]GIFTS data'!I116","v":"E2 6HG"},{"$f":"'[1]GIFTS data'!H116","v":"Greater London"},{"$f":"IF(OR('[1]GIFTS data'!K116=\"4. Proactive Programme\",'[1]GIFTS data'!K116=\"3. Regular Grants Programme\"),\"No\",\"Yes\")","v":"Yes"},{"$f":"RIGHT('[1]GIFTS data'!K116,LEN('[1]GIFTS data'!K116)-3)","v":"Small Grants Programme"},{"$f":"'[1]Transformation sheet'!$B$8","v":"GB-CHC-274100"},{"$f":"'[1]Transformation sheet'!$B$9","v":"The Clothworkers Foundation"},"https://www.clothworkersfoundation.org.uk/",{"$f":"'[1]Transformation sheet'!$B$11","v":"2019-05-31"},{"$f":"IF(OR('[1]GIFTS data'!K116=\"4. Proactive Programme\",'[1]GIFTS data'!K116=\"3. Regular Grants Programme\"),\"Revenue\",\"Capital\")","v":"Capital"}]
[{"$f":"CONCATENATE('[1]Transformation sheet'!$B$1,'[1]GIFTS data'!A117)","v":"360G-ClothworkersFdn-201700943"},{"$f":"'[1]GIFTS data'!A117","v":201700943},{"$f":"CONCATENATE(\"Grant to \",'[1]GIFTS data'!F117)","v":"Grant to Grimesthorpe Family Centre"},{"$f":"'[1]GIFTS data'!B117","v":"renovation of doors and windows of a community centre for a charity which works with disadvantaged minority communities in Sheffield"},{"$f":"'[1]Transformation sheet'!$B$2","v":"GBP"},{"$f":"'[1]GIFTS data'!C117","v":10000},{"$f":"'[1]GIFTS data'!D117","v":"2018-12-07"},{"$f":"IF(LEFT('[1]GIFTS data'!G117,3)=\"SC0\",\"GB-SC-\"&'[1]GIFTS data'!G117,IF(LEN('[1]GIFTS data'!G117)=8,\"GB-COH-\"&'[1]GIFTS data'!G117,IF(LEFT('[1]GIFTS data'!G117,1)=\"X\",\"GB-REV-\"&'[1]GIFTS data'!G117,IF(AND(LEN('[1]GIFTS data'!G117)=7,LEFT('[1]GIFTS data'!G117,1)=\"1\"),\"GB-CHC-\"&'[1]GIFTS data'!G117,IF(LEN('[1]GIFTS data'!G117)=7,\"GB-COH-0\"&'[1]GIFTS data'!G117,IF(LEFT('[1]GIFTS data'!G117,3)=\"NIC\",\"GB-NIC-\"&RIGHT('[1]GIFTS data'!G117,LEN('[1]GIFTS data'!G117)-3),IF(LEN('[1]GIFTS data'!G117)=6,\"GB-CHC-\"&'[1]GIFTS data'!G117,'[1]Transformation sheet'!$B$3&'[1]GIFTS data'!E117)))))))","v":"GB-CHC-517094"},{"$f":"'[1]GIFTS data'!F117","v":"Grimesthorpe Family Centre"},{"$f":"'[1]GIFTS data'!G117","v":517094},{"$f":"'[1]GIFTS data'!J117","v":"Sheffield"},{"$f":"'[1]GIFTS data'!I117","v":"S13 8LR"},{"$f":"'[1]GIFTS data'!H117","v":"Yorks & Humberside"},{"$f":"IF(OR('[1]GIFTS data'!K117=\"4. Proactive Programme\",'[1]GIFTS data'!K117=\"3. Regular Grants Programme\"),\"No\",\"Yes\")","v":"Yes"},{"$f":"RIGHT('[1]GIFTS data'!K117,LEN('[1]GIFTS data'!K117)-3)","v":"Small Grants Programme"},{"$f":"'[1]Transformation sheet'!$B$8","v":"GB-CHC-274100"},{"$f":"'[1]Transformation sheet'!$B$9","v":"The Clothworkers Foundation"},"https://www.clothworkersfoundation.org.uk/",{"$f":"'[1]Transformation sheet'!$B$11","v":"2019-05-31"},{"$f":"IF(OR('[1]GIFTS data'!K117=\"4. Proactive Programme\",'[1]GIFTS data'!K117=\"3. Regular Grants Programme\"),\"Revenue\",\"Capital\")","v":"Capital"}]
[{"$f":"CONCATENATE('[1]Transformation sheet'!$B$1,'[1]GIFTS data'!A118)","v":"360G-ClothworkersFdn-201700722"},{"$f":"'[1]GIFTS data'!A118","v":201700722},{"$f":"CONCATENATE(\"Grant to \",'[1]GIFTS data'!F118)","v":"Grant to Halifax Opportunities Trust"},{"$f":"'[1]GIFTS data'!B118","v":"refurbishment of a kitchen for a charity which works with older people in Halifax"},{"$f":"'[1]Transformation sheet'!$B$2","v":"GBP"},{"$f":"'[1]GIFTS data'!C118","v":15000},{"$f":"'[1]GIFTS data'!D118","v":"2018-07-17"},{"$f":"IF(LEFT('[1]GIFTS data'!G118,3)=\"SC0\",\"GB-SC-\"&'[1]GIFTS data'!G118,IF(LEN('[1]GIFTS data'!G118)=8,\"GB-COH-\"&'[1]GIFTS data'!G118,IF(LEFT('[1]GIFTS data'!G118,1)=\"X\",\"GB-REV-\"&'[1]GIFTS data'!G118,IF(AND(LEN('[1]GIFTS data'!G118)=7,LEFT('[1]GIFTS data'!G118,1)=\"1\"),\"GB-CHC-\"&'[1]GIFTS data'!G118,IF(LEN('[1]GIFTS data'!G118)=7,\"GB-COH-0\"&'[1]GIFTS data'!G118,IF(LEFT('[1]GIFTS data'!G118,3)=\"NIC\",\"GB-NIC-\"&RIGHT('[1]GIFTS data'!G118,LEN('[1]GIFTS data'!G118)-3),IF(LEN('[1]GIFTS data'!G118)=6,\"GB-CHC-\"&'[1]GIFTS data'!G118,'[1]Transformation sheet'!$B$3&'[1]GIFTS data'!E118)))))))","v":"GB-CHC-1086183"},{"$f":"'[1]GIFTS data'!F118","v":"Halifax Opportunities Trust"},{"$f":"'[1]GIFTS data'!G118","v":1086183},{"$f":"'[1]GIFTS data'!J118","v":"Halifax"},{"$f":"'[1]GIFTS data'!I118","v":"HX1 5PG"},{"$f":"'[1]GIFTS data'!H118","v":"Yorks & Humberside"},{"$f":"IF(OR('[1]GIFTS data'!K118=\"4. Proactive Programme\",'[1]GIFTS data'!K118=\"3. Regular Grants Programme\"),\"No\",\"Yes\")","v":"Yes"},{"$f":"RIGHT('[1]GIFTS data'!K118,LEN('[1]GIFTS data'!K118)-3)","v":"Main Grants Programme"},{"$f":"'[1]Transformation sheet'!$B$8","v":"GB-CHC-274100"},{"$f":"'[1]Transformation sheet'!$B$9","v":"The Clothworkers Foundation"},"https://www.clothworkersfoundation.org.uk/",{"$f":"'[1]Transformation sheet'!$B$11","v":"2019-05-31"},{"$f":"IF(OR('[1]GIFTS data'!K118=\"4. Proactive Programme\",'[1]GIFTS data'!K118=\"3. Regular Grants Programme\"),\"Revenue\",\"Capital\")","v":"Capital"}]
[{"$f":"CONCATENATE('[1]Transformation sheet'!$B$1,'[1]GIFTS data'!A119)","v":"360G-ClothworkersFdn-201700851"},{"$f":"'[1]GIFTS data'!A119","v":201700851},{"$f":"CONCATENATE(\"Grant to \",'[1]GIFTS data'!F119)","v":"Grant to Hand of Solace"},{"$f":"'[1]GIFTS data'!B119","v":"purchase of a fridge, kettle and filing cabinets for a charity which works with older people in Aberdeen"},{"$f":"'[1]Transformation sheet'!$B$2","v":"GBP"},{"$f":"'[1]GIFTS data'!C119","v":2800},{"$f":"'[1]GIFTS data'!D119","v":"2018-09-26"},{"$f":"IF(LEFT('[1]GIFTS data'!G119,3)=\"SC0\",\"GB-SC-\"&'[1]GIFTS data'!G119,IF(LEN('[1]GIFTS data'!G119)=8,\"GB-COH-\"&'[1]GIFTS data'!G119,IF(LEFT('[1]GIFTS data'!G119,1)=\"X\",\"GB-REV-\"&'[1]GIFTS data'!G119,IF(AND(LEN('[1]GIFTS data'!G119)=7,LEFT('[1]GIFTS data'!G119,1)=\"1\"),\"GB-CHC-\"&'[1]GIFTS data'!G119,IF(LEN('[1]GIFTS data'!G119)=7,\"GB-COH-0\"&'[1]GIFTS data'!G119,IF(LEFT('[1]GIFTS data'!G119,3)=\"NIC\",\"GB-NIC-\"&RIGHT('[1]GIFTS data'!G119,LEN('[1]GIFTS data'!G119)-3),IF(LEN('[1]GIFTS data'!G119)=6,\"GB-CHC-\"&'[1]GIFTS data'!G119,'[1]Transformation sheet'!$B$3&'[1]GIFTS data'!E119)))))))","v":"GB-SC-SC048192"},{"$f":"'[1]GIFTS data'!F119","v":"Hand of Solace"},{"$f":"'[1]GIFTS data'!G119","v":"SC048192"},{"$f":"'[1]GIFTS data'!J119","v":"Aberdeen"},{"$f":"'[1]GIFTS data'!I119","v":"AB21 9NG"},{"$f":"'[1]GIFTS data'!H119","v":"Scotland"},{"$f":"IF(OR('[1]GIFTS data'!K119=\"4. Proactive Programme\",'[1]GIFTS data'!K119=\"3. Regular Grants Programme\"),\"No\",\"Yes\")","v":"Yes"},{"$f":"RIGHT('[1]GIFTS data'!K119,LEN('[1]GIFTS data'!K119)-3)","v":"Small Grants Programme"},{"$f":"'[1]Transformation sheet'!$B$8","v":"GB-CHC-274100"},{"$f":"'[1]Transformation sheet'!$B$9","v":"The Clothworkers Foundation"},"https://www.clothworkersfoundation.org.uk/",{"$f":"'[1]Transformation sheet'!$B$11","v":"2019-05-31"},{"$f":"IF(OR('[1]GIFTS data'!K119=\"4. Proactive Programme\",'[1]GIFTS data'!K119=\"3. Regular Grants Programme\"),\"Revenue\",\"Capital\")","v":"Capital"}]
[{"$f":"CONCATENATE('[1]Transformation sheet'!$B$1,'[1]GIFTS data'!A120)","v":"360G-ClothworkersFdn-201700733"},{"$f":"'[1]GIFTS data'!A120","v":201700733},{"$f":"CONCATENATE(\"Grant to \",'[1]GIFTS data'!F120)","v":"Grant to Haringey Migrant Support Centre"},{"$f":"'[1]GIFTS data'!B120","v":"purchase of office furniture and equipment for a charity which works with disadvantaged minority communities in Haringey"},{"$f":"'[1]Transformation sheet'!$B$2","v":"GBP"},{"$f":"'[1]GIFTS data'!C120","v":5000},{"$f":"'[1]GIFTS data'!D120","v":"2018-07-19"},{"$f":"IF(LEFT('[1]GIFTS data'!G120,3)=\"SC0\",\"GB-SC-\"&'[1]GIFTS data'!G120,IF(LEN('[1]GIFTS data'!G120)=8,\"GB-COH-\"&'[1]GIFTS data'!G120,IF(LEFT('[1]GIFTS data'!G120,1)=\"X\",\"GB-REV-\"&'[1]GIFTS data'!G120,IF(AND(LEN('[1]GIFTS data'!G120)=7,LEFT('[1]GIFTS data'!G120,1)=\"1\"),\"GB-CHC-\"&'[1]GIFTS data'!G120,IF(LEN('[1]GIFTS data'!G120)=7,\"GB-COH-0\"&'[1]GIFTS data'!G120,IF(LEFT('[1]GIFTS data'!G120,3)=\"NIC\",\"GB-NIC-\"&RIGHT('[1]GIFTS data'!G120,LEN('[1]GIFTS data'!G120)-3),IF(LEN('[1]GIFTS data'!G120)=6,\"GB-CHC-\"&'[1]GIFTS data'!G120,'[1]Transformation sheet'!$B$3&'[1]GIFTS data'!E120)))))))","v":"GB-CHC-1152227"},{"$f":"'[1]GIFTS data'!F120","v":"Haringey Migrant Support Centre"},{"$f":"'[1]GIFTS data'!G120","v":1152227},{"$f":"'[1]GIFTS data'!J120","v":"Tottenham"},{"$f":"'[1]GIFTS data'!I120","v":"N15 3QL"},{"$f":"'[1]GIFTS data'!H120","v":"Greater London"},{"$f":"IF(OR('[1]GIFTS data'!K120=\"4. Proactive Programme\",'[1]GIFTS data'!K120=\"3. Regular Grants Programme\"),\"No\",\"Yes\")","v":"Yes"},{"$f":"RIGHT('[1]GIFTS data'!K120,LEN('[1]GIFTS data'!K120)-3)","v":"Small Grants Programme"},{"$f":"'[1]Transformation sheet'!$B$8","v":"GB-CHC-274100"},{"$f":"'[1]Transformation sheet'!$B$9","v":"The Clothworkers Foundation"},"https://www.clothworkersfoundation.org.uk/",{"$f":"'[1]Transformation sheet'!$B$11","v":"2019-05-31"},{"$f":"IF(OR('[1]GIFTS data'!K120=\"4. Proactive Programme\",'[1]GIFTS data'!K120=\"3. Regular Grants Programme\"),\"Revenue\",\"Capital\")","v":"Capital"}]
[{"$f":"CONCATENATE('[1]Transformation sheet'!$B$1,'[1]GIFTS data'!A121)","v":"360G-ClothworkersFdn-201700460"},{"$f":"'[1]GIFTS data'!A121","v":201700460},{"$f":"CONCATENATE(\"Grant to \",'[1]GIFTS data'!F121)","v":"Grant to HARV Outreach"},{"$f":"'[1]GIFTS data'!B121","v":"refurbishment of a building for a charity which works with survivors of domestic and sexual violence in Accrington"},{"$f":"'[1]Transformation sheet'!$B$2","v":"GBP"},{"$f":"'[1]GIFTS data'!C121","v":25000},{"$f":"'[1]GIFTS data'!D121","v":"2018-02-08"},{"$f":"IF(LEFT('[1]GIFTS data'!G121,3)=\"SC0\",\"GB-SC-\"&'[1]GIFTS data'!G121,IF(LEN('[1]GIFTS data'!G121)=8,\"GB-COH-\"&'[1]GIFTS data'!G121,IF(LEFT('[1]GIFTS data'!G121,1)=\"X\",\"GB-REV-\"&'[1]GIFTS data'!G121,IF(AND(LEN('[1]GIFTS data'!G121)=7,LEFT('[1]GIFTS data'!G121,1)=\"1\"),\"GB-CHC-\"&'[1]GIFTS data'!G121,IF(LEN('[1]GIFTS data'!G121)=7,\"GB-COH-0\"&'[1]GIFTS data'!G121,IF(LEFT('[1]GIFTS data'!G121,3)=\"NIC\",\"GB-NIC-\"&RIGHT('[1]GIFTS data'!G121,LEN('[1]GIFTS data'!G121)-3),IF(LEN('[1]GIFTS data'!G121)=6,\"GB-CHC-\"&'[1]GIFTS data'!G121,'[1]Transformation sheet'!$B$3&'[1]GIFTS data'!E121)))))))","v":"GB-CHC-1069367"},{"$f":"'[1]GIFTS data'!F121","v":"HARV Outreach"},{"$f":"'[1]GIFTS data'!G121","v":1069367},{"$f":"'[1]GIFTS data'!J121","v":"Accrington"},{"$f":"'[1]GIFTS data'!I121","v":"BB5 1GJ"},{"$f":"'[1]GIFTS data'!H121","v":"North West"},{"$f":"IF(OR('[1]GIFTS data'!K121=\"4. Proactive Programme\",'[1]GIFTS data'!K121=\"3. Regular Grants Programme\"),\"No\",\"Yes\")","v":"Yes"},{"$f":"RIGHT('[1]GIFTS data'!K121,LEN('[1]GIFTS data'!K121)-3)","v":"Main Grants Programme"},{"$f":"'[1]Transformation sheet'!$B$8","v":"GB-CHC-274100"},{"$f":"'[1]Transformation sheet'!$B$9","v":"The Clothworkers Foundation"},"https://www.clothworkersfoundation.org.uk/",{"$f":"'[1]Transformation sheet'!$B$11","v":"2019-05-31"},{"$f":"IF(OR('[1]GIFTS data'!K121=\"4. Proactive Programme\",'[1]GIFTS data'!K121=\"3. Regular Grants Programme\"),\"Revenue\",\"Capital\")","v":"Capital"}]
[{"$f":"CONCATENATE('[1]Transformation sheet'!$B$1,'[1]GIFTS data'!A122)","v":"360G-ClothworkersFdn-201700871"},{"$f":"'[1]GIFTS data'!A122","v":201700871},{"$f":"CONCATENATE(\"Grant to \",'[1]GIFTS data'!F122)","v":"Grant to Headway East London"},{"$f":"'[1]GIFTS data'!B122","v":"refurbishments to a premises for a charity which works with people with disabilities in London"},{"$f":"'[1]Transformation sheet'!$B$2","v":"GBP"},{"$f":"'[1]GIFTS data'!C122","v":16000},{"$f":"'[1]GIFTS data'!D122","v":"2018-10-16"},{"$f":"IF(LEFT('[1]GIFTS data'!G122,3)=\"SC0\",\"GB-SC-\"&'[1]GIFTS data'!G122,IF(LEN('[1]GIFTS data'!G122)=8,\"GB-COH-\"&'[1]GIFTS data'!G122,IF(LEFT('[1]GIFTS data'!G122,1)=\"X\",\"GB-REV-\"&'[1]GIFTS data'!G122,IF(AND(LEN('[1]GIFTS data'!G122)=7,LEFT('[1]GIFTS data'!G122,1)=\"1\"),\"GB-CHC-\"&'[1]GIFTS data'!G122,IF(LEN('[1]GIFTS data'!G122)=7,\"GB-COH-0\"&'[1]GIFTS data'!G122,IF(LEFT('[1]GIFTS data'!G122,3)=\"NIC\",\"GB-NIC-\"&RIGHT('[1]GIFTS data'!G122,LEN('[1]GIFTS data'!G122)-3),IF(LEN('[1]GIFTS data'!G122)=6,\"GB-CHC-\"&'[1]GIFTS data'!G122,'[1]Transformation sheet'!$B$3&'[1]GIFTS data'!E122)))))))","v":"GB-CHC-1083910"},{"$f":"'[1]GIFTS data'!F122","v":"Headway East London"},{"$f":"'[1]GIFTS data'!G122","v":1083910},{"$f":"'[1]GIFTS data'!J122","v":"London"},{"$f":"'[1]GIFTS data'!I122","v":"E2 8AX"},{"$f":"'[1]GIFTS data'!H122","v":"Greater London"},{"$f":"IF(OR('[1]GIFTS data'!K122=\"4. Proactive Programme\",'[1]GIFTS data'!K122=\"3. Regular Grants Programme\"),\"No\",\"Yes\")","v":"Yes"},{"$f":"RIGHT('[1]GIFTS data'!K122,LEN('[1]GIFTS data'!K122)-3)","v":"Main Grants Programme"},{"$f":"'[1]Transformation sheet'!$B$8","v":"GB-CHC-274100"},{"$f":"'[1]Transformation sheet'!$B$9","v":"The Clothworkers Foundation"},"https://www.clothworkersfoundation.org.uk/",{"$f":"'[1]Transformation sheet'!$B$11","v":"2019-05-31"},{"$f":"IF(OR('[1]GIFTS data'!K122=\"4. Proactive Programme\",'[1]GIFTS data'!K122=\"3. Regular Grants Programme\"),\"Revenue\",\"Capital\")","v":"Capital"}]
[{"$f":"CONCATENATE('[1]Transformation sheet'!$B$1,'[1]GIFTS data'!A123)","v":"360G-ClothworkersFdn-201700749"},{"$f":"'[1]GIFTS data'!A123","v":201700749},{"$f":"CONCATENATE(\"Grant to \",'[1]GIFTS data'!F123)","v":"Grant to Health for All (Leeds)"},{"$f":"'[1]GIFTS data'!B123","v":"Refurbishment of a community centre"},{"$f":"'[1]Transformation sheet'!$B$2","v":"GBP"},{"$f":"'[1]GIFTS data'!C123","v":40000},{"$f":"'[1]GIFTS data'!D123","v":"2018-09-26"},{"$f":"IF(LEFT('[1]GIFTS data'!G123,3)=\"SC0\",\"GB-SC-\"&'[1]GIFTS data'!G123,IF(LEN('[1]GIFTS data'!G123)=8,\"GB-COH-\"&'[1]GIFTS data'!G123,IF(LEFT('[1]GIFTS data'!G123,1)=\"X\",\"GB-REV-\"&'[1]GIFTS data'!G123,IF(AND(LEN('[1]GIFTS data'!G123)=7,LEFT('[1]GIFTS data'!G123,1)=\"1\"),\"GB-CHC-\"&'[1]GIFTS data'!G123,IF(LEN('[1]GIFTS data'!G123)=7,\"GB-COH-0\"&'[1]GIFTS data'!G123,IF(LEFT('[1]GIFTS data'!G123,3)=\"NIC\",\"GB-NIC-\"&RIGHT('[1]GIFTS data'!G123,LEN('[1]GIFTS data'!G123)-3),IF(LEN('[1]GIFTS data'!G123)=6,\"GB-CHC-\"&'[1]GIFTS data'!G123,'[1]Transformation sheet'!$B$3&'[1]GIFTS data'!E123)))))))","v":"GB-CHC-1068643"},{"$f":"'[1]GIFTS data'!F123","v":"Health for All (Leeds)"},{"$f":"'[1]GIFTS data'!G123","v":1068643},{"$f":"'[1]GIFTS data'!J123","v":"Leeds"},{"$f":"'[1]GIFTS data'!I123","v":"LS10 4HX"},{"$f":"'[1]GIFTS data'!H123","v":"Yorks & Humberside"},{"$f":"IF(OR('[1]GIFTS data'!K123=\"4. Proactive Programme\",'[1]GIFTS data'!K123=\"3. Regular Grants Programme\"),\"No\",\"Yes\")","v":"Yes"},{"$f":"RIGHT('[1]GIFTS data'!K123,LEN('[1]GIFTS data'!K123)-3)","v":"Main Grants Programme"},{"$f":"'[1]Transformation sheet'!$B$8","v":"GB-CHC-274100"},{"$f":"'[1]Transformation sheet'!$B$9","v":"The Clothworkers Foundation"},"https://www.clothworkersfoundation.org.uk/",{"$f":"'[1]Transformation sheet'!$B$11","v":"2019-05-31"},{"$f":"IF(OR('[1]GIFTS data'!K123=\"4. Proactive Programme\",'[1]GIFTS data'!K123=\"3. Regular Grants Programme\"),\"Revenue\",\"Capital\")","v":"Capital"}]
[{"$f":"CONCATENATE('[1]Transformation sheet'!$B$1,'[1]GIFTS data'!A124)","v":"360G-ClothworkersFdn-201700512"},{"$f":"'[1]GIFTS data'!A124","v":201700512},{"$f":"CONCATENATE(\"Grant to \",'[1]GIFTS data'!F124)","v":"Grant to Heart of Tamworth Community Project"},{"$f":"'[1]GIFTS data'!B124","v":"Construction of a hub for a charity which works with disadvantaged young people in Staffordshire"},{"$f":"'[1]Transformation sheet'!$B$2","v":"GBP"},{"$f":"'[1]GIFTS data'!C124","v":25000},{"$f":"'[1]GIFTS data'!D124","v":"2018-05-16"},{"$f":"IF(LEFT('[1]GIFTS data'!G124,3)=\"SC0\",\"GB-SC-\"&'[1]GIFTS data'!G124,IF(LEN('[1]GIFTS data'!G124)=8,\"GB-COH-\"&'[1]GIFTS data'!G124,IF(LEFT('[1]GIFTS data'!G124,1)=\"X\",\"GB-REV-\"&'[1]GIFTS data'!G124,IF(AND(LEN('[1]GIFTS data'!G124)=7,LEFT('[1]GIFTS data'!G124,1)=\"1\"),\"GB-CHC-\"&'[1]GIFTS data'!G124,IF(LEN('[1]GIFTS data'!G124)=7,\"GB-COH-0\"&'[1]GIFTS data'!G124,IF(LEFT('[1]GIFTS data'!G124,3)=\"NIC\",\"GB-NIC-\"&RIGHT('[1]GIFTS data'!G124,LEN('[1]GIFTS data'!G124)-3),IF(LEN('[1]GIFTS data'!G124)=6,\"GB-CHC-\"&'[1]GIFTS data'!G124,'[1]Transformation sheet'!$B$3&'[1]GIFTS data'!E124)))))))","v":"GB-CHC-1157449"},{"$f":"'[1]GIFTS data'!F124","v":"Heart of Tamworth Community Project"},{"$f":"'[1]GIFTS data'!G124","v":1157449},{"$f":"'[1]GIFTS data'!J124","v":"TAMWORTH"},{"$f":"'[1]GIFTS data'!I124","v":"B77 2EA"},{"$f":"'[1]GIFTS data'!H124","v":"West Midlands"},{"$f":"IF(OR('[1]GIFTS data'!K124=\"4. Proactive Programme\",'[1]GIFTS data'!K124=\"3. Regular Grants Programme\"),\"No\",\"Yes\")","v":"Yes"},{"$f":"RIGHT('[1]GIFTS data'!K124,LEN('[1]GIFTS data'!K124)-3)","v":"Main Grants Programme"},{"$f":"'[1]Transformation sheet'!$B$8","v":"GB-CHC-274100"},{"$f":"'[1]Transformation sheet'!$B$9","v":"The Clothworkers Foundation"},"https://www.clothworkersfoundation.org.uk/",{"$f":"'[1]Transformation sheet'!$B$11","v":"2019-05-31"},{"$f":"IF(OR('[1]GIFTS data'!K124=\"4. Proactive Programme\",'[1]GIFTS data'!K124=\"3. Regular Grants Programme\"),\"Revenue\",\"Capital\")","v":"Capital"}]
[{"$f":"CONCATENATE('[1]Transformation sheet'!$B$1,'[1]GIFTS data'!A125)","v":"360G-ClothworkersFdn-201700861"},{"$f":"'[1]GIFTS data'!A125","v":201700861},{"$f":"CONCATENATE(\"Grant to \",'[1]GIFTS data'!F125)","v":"Grant to Helios Foundation"},{"$f":"'[1]GIFTS data'!B125","v":"purchase of new furniture and carpet for a charity which works with disadvantaged minority communities in London"},{"$f":"'[1]Transformation sheet'!$B$2","v":"GBP"},{"$f":"'[1]GIFTS data'!C125","v":9500},{"$f":"'[1]GIFTS data'!D125","v":"2018-09-26"},{"$f":"IF(LEFT('[1]GIFTS data'!G125,3)=\"SC0\",\"GB-SC-\"&'[1]GIFTS data'!G125,IF(LEN('[1]GIFTS data'!G125)=8,\"GB-COH-\"&'[1]GIFTS data'!G125,IF(LEFT('[1]GIFTS data'!G125,1)=\"X\",\"GB-REV-\"&'[1]GIFTS data'!G125,IF(AND(LEN('[1]GIFTS data'!G125)=7,LEFT('[1]GIFTS data'!G125,1)=\"1\"),\"GB-CHC-\"&'[1]GIFTS data'!G125,IF(LEN('[1]GIFTS data'!G125)=7,\"GB-COH-0\"&'[1]GIFTS data'!G125,IF(LEFT('[1]GIFTS data'!G125,3)=\"NIC\",\"GB-NIC-\"&RIGHT('[1]GIFTS data'!G125,LEN('[1]GIFTS data'!G125)-3),IF(LEN('[1]GIFTS data'!G125)=6,\"GB-CHC-\"&'[1]GIFTS data'!G125,'[1]Transformation sheet'!$B$3&'[1]GIFTS data'!E125)))))))","v":"GB-CHC-1160233"},{"$f":"'[1]GIFTS data'!F125","v":"Helios Foundation"},{"$f":"'[1]GIFTS data'!G125","v":1160233},{"$f":"'[1]GIFTS data'!J125","v":"London"},{"$f":"'[1]GIFTS data'!I125","v":"WC1H 9NS"},{"$f":"'[1]GIFTS data'!H125","v":"Greater London"},{"$f":"IF(OR('[1]GIFTS data'!K125=\"4. Proactive Programme\",'[1]GIFTS data'!K125=\"3. Regular Grants Programme\"),\"No\",\"Yes\")","v":"Yes"},{"$f":"RIGHT('[1]GIFTS data'!K125,LEN('[1]GIFTS data'!K125)-3)","v":"Small Grants Programme"},{"$f":"'[1]Transformation sheet'!$B$8","v":"GB-CHC-274100"},{"$f":"'[1]Transformation sheet'!$B$9","v":"The Clothworkers Foundation"},"https://www.clothworkersfoundation.org.uk/",{"$f":"'[1]Transformation sheet'!$B$11","v":"2019-05-31"},{"$f":"IF(OR('[1]GIFTS data'!K125=\"4. Proactive Programme\",'[1]GIFTS data'!K125=\"3. Regular Grants Programme\"),\"Revenue\",\"Capital\")","v":"Capital"}]
[{"$f":"CONCATENATE('[1]Transformation sheet'!$B$1,'[1]GIFTS data'!A126)","v":"360G-ClothworkersFdn-201700666"},{"$f":"'[1]GIFTS data'!A126","v":201700666},{"$f":"CONCATENATE(\"Grant to \",'[1]GIFTS data'!F126)","v":"Grant to Hertfordshire Hearing Advisory Service"},{"$f":"'[1]GIFTS data'!B126","v":"purchase of a car for a charity which works with disbaled people in Hertfordshire"},{"$f":"'[1]Transformation sheet'!$B$2","v":"GBP"},{"$f":"'[1]GIFTS data'!C126","v":10900},{"$f":"'[1]GIFTS data'!D126","v":"2018-06-21"},{"$f":"IF(LEFT('[1]GIFTS data'!G126,3)=\"SC0\",\"GB-SC-\"&'[1]GIFTS data'!G126,IF(LEN('[1]GIFTS data'!G126)=8,\"GB-COH-\"&'[1]GIFTS data'!G126,IF(LEFT('[1]GIFTS data'!G126,1)=\"X\",\"GB-REV-\"&'[1]GIFTS data'!G126,IF(AND(LEN('[1]GIFTS data'!G126)=7,LEFT('[1]GIFTS data'!G126,1)=\"1\"),\"GB-CHC-\"&'[1]GIFTS data'!G126,IF(LEN('[1]GIFTS data'!G126)=7,\"GB-COH-0\"&'[1]GIFTS data'!G126,IF(LEFT('[1]GIFTS data'!G126,3)=\"NIC\",\"GB-NIC-\"&RIGHT('[1]GIFTS data'!G126,LEN('[1]GIFTS data'!G126)-3),IF(LEN('[1]GIFTS data'!G126)=6,\"GB-CHC-\"&'[1]GIFTS data'!G126,'[1]Transformation sheet'!$B$3&'[1]GIFTS data'!E126)))))))","v":"GB-CHC-1063430"},{"$f":"'[1]GIFTS data'!F126","v":"Hertfordshire Hearing Advisory Service"},{"$f":"'[1]GIFTS data'!G126","v":1063430},{"$f":"'[1]GIFTS data'!J126","v":"Welwyn Garden City"},{"$f":"'[1]GIFTS data'!I126","v":"AL7 4SE"},{"$f":"'[1]GIFTS data'!H126","v":"East"},{"$f":"IF(OR('[1]GIFTS data'!K126=\"4. Proactive Programme\",'[1]GIFTS data'!K126=\"3. Regular Grants Programme\"),\"No\",\"Yes\")","v":"Yes"},{"$f":"RIGHT('[1]GIFTS data'!K126,LEN('[1]GIFTS data'!K126)-3)","v":"Small Grants Programme"},{"$f":"'[1]Transformation sheet'!$B$8","v":"GB-CHC-274100"},{"$f":"'[1]Transformation sheet'!$B$9","v":"The Clothworkers Foundation"},"https://www.clothworkersfoundation.org.uk/",{"$f":"'[1]Transformation sheet'!$B$11","v":"2019-05-31"},{"$f":"IF(OR('[1]GIFTS data'!K126=\"4. Proactive Programme\",'[1]GIFTS data'!K126=\"3. Regular Grants Programme\"),\"Revenue\",\"Capital\")","v":"Capital"}]
[{"$f":"CONCATENATE('[1]Transformation sheet'!$B$1,'[1]GIFTS data'!A127)","v":"360G-ClothworkersFdn-201700731"},{"$f":"'[1]GIFTS data'!A127","v":201700731},{"$f":"CONCATENATE(\"Grant to \",'[1]GIFTS data'!F127)","v":"Grant to Home Basics (Tweeddale)"},{"$f":"'[1]GIFTS data'!B127","v":"purchase of a van for a charity which works with homeless people in Scotland"},{"$f":"'[1]Transformation sheet'!$B$2","v":"GBP"},{"$f":"'[1]GIFTS data'!C127","v":15000},{"$f":"'[1]GIFTS data'!D127","v":"2018-07-17"},{"$f":"IF(LEFT('[1]GIFTS data'!G127,3)=\"SC0\",\"GB-SC-\"&'[1]GIFTS data'!G127,IF(LEN('[1]GIFTS data'!G127)=8,\"GB-COH-\"&'[1]GIFTS data'!G127,IF(LEFT('[1]GIFTS data'!G127,1)=\"X\",\"GB-REV-\"&'[1]GIFTS data'!G127,IF(AND(LEN('[1]GIFTS data'!G127)=7,LEFT('[1]GIFTS data'!G127,1)=\"1\"),\"GB-CHC-\"&'[1]GIFTS data'!G127,IF(LEN('[1]GIFTS data'!G127)=7,\"GB-COH-0\"&'[1]GIFTS data'!G127,IF(LEFT('[1]GIFTS data'!G127,3)=\"NIC\",\"GB-NIC-\"&RIGHT('[1]GIFTS data'!G127,LEN('[1]GIFTS data'!G127)-3),IF(LEN('[1]GIFTS data'!G127)=6,\"GB-CHC-\"&'[1]GIFTS data'!G127,'[1]Transformation sheet'!$B$3&'[1]GIFTS data'!E127)))))))","v":"GB-SC-SC033827"},{"$f":"'[1]GIFTS data'!F127","v":"Home Basics (Tweeddale)"},{"$f":"'[1]GIFTS data'!G127","v":"SC033827"},{"$f":"'[1]GIFTS data'!J127","v":"Walkerburn"},{"$f":"'[1]GIFTS data'!I127","v":"EH43 6AB"},{"$f":"'[1]GIFTS data'!H127","v":"Scotland"},{"$f":"IF(OR('[1]GIFTS data'!K127=\"4. Proactive Programme\",'[1]GIFTS data'!K127=\"3. Regular Grants Programme\"),\"No\",\"Yes\")","v":"Yes"},{"$f":"RIGHT('[1]GIFTS data'!K127,LEN('[1]GIFTS data'!K127)-3)","v":"Main Grants Programme"},{"$f":"'[1]Transformation sheet'!$B$8","v":"GB-CHC-274100"},{"$f":"'[1]Transformation sheet'!$B$9","v":"The Clothworkers Foundation"},"https://www.clothworkersfoundation.org.uk/",{"$f":"'[1]Transformation sheet'!$B$11","v":"2019-05-31"},{"$f":"IF(OR('[1]GIFTS data'!K127=\"4. Proactive Programme\",'[1]GIFTS data'!K127=\"3. Regular Grants Programme\"),\"Revenue\",\"Capital\")","v":"Capital"}]
[{"$f":"CONCATENATE('[1]Transformation sheet'!$B$1,'[1]GIFTS data'!A128)","v":"360G-ClothworkersFdn-201700777"},{"$f":"'[1]GIFTS data'!A128","v":201700777},{"$f":"CONCATENATE(\"Grant to \",'[1]GIFTS data'!F128)","v":"Grant to Home Energy Efficiency Training"},{"$f":"'[1]GIFTS data'!B128","v":"purchase of a van for a charity which works with older people in London"},{"$f":"'[1]Transformation sheet'!$B$2","v":"GBP"},{"$f":"'[1]GIFTS data'!C128","v":18000},{"$f":"'[1]GIFTS data'!D128","v":"2018-10-16"},"GB-MPR-28988R",{"$f":"'[1]GIFTS data'!F128","v":"Home Energy Efficiency Training"},{"$f":"'[1]GIFTS data'!G128","v":"28988R"},{"$f":"'[1]GIFTS data'!J128","v":"Walthamstow"},{"$f":"'[1]GIFTS data'!I128","v":"E179QL"},{"$f":"'[1]GIFTS data'!H128","v":"Greater London"},{"$f":"IF(OR('[1]GIFTS data'!K128=\"4. Proactive Programme\",'[1]GIFTS data'!K128=\"3. Regular Grants Programme\"),\"No\",\"Yes\")","v":"Yes"},{"$f":"RIGHT('[1]GIFTS data'!K128,LEN('[1]GIFTS data'!K128)-3)","v":"Main Grants Programme"},{"$f":"'[1]Transformation sheet'!$B$8","v":"GB-CHC-274100"},{"$f":"'[1]Transformation sheet'!$B$9","v":"The Clothworkers Foundation"},"https://www.clothworkersfoundation.org.uk/",{"$f":"'[1]Transformation sheet'!$B$11","v":"2019-05-31"},{"$f":"IF(OR('[1]GIFTS data'!K128=\"4. Proactive Programme\",'[1]GIFTS data'!K128=\"3. Regular Grants Programme\"),\"Revenue\",\"Capital\")","v":"Capital"}]
[{"$f":"CONCATENATE('[1]Transformation sheet'!$B$1,'[1]GIFTS data'!A129)","v":"360G-ClothworkersFdn-201700524"},{"$f":"'[1]GIFTS data'!A129","v":201700524},{"$f":"CONCATENATE(\"Grant to \",'[1]GIFTS data'!F129)","v":"Grant to Honeypot Children's Charity"},{"$f":"'[1]GIFTS data'!B129","v":"Construction of a swimming pool for a charity that provides respite breaks and outreach support in Hampshire and Wales for young carers and vulnerable children"},{"$f":"'[1]Transformation sheet'!$B$2","v":"GBP"},{"$f":"'[1]GIFTS data'!C129","v":25000},{"$f":"'[1]GIFTS data'!D129","v":"2018-05-16"},{"$f":"IF(LEFT('[1]GIFTS data'!G129,3)=\"SC0\",\"GB-SC-\"&'[1]GIFTS data'!G129,IF(LEN('[1]GIFTS data'!G129)=8,\"GB-COH-\"&'[1]GIFTS data'!G129,IF(LEFT('[1]GIFTS data'!G129,1)=\"X\",\"GB-REV-\"&'[1]GIFTS data'!G129,IF(AND(LEN('[1]GIFTS data'!G129)=7,LEFT('[1]GIFTS data'!G129,1)=\"1\"),\"GB-CHC-\"&'[1]GIFTS data'!G129,IF(LEN('[1]GIFTS data'!G129)=7,\"GB-COH-0\"&'[1]GIFTS data'!G129,IF(LEFT('[1]GIFTS data'!G129,3)=\"NIC\",\"GB-NIC-\"&RIGHT('[1]GIFTS data'!G129,LEN('[1]GIFTS data'!G129)-3),IF(LEN('[1]GIFTS data'!G129)=6,\"GB-CHC-\"&'[1]GIFTS data'!G129,'[1]Transformation sheet'!$B$3&'[1]GIFTS data'!E129)))))))","v":"GB-CHC-1011672"},{"$f":"'[1]GIFTS data'!F129","v":"Honeypot Children's Charity"},{"$f":"'[1]GIFTS data'!G129","v":1011672},{"$f":"'[1]GIFTS data'!J129","v":"Hammersmith"},{"$f":"'[1]GIFTS data'!I129","v":"W14 0HN"},{"$f":"'[1]GIFTS data'!H129","v":"Wales"},{"$f":"IF(OR('[1]GIFTS data'!K129=\"4. Proactive Programme\",'[1]GIFTS data'!K129=\"3. Regular Grants Programme\"),\"No\",\"Yes\")","v":"Yes"},{"$f":"RIGHT('[1]GIFTS data'!K129,LEN('[1]GIFTS data'!K129)-3)","v":"Main Grants Programme"},{"$f":"'[1]Transformation sheet'!$B$8","v":"GB-CHC-274100"},{"$f":"'[1]Transformation sheet'!$B$9","v":"The Clothworkers Foundation"},"https://www.clothworkersfoundation.org.uk/",{"$f":"'[1]Transformation sheet'!$B$11","v":"2019-05-31"},{"$f":"IF(OR('[1]GIFTS data'!K129=\"4. Proactive Programme\",'[1]GIFTS data'!K129=\"3. Regular Grants Programme\"),\"Revenue\",\"Capital\")","v":"Capital"}]
[{"$f":"CONCATENATE('[1]Transformation sheet'!$B$1,'[1]GIFTS data'!A130)","v":"360G-ClothworkersFdn-201700346"},{"$f":"'[1]GIFTS data'!A130","v":201700346},{"$f":"CONCATENATE(\"Grant to \",'[1]GIFTS data'!F130)","v":"Grant to Hope House Essex"},{"$f":"'[1]GIFTS data'!B130","v":"purchase of property for a charity which works with homeless persons' in Braintree"},{"$f":"'[1]Transformation sheet'!$B$2","v":"GBP"},{"$f":"'[1]GIFTS data'!C130","v":30000},{"$f":"'[1]GIFTS data'!D130","v":"2018-03-27"},{"$f":"IF(LEFT('[1]GIFTS data'!G130,3)=\"SC0\",\"GB-SC-\"&'[1]GIFTS data'!G130,IF(LEN('[1]GIFTS data'!G130)=8,\"GB-COH-\"&'[1]GIFTS data'!G130,IF(LEFT('[1]GIFTS data'!G130,1)=\"X\",\"GB-REV-\"&'[1]GIFTS data'!G130,IF(AND(LEN('[1]GIFTS data'!G130)=7,LEFT('[1]GIFTS data'!G130,1)=\"1\"),\"GB-CHC-\"&'[1]GIFTS data'!G130,IF(LEN('[1]GIFTS data'!G130)=7,\"GB-COH-0\"&'[1]GIFTS data'!G130,IF(LEFT('[1]GIFTS data'!G130,3)=\"NIC\",\"GB-NIC-\"&RIGHT('[1]GIFTS data'!G130,LEN('[1]GIFTS data'!G130)-3),IF(LEN('[1]GIFTS data'!G130)=6,\"GB-CHC-\"&'[1]GIFTS data'!G130,'[1]Transformation sheet'!$B$3&'[1]GIFTS data'!E130)))))))","v":"GB-CHC-1149067"},{"$f":"'[1]GIFTS data'!F130","v":"Hope House Essex"},{"$f":"'[1]GIFTS data'!G130","v":1149067},{"$f":"'[1]GIFTS data'!J130","v":"Braintree"},{"$f":"'[1]GIFTS data'!I130","v":"CM7 3HP"},{"$f":"'[1]GIFTS data'!H130","v":"East"},{"$f":"IF(OR('[1]GIFTS data'!K130=\"4. Proactive Programme\",'[1]GIFTS data'!K130=\"3. Regular Grants Programme\"),\"No\",\"Yes\")","v":"Yes"},{"$f":"RIGHT('[1]GIFTS data'!K130,LEN('[1]GIFTS data'!K130)-3)","v":"Main Grants Programme"},{"$f":"'[1]Transformation sheet'!$B$8","v":"GB-CHC-274100"},{"$f":"'[1]Transformation sheet'!$B$9","v":"The Clothworkers Foundation"},"https://www.clothworkersfoundation.org.uk/",{"$f":"'[1]Transformation sheet'!$B$11","v":"2019-05-31"},{"$f":"IF(OR('[1]GIFTS data'!K130=\"4. Proactive Programme\",'[1]GIFTS data'!K130=\"3. Regular Grants Programme\"),\"Revenue\",\"Capital\")","v":"Capital"}]
[{"$f":"CONCATENATE('[1]Transformation sheet'!$B$1,'[1]GIFTS data'!A131)","v":"360G-ClothworkersFdn-201700958"},{"$f":"'[1]GIFTS data'!A131","v":201700958},{"$f":"CONCATENATE(\"Grant to \",'[1]GIFTS data'!F131)","v":"Grant to HOPE PROJECT SCOTLAND"},{"$f":"'[1]GIFTS data'!B131","v":"purchase of computers and office equipment for a charity which works with disadvantaged minority communities in Glasgow"},{"$f":"'[1]Transformation sheet'!$B$2","v":"GBP"},{"$f":"'[1]GIFTS data'!C131","v":3900},{"$f":"'[1]GIFTS data'!D131","v":"2018-12-07"},{"$f":"IF(LEFT('[1]GIFTS data'!G131,3)=\"SC0\",\"GB-SC-\"&'[1]GIFTS data'!G131,IF(LEN('[1]GIFTS data'!G131)=8,\"GB-COH-\"&'[1]GIFTS data'!G131,IF(LEFT('[1]GIFTS data'!G131,1)=\"X\",\"GB-REV-\"&'[1]GIFTS data'!G131,IF(AND(LEN('[1]GIFTS data'!G131)=7,LEFT('[1]GIFTS data'!G131,1)=\"1\"),\"GB-CHC-\"&'[1]GIFTS data'!G131,IF(LEN('[1]GIFTS data'!G131)=7,\"GB-COH-0\"&'[1]GIFTS data'!G131,IF(LEFT('[1]GIFTS data'!G131,3)=\"NIC\",\"GB-NIC-\"&RIGHT('[1]GIFTS data'!G131,LEN('[1]GIFTS data'!G131)-3),IF(LEN('[1]GIFTS data'!G131)=6,\"GB-CHC-\"&'[1]GIFTS data'!G131,'[1]Transformation sheet'!$B$3&'[1]GIFTS data'!E131)))))))","v":"GB-SC-SC047913"},{"$f":"'[1]GIFTS data'!F131","v":"HOPE PROJECT SCOTLAND"},{"$f":"'[1]GIFTS data'!G131","v":"SC047913"},{"$f":"'[1]GIFTS data'!J131","v":"GLASGOW"},{"$f":"'[1]GIFTS data'!I131","v":"G21 4BF"},{"$f":"'[1]GIFTS data'!H131","v":"Scotland"},{"$f":"IF(OR('[1]GIFTS data'!K131=\"4. Proactive Programme\",'[1]GIFTS data'!K131=\"3. Regular Grants Programme\"),\"No\",\"Yes\")","v":"Yes"},{"$f":"RIGHT('[1]GIFTS data'!K131,LEN('[1]GIFTS data'!K131)-3)","v":"Small Grants Programme"},{"$f":"'[1]Transformation sheet'!$B$8","v":"GB-CHC-274100"},{"$f":"'[1]Transformation sheet'!$B$9","v":"The Clothworkers Foundation"},"https://www.clothworkersfoundation.org.uk/",{"$f":"'[1]Transformation sheet'!$B$11","v":"2019-05-31"},{"$f":"IF(OR('[1]GIFTS data'!K131=\"4. Proactive Programme\",'[1]GIFTS data'!K131=\"3. Regular Grants Programme\"),\"Revenue\",\"Capital\")","v":"Capital"}]
[{"$f":"CONCATENATE('[1]Transformation sheet'!$B$1,'[1]GIFTS data'!A132)","v":"360G-ClothworkersFdn-201700541"},{"$f":"'[1]GIFTS data'!A132","v":201700541},{"$f":"CONCATENATE(\"Grant to \",'[1]GIFTS data'!F132)","v":"Grant to I CAN"},{"$f":"'[1]GIFTS data'!B132","v":"refurbishment of a building for a charity which works with disadvantaged young people in Nottinghamshire"},{"$f":"'[1]Transformation sheet'!$B$2","v":"GBP"},{"$f":"'[1]GIFTS data'!C132","v":15000},{"$f":"'[1]GIFTS data'!D132","v":"2018-05-16"},{"$f":"IF(LEFT('[1]GIFTS data'!G132,3)=\"SC0\",\"GB-SC-\"&'[1]GIFTS data'!G132,IF(LEN('[1]GIFTS data'!G132)=8,\"GB-COH-\"&'[1]GIFTS data'!G132,IF(LEFT('[1]GIFTS data'!G132,1)=\"X\",\"GB-REV-\"&'[1]GIFTS data'!G132,IF(AND(LEN('[1]GIFTS data'!G132)=7,LEFT('[1]GIFTS data'!G132,1)=\"1\"),\"GB-CHC-\"&'[1]GIFTS data'!G132,IF(LEN('[1]GIFTS data'!G132)=7,\"GB-COH-0\"&'[1]GIFTS data'!G132,IF(LEFT('[1]GIFTS data'!G132,3)=\"NIC\",\"GB-NIC-\"&RIGHT('[1]GIFTS data'!G132,LEN('[1]GIFTS data'!G132)-3),IF(LEN('[1]GIFTS data'!G132)=6,\"GB-CHC-\"&'[1]GIFTS data'!G132,'[1]Transformation sheet'!$B$3&'[1]GIFTS data'!E132)))))))","v":"GB-CHC-210031"},{"$f":"'[1]GIFTS data'!F132","v":"I CAN"},{"$f":"'[1]GIFTS data'!G132","v":210031},{"$f":"'[1]GIFTS data'!J132","v":"London"},{"$f":"'[1]GIFTS data'!I132","v":"EC1V 2PT"},{"$f":"'[1]GIFTS data'!H132","v":"East Midlands"},{"$f":"IF(OR('[1]GIFTS data'!K132=\"4. Proactive Programme\",'[1]GIFTS data'!K132=\"3. Regular Grants Programme\"),\"No\",\"Yes\")","v":"Yes"},{"$f":"RIGHT('[1]GIFTS data'!K132,LEN('[1]GIFTS data'!K132)-3)","v":"Main Grants Programme"},{"$f":"'[1]Transformation sheet'!$B$8","v":"GB-CHC-274100"},{"$f":"'[1]Transformation sheet'!$B$9","v":"The Clothworkers Foundation"},"https://www.clothworkersfoundation.org.uk/",{"$f":"'[1]Transformation sheet'!$B$11","v":"2019-05-31"},{"$f":"IF(OR('[1]GIFTS data'!K132=\"4. Proactive Programme\",'[1]GIFTS data'!K132=\"3. Regular Grants Programme\"),\"Revenue\",\"Capital\")","v":"Capital"}]
[{"$f":"CONCATENATE('[1]Transformation sheet'!$B$1,'[1]GIFTS data'!A133)","v":"360G-ClothworkersFdn-201700710"},{"$f":"'[1]GIFTS data'!A133","v":201700710},{"$f":"CONCATENATE(\"Grant to \",'[1]GIFTS data'!F133)","v":"Grant to Iconic Steps Film Academy"},{"$f":"'[1]GIFTS data'!B133","v":"purchase of cameras, laptops and ipads for a charity which works with disadvantaged young people in London"},{"$f":"'[1]Transformation sheet'!$B$2","v":"GBP"},{"$f":"'[1]GIFTS data'!C133","v":12600},{"$f":"'[1]GIFTS data'!D133","v":"2018-07-17"},{"$f":"IF(LEFT('[1]GIFTS data'!G133,3)=\"SC0\",\"GB-SC-\"&'[1]GIFTS data'!G133,IF(LEN('[1]GIFTS data'!G133)=8,\"GB-COH-\"&'[1]GIFTS data'!G133,IF(LEFT('[1]GIFTS data'!G133,1)=\"X\",\"GB-REV-\"&'[1]GIFTS data'!G133,IF(AND(LEN('[1]GIFTS data'!G133)=7,LEFT('[1]GIFTS data'!G133,1)=\"1\"),\"GB-CHC-\"&'[1]GIFTS data'!G133,IF(LEN('[1]GIFTS data'!G133)=7,\"GB-COH-0\"&'[1]GIFTS data'!G133,IF(LEFT('[1]GIFTS data'!G133,3)=\"NIC\",\"GB-NIC-\"&RIGHT('[1]GIFTS data'!G133,LEN('[1]GIFTS data'!G133)-3),IF(LEN('[1]GIFTS data'!G133)=6,\"GB-CHC-\"&'[1]GIFTS data'!G133,'[1]Transformation sheet'!$B$3&'[1]GIFTS data'!E133)))))))","v":"GB-COH-08311368"},{"$f":"'[1]GIFTS data'!F133","v":"Iconic Steps Film Academy"},{"$f":"'[1]GIFTS data'!G133","v":8311368},{"$f":"'[1]GIFTS data'!J133","v":"London"},{"$f":"'[1]GIFTS data'!I133","v":"SW2 3AD"},{"$f":"'[1]GIFTS data'!H133","v":"Greater London"},{"$f":"IF(OR('[1]GIFTS data'!K133=\"4. Proactive Programme\",'[1]GIFTS data'!K133=\"3. Regular Grants Programme\"),\"No\",\"Yes\")","v":"Yes"},{"$f":"RIGHT('[1]GIFTS data'!K133,LEN('[1]GIFTS data'!K133)-3)","v":"Main Grants Programme"},{"$f":"'[1]Transformation sheet'!$B$8","v":"GB-CHC-274100"},{"$f":"'[1]Transformation sheet'!$B$9","v":"The Clothworkers Foundation"},"https://www.clothworkersfoundation.org.uk/",{"$f":"'[1]Transformation sheet'!$B$11","v":"2019-05-31"},{"$f":"IF(OR('[1]GIFTS data'!K133=\"4. Proactive Programme\",'[1]GIFTS data'!K133=\"3. Regular Grants Programme\"),\"Revenue\",\"Capital\")","v":"Capital"}]
[{"$f":"CONCATENATE('[1]Transformation sheet'!$B$1,'[1]GIFTS data'!A134)","v":"360G-ClothworkersFdn-201700824"},{"$f":"'[1]GIFTS data'!A134","v":201700824},{"$f":"CONCATENATE(\"Grant to \",'[1]GIFTS data'!F134)","v":"Grant to IMPACT Outreach Network"},{"$f":"'[1]GIFTS data'!B134","v":"refurbishment of a theatre studio for a charity which works with people with disabilities in Ealing"},{"$f":"'[1]Transformation sheet'!$B$2","v":"GBP"},{"$f":"'[1]GIFTS data'!C134","v":20000},{"$f":"'[1]GIFTS data'!D134","v":"2018-10-16"},{"$f":"IF(LEFT('[1]GIFTS data'!G134,3)=\"SC0\",\"GB-SC-\"&'[1]GIFTS data'!G134,IF(LEN('[1]GIFTS data'!G134)=8,\"GB-COH-\"&'[1]GIFTS data'!G134,IF(LEFT('[1]GIFTS data'!G134,1)=\"X\",\"GB-REV-\"&'[1]GIFTS data'!G134,IF(AND(LEN('[1]GIFTS data'!G134)=7,LEFT('[1]GIFTS data'!G134,1)=\"1\"),\"GB-CHC-\"&'[1]GIFTS data'!G134,IF(LEN('[1]GIFTS data'!G134)=7,\"GB-COH-0\"&'[1]GIFTS data'!G134,IF(LEFT('[1]GIFTS data'!G134,3)=\"NIC\",\"GB-NIC-\"&RIGHT('[1]GIFTS data'!G134,LEN('[1]GIFTS data'!G134)-3),IF(LEN('[1]GIFTS data'!G134)=6,\"GB-CHC-\"&'[1]GIFTS data'!G134,'[1]Transformation sheet'!$B$3&'[1]GIFTS data'!E134)))))))","v":"GB-COH-05289866"},{"$f":"'[1]GIFTS data'!F134","v":"IMPACT Outreach Network"},{"$f":"'[1]GIFTS data'!G134","v":5289866},{"$f":"'[1]GIFTS data'!J134","v":"London"},{"$f":"'[1]GIFTS data'!I134","v":"UB6 8GP"},{"$f":"'[1]GIFTS data'!H134","v":"Greater London"},{"$f":"IF(OR('[1]GIFTS data'!K134=\"4. Proactive Programme\",'[1]GIFTS data'!K134=\"3. Regular Grants Programme\"),\"No\",\"Yes\")","v":"Yes"},{"$f":"RIGHT('[1]GIFTS data'!K134,LEN('[1]GIFTS data'!K134)-3)","v":"Main Grants Programme"},{"$f":"'[1]Transformation sheet'!$B$8","v":"GB-CHC-274100"},{"$f":"'[1]Transformation sheet'!$B$9","v":"The Clothworkers Foundation"},"https://www.clothworkersfoundation.org.uk/",{"$f":"'[1]Transformation sheet'!$B$11","v":"2019-05-31"},{"$f":"IF(OR('[1]GIFTS data'!K134=\"4. Proactive Programme\",'[1]GIFTS data'!K134=\"3. Regular Grants Programme\"),\"Revenue\",\"Capital\")","v":"Capital"}]
[{"$f":"CONCATENATE('[1]Transformation sheet'!$B$1,'[1]GIFTS data'!A135)","v":"360G-ClothworkersFdn-201700708"},{"$f":"'[1]GIFTS data'!A135","v":201700708},{"$f":"CONCATENATE(\"Grant to \",'[1]GIFTS data'!F135)","v":"Grant to IN MUSIC IN MEDIA"},{"$f":"'[1]GIFTS data'!B135","v":"purchase of a vehicle for a charity which works with disadvantaged young people in Northamptonshire"},{"$f":"'[1]Transformation sheet'!$B$2","v":"GBP"},{"$f":"'[1]GIFTS data'!C135","v":19000},{"$f":"'[1]GIFTS data'!D135","v":"2018-07-17"},{"$f":"IF(LEFT('[1]GIFTS data'!G135,3)=\"SC0\",\"GB-SC-\"&'[1]GIFTS data'!G135,IF(LEN('[1]GIFTS data'!G135)=8,\"GB-COH-\"&'[1]GIFTS data'!G135,IF(LEFT('[1]GIFTS data'!G135,1)=\"X\",\"GB-REV-\"&'[1]GIFTS data'!G135,IF(AND(LEN('[1]GIFTS data'!G135)=7,LEFT('[1]GIFTS data'!G135,1)=\"1\"),\"GB-CHC-\"&'[1]GIFTS data'!G135,IF(LEN('[1]GIFTS data'!G135)=7,\"GB-COH-0\"&'[1]GIFTS data'!G135,IF(LEFT('[1]GIFTS data'!G135,3)=\"NIC\",\"GB-NIC-\"&RIGHT('[1]GIFTS data'!G135,LEN('[1]GIFTS data'!G135)-3),IF(LEN('[1]GIFTS data'!G135)=6,\"GB-CHC-\"&'[1]GIFTS data'!G135,'[1]Transformation sheet'!$B$3&'[1]GIFTS data'!E135)))))))","v":"GB-COH-08605027"},{"$f":"'[1]GIFTS data'!F135","v":"IN MUSIC IN MEDIA"},{"$f":"'[1]GIFTS data'!G135","v":8605027},{"$f":"'[1]GIFTS data'!J135","v":"Northampton"},{"$f":"'[1]GIFTS data'!I135","v":"NN3 2RS"},{"$f":"'[1]GIFTS data'!H135","v":"England - National"},{"$f":"IF(OR('[1]GIFTS data'!K135=\"4. Proactive Programme\",'[1]GIFTS data'!K135=\"3. Regular Grants Programme\"),\"No\",\"Yes\")","v":"Yes"},{"$f":"RIGHT('[1]GIFTS data'!K135,LEN('[1]GIFTS data'!K135)-3)","v":"Main Grants Programme"},{"$f":"'[1]Transformation sheet'!$B$8","v":"GB-CHC-274100"},{"$f":"'[1]Transformation sheet'!$B$9","v":"The Clothworkers Foundation"},"https://www.clothworkersfoundation.org.uk/",{"$f":"'[1]Transformation sheet'!$B$11","v":"2019-05-31"},{"$f":"IF(OR('[1]GIFTS data'!K135=\"4. Proactive Programme\",'[1]GIFTS data'!K135=\"3. Regular Grants Programme\"),\"Revenue\",\"Capital\")","v":"Capital"}]
[{"$f":"CONCATENATE('[1]Transformation sheet'!$B$1,'[1]GIFTS data'!A136)","v":"360G-ClothworkersFdn-201700487"},{"$f":"'[1]GIFTS data'!A136","v":201700487},{"$f":"CONCATENATE(\"Grant to \",'[1]GIFTS data'!F136)","v":"Grant to Insight Gloucestershire"},{"$f":"'[1]GIFTS data'!B136","v":"repairs and refurbishment of building for a charity which works with visually impaired persons' in Cheltenham"},{"$f":"'[1]Transformation sheet'!$B$2","v":"GBP"},{"$f":"'[1]GIFTS data'!C136","v":10000},{"$f":"'[1]GIFTS data'!D136","v":"2018-01-30"},{"$f":"IF(LEFT('[1]GIFTS data'!G136,3)=\"SC0\",\"GB-SC-\"&'[1]GIFTS data'!G136,IF(LEN('[1]GIFTS data'!G136)=8,\"GB-COH-\"&'[1]GIFTS data'!G136,IF(LEFT('[1]GIFTS data'!G136,1)=\"X\",\"GB-REV-\"&'[1]GIFTS data'!G136,IF(AND(LEN('[1]GIFTS data'!G136)=7,LEFT('[1]GIFTS data'!G136,1)=\"1\"),\"GB-CHC-\"&'[1]GIFTS data'!G136,IF(LEN('[1]GIFTS data'!G136)=7,\"GB-COH-0\"&'[1]GIFTS data'!G136,IF(LEFT('[1]GIFTS data'!G136,3)=\"NIC\",\"GB-NIC-\"&RIGHT('[1]GIFTS data'!G136,LEN('[1]GIFTS data'!G136)-3),IF(LEN('[1]GIFTS data'!G136)=6,\"GB-CHC-\"&'[1]GIFTS data'!G136,'[1]Transformation sheet'!$B$3&'[1]GIFTS data'!E136)))))))","v":"GB-CHC-204279"},{"$f":"'[1]GIFTS data'!F136","v":"Insight Gloucestershire"},{"$f":"'[1]GIFTS data'!G136","v":204279},{"$f":"'[1]GIFTS data'!J136","v":"Cheltenham"},{"$f":"'[1]GIFTS data'!I136","v":"GL52 2RZ"},{"$f":"'[1]GIFTS data'!H136","v":"South West"},{"$f":"IF(OR('[1]GIFTS data'!K136=\"4. Proactive Programme\",'[1]GIFTS data'!K136=\"3. Regular Grants Programme\"),\"No\",\"Yes\")","v":"Yes"},{"$f":"RIGHT('[1]GIFTS data'!K136,LEN('[1]GIFTS data'!K136)-3)","v":"Small Grants Programme"},{"$f":"'[1]Transformation sheet'!$B$8","v":"GB-CHC-274100"},{"$f":"'[1]Transformation sheet'!$B$9","v":"The Clothworkers Foundation"},"https://www.clothworkersfoundation.org.uk/",{"$f":"'[1]Transformation sheet'!$B$11","v":"2019-05-31"},{"$f":"IF(OR('[1]GIFTS data'!K136=\"4. Proactive Programme\",'[1]GIFTS data'!K136=\"3. Regular Grants Programme\"),\"Revenue\",\"Capital\")","v":"Capital"}]
[{"$f":"CONCATENATE('[1]Transformation sheet'!$B$1,'[1]GIFTS data'!A137)","v":"360G-ClothworkersFdn-201700828"},{"$f":"'[1]GIFTS data'!A137","v":201700828},{"$f":"CONCATENATE(\"Grant to \",'[1]GIFTS data'!F137)","v":"Grant to Instant Neighbour"},{"$f":"'[1]GIFTS data'!B137","v":"refurbishment of reception, warehouse and purchase of new phone system for a charity which works with homesless people in Aberdeen"},{"$f":"'[1]Transformation sheet'!$B$2","v":"GBP"},{"$f":"'[1]GIFTS data'!C137","v":15000},{"$f":"'[1]GIFTS data'!D137","v":"2018-10-16"},{"$f":"IF(LEFT('[1]GIFTS data'!G137,3)=\"SC0\",\"GB-SC-\"&'[1]GIFTS data'!G137,IF(LEN('[1]GIFTS data'!G137)=8,\"GB-COH-\"&'[1]GIFTS data'!G137,IF(LEFT('[1]GIFTS data'!G137,1)=\"X\",\"GB-REV-\"&'[1]GIFTS data'!G137,IF(AND(LEN('[1]GIFTS data'!G137)=7,LEFT('[1]GIFTS data'!G137,1)=\"1\"),\"GB-CHC-\"&'[1]GIFTS data'!G137,IF(LEN('[1]GIFTS data'!G137)=7,\"GB-COH-0\"&'[1]GIFTS data'!G137,IF(LEFT('[1]GIFTS data'!G137,3)=\"NIC\",\"GB-NIC-\"&RIGHT('[1]GIFTS data'!G137,LEN('[1]GIFTS data'!G137)-3),IF(LEN('[1]GIFTS data'!G137)=6,\"GB-CHC-\"&'[1]GIFTS data'!G137,'[1]Transformation sheet'!$B$3&'[1]GIFTS data'!E137)))))))","v":"GB-SC-SC002223"},{"$f":"'[1]GIFTS data'!F137","v":"Instant Neighbour"},{"$f":"'[1]GIFTS data'!G137","v":"SC002223"},{"$f":"'[1]GIFTS data'!J137","v":"Aberdeen"},{"$f":"'[1]GIFTS data'!I137","v":"AB24 3YJ"},{"$f":"'[1]GIFTS data'!H137","v":"Scotland"},{"$f":"IF(OR('[1]GIFTS data'!K137=\"4. Proactive Programme\",'[1]GIFTS data'!K137=\"3. Regular Grants Programme\"),\"No\",\"Yes\")","v":"Yes"},{"$f":"RIGHT('[1]GIFTS data'!K137,LEN('[1]GIFTS data'!K137)-3)","v":"Main Grants Programme"},{"$f":"'[1]Transformation sheet'!$B$8","v":"GB-CHC-274100"},{"$f":"'[1]Transformation sheet'!$B$9","v":"The Clothworkers Foundation"},"https://www.clothworkersfoundation.org.uk/",{"$f":"'[1]Transformation sheet'!$B$11","v":"2019-05-31"},{"$f":"IF(OR('[1]GIFTS data'!K137=\"4. Proactive Programme\",'[1]GIFTS data'!K137=\"3. Regular Grants Programme\"),\"Revenue\",\"Capital\")","v":"Capital"}]
[{"$f":"CONCATENATE('[1]Transformation sheet'!$B$1,'[1]GIFTS data'!A138)","v":"360G-ClothworkersFdn-201700451"},{"$f":"'[1]GIFTS data'!A138","v":201700451},{"$f":"CONCATENATE(\"Grant to \",'[1]GIFTS data'!F138)","v":"Grant to Irene Taylor Trust"},{"$f":"'[1]GIFTS data'!B138","v":"purchase of a van for a charity which works with disadvantaged young people in London"},{"$f":"'[1]Transformation sheet'!$B$2","v":"GBP"},{"$f":"'[1]GIFTS data'!C138","v":8750},{"$f":"'[1]GIFTS data'!D138","v":"2018-01-30"},{"$f":"IF(LEFT('[1]GIFTS data'!G138,3)=\"SC0\",\"GB-SC-\"&'[1]GIFTS data'!G138,IF(LEN('[1]GIFTS data'!G138)=8,\"GB-COH-\"&'[1]GIFTS data'!G138,IF(LEFT('[1]GIFTS data'!G138,1)=\"X\",\"GB-REV-\"&'[1]GIFTS data'!G138,IF(AND(LEN('[1]GIFTS data'!G138)=7,LEFT('[1]GIFTS data'!G138,1)=\"1\"),\"GB-CHC-\"&'[1]GIFTS data'!G138,IF(LEN('[1]GIFTS data'!G138)=7,\"GB-COH-0\"&'[1]GIFTS data'!G138,IF(LEFT('[1]GIFTS data'!G138,3)=\"NIC\",\"GB-NIC-\"&RIGHT('[1]GIFTS data'!G138,LEN('[1]GIFTS data'!G138)-3),IF(LEN('[1]GIFTS data'!G138)=6,\"GB-CHC-\"&'[1]GIFTS data'!G138,'[1]Transformation sheet'!$B$3&'[1]GIFTS data'!E138)))))))","v":"GB-CHC-1073105"},{"$f":"'[1]GIFTS data'!F138","v":"Irene Taylor Trust"},{"$f":"'[1]GIFTS data'!G138","v":1073105},{"$f":"'[1]GIFTS data'!J138","v":"London"},{"$f":"'[1]GIFTS data'!I138","v":"SE1 4YR"},{"$f":"'[1]GIFTS data'!H138","v":"Greater London"},{"$f":"IF(OR('[1]GIFTS data'!K138=\"4. Proactive Programme\",'[1]GIFTS data'!K138=\"3. Regular Grants Programme\"),\"No\",\"Yes\")","v":"Yes"},{"$f":"RIGHT('[1]GIFTS data'!K138,LEN('[1]GIFTS data'!K138)-3)","v":"Small Grants Programme"},{"$f":"'[1]Transformation sheet'!$B$8","v":"GB-CHC-274100"},{"$f":"'[1]Transformation sheet'!$B$9","v":"The Clothworkers Foundation"},"https://www.clothworkersfoundation.org.uk/",{"$f":"'[1]Transformation sheet'!$B$11","v":"2019-05-31"},{"$f":"IF(OR('[1]GIFTS data'!K138=\"4. Proactive Programme\",'[1]GIFTS data'!K138=\"3. Regular Grants Programme\"),\"Revenue\",\"Capital\")","v":"Capital"}]
[{"$f":"CONCATENATE('[1]Transformation sheet'!$B$1,'[1]GIFTS data'!A139)","v":"360G-ClothworkersFdn-201700565"},{"$f":"'[1]GIFTS data'!A139","v":201700565},{"$f":"CONCATENATE(\"Grant to \",'[1]GIFTS data'!F139)","v":"Grant to Irvine Sports Club"},{"$f":"'[1]GIFTS data'!B139","v":"purchase of two gym treadmills for a charity which works with older people in Scotland"},{"$f":"'[1]Transformation sheet'!$B$2","v":"GBP"},{"$f":"'[1]GIFTS data'!C139","v":7550},{"$f":"'[1]GIFTS data'!D139","v":"2018-04-12"},{"$f":"IF(LEFT('[1]GIFTS data'!G139,3)=\"SC0\",\"GB-SC-\"&'[1]GIFTS data'!G139,IF(LEN('[1]GIFTS data'!G139)=8,\"GB-COH-\"&'[1]GIFTS data'!G139,IF(LEFT('[1]GIFTS data'!G139,1)=\"X\",\"GB-REV-\"&'[1]GIFTS data'!G139,IF(AND(LEN('[1]GIFTS data'!G139)=7,LEFT('[1]GIFTS data'!G139,1)=\"1\"),\"GB-CHC-\"&'[1]GIFTS data'!G139,IF(LEN('[1]GIFTS data'!G139)=7,\"GB-COH-0\"&'[1]GIFTS data'!G139,IF(LEFT('[1]GIFTS data'!G139,3)=\"NIC\",\"GB-NIC-\"&RIGHT('[1]GIFTS data'!G139,LEN('[1]GIFTS data'!G139)-3),IF(LEN('[1]GIFTS data'!G139)=6,\"GB-CHC-\"&'[1]GIFTS data'!G139,'[1]Transformation sheet'!$B$3&'[1]GIFTS data'!E139)))))))","v":"GB-SC-SC039695"},{"$f":"'[1]GIFTS data'!F139","v":"Irvine Sports Club"},{"$f":"'[1]GIFTS data'!G139","v":"SC039695"},{"$f":"'[1]GIFTS data'!J139","v":"Irvine"},{"$f":"'[1]GIFTS data'!I139","v":"KA12 8PE"},{"$f":"'[1]GIFTS data'!H139","v":"Scotland"},{"$f":"IF(OR('[1]GIFTS data'!K139=\"4. Proactive Programme\",'[1]GIFTS data'!K139=\"3. Regular Grants Programme\"),\"No\",\"Yes\")","v":"Yes"},{"$f":"RIGHT('[1]GIFTS data'!K139,LEN('[1]GIFTS data'!K139)-3)","v":"Small Grants Programme"},{"$f":"'[1]Transformation sheet'!$B$8","v":"GB-CHC-274100"},{"$f":"'[1]Transformation sheet'!$B$9","v":"The Clothworkers Foundation"},"https://www.clothworkersfoundation.org.uk/",{"$f":"'[1]Transformation sheet'!$B$11","v":"2019-05-31"},{"$f":"IF(OR('[1]GIFTS data'!K139=\"4. Proactive Programme\",'[1]GIFTS data'!K139=\"3. Regular Grants Programme\"),\"Revenue\",\"Capital\")","v":"Capital"}]
[{"$f":"CONCATENATE('[1]Transformation sheet'!$B$1,'[1]GIFTS data'!A140)","v":"360G-ClothworkersFdn-201700560"},{"$f":"'[1]GIFTS data'!A140","v":201700560},{"$f":"CONCATENATE(\"Grant to \",'[1]GIFTS data'!F140)","v":"Grant to Jaffray Care Society"},{"$f":"'[1]GIFTS data'!B140","v":"construction of a sensory garden for a charity which works with disabled people in Birmingham"},{"$f":"'[1]Transformation sheet'!$B$2","v":"GBP"},{"$f":"'[1]GIFTS data'!C140","v":20000},{"$f":"'[1]GIFTS data'!D140","v":"2018-05-18"},{"$f":"IF(LEFT('[1]GIFTS data'!G140,3)=\"SC0\",\"GB-SC-\"&'[1]GIFTS data'!G140,IF(LEN('[1]GIFTS data'!G140)=8,\"GB-COH-\"&'[1]GIFTS data'!G140,IF(LEFT('[1]GIFTS data'!G140,1)=\"X\",\"GB-REV-\"&'[1]GIFTS data'!G140,IF(AND(LEN('[1]GIFTS data'!G140)=7,LEFT('[1]GIFTS data'!G140,1)=\"1\"),\"GB-CHC-\"&'[1]GIFTS data'!G140,IF(LEN('[1]GIFTS data'!G140)=7,\"GB-COH-0\"&'[1]GIFTS data'!G140,IF(LEFT('[1]GIFTS data'!G140,3)=\"NIC\",\"GB-NIC-\"&RIGHT('[1]GIFTS data'!G140,LEN('[1]GIFTS data'!G140)-3),IF(LEN('[1]GIFTS data'!G140)=6,\"GB-CHC-\"&'[1]GIFTS data'!G140,'[1]Transformation sheet'!$B$3&'[1]GIFTS data'!E140)))))))","v":"GB-CHC-1001885"},{"$f":"'[1]GIFTS data'!F140","v":"Jaffray Care Society"},{"$f":"'[1]GIFTS data'!G140","v":1001885},{"$f":"'[1]GIFTS data'!J140","v":"Birmingham"},{"$f":"'[1]GIFTS data'!I140","v":"B24 8BE"},{"$f":"'[1]GIFTS data'!H140","v":"West Midlands"},{"$f":"IF(OR('[1]GIFTS data'!K140=\"4. Proactive Programme\",'[1]GIFTS data'!K140=\"3. Regular Grants Programme\"),\"No\",\"Yes\")","v":"Yes"},{"$f":"RIGHT('[1]GIFTS data'!K140,LEN('[1]GIFTS data'!K140)-3)","v":"Main Grants Programme"},{"$f":"'[1]Transformation sheet'!$B$8","v":"GB-CHC-274100"},{"$f":"'[1]Transformation sheet'!$B$9","v":"The Clothworkers Foundation"},"https://www.clothworkersfoundation.org.uk/",{"$f":"'[1]Transformation sheet'!$B$11","v":"2019-05-31"},{"$f":"IF(OR('[1]GIFTS data'!K140=\"4. Proactive Programme\",'[1]GIFTS data'!K140=\"3. Regular Grants Programme\"),\"Revenue\",\"Capital\")","v":"Capital"}]
[{"$f":"CONCATENATE('[1]Transformation sheet'!$B$1,'[1]GIFTS data'!A141)","v":"360G-ClothworkersFdn-201700488"},{"$f":"'[1]GIFTS data'!A141","v":201700488},{"$f":"CONCATENATE(\"Grant to \",'[1]GIFTS data'!F141)","v":"Grant to Lambeth and Southwark Mencap (LSM)"},{"$f":"'[1]GIFTS data'!B141","v":"purchase of a minibus for a charity which works with disabled people in West Norwood"},{"$f":"'[1]Transformation sheet'!$B$2","v":"GBP"},{"$f":"'[1]GIFTS data'!C141","v":20000},{"$f":"'[1]GIFTS data'!D141","v":"2018-05-18"},{"$f":"IF(LEFT('[1]GIFTS data'!G141,3)=\"SC0\",\"GB-SC-\"&'[1]GIFTS data'!G141,IF(LEN('[1]GIFTS data'!G141)=8,\"GB-COH-\"&'[1]GIFTS data'!G141,IF(LEFT('[1]GIFTS data'!G141,1)=\"X\",\"GB-REV-\"&'[1]GIFTS data'!G141,IF(AND(LEN('[1]GIFTS data'!G141)=7,LEFT('[1]GIFTS data'!G141,1)=\"1\"),\"GB-CHC-\"&'[1]GIFTS data'!G141,IF(LEN('[1]GIFTS data'!G141)=7,\"GB-COH-0\"&'[1]GIFTS data'!G141,IF(LEFT('[1]GIFTS data'!G141,3)=\"NIC\",\"GB-NIC-\"&RIGHT('[1]GIFTS data'!G141,LEN('[1]GIFTS data'!G141)-3),IF(LEN('[1]GIFTS data'!G141)=6,\"GB-CHC-\"&'[1]GIFTS data'!G141,'[1]Transformation sheet'!$B$3&'[1]GIFTS data'!E141)))))))","v":"GB-CHC-1048540"},{"$f":"'[1]GIFTS data'!F141","v":"Lambeth and Southwark Mencap (LSM)"},{"$f":"'[1]GIFTS data'!G141","v":1048540},{"$f":"'[1]GIFTS data'!J141","v":"West Norwood"},{"$f":"'[1]GIFTS data'!I141","v":"SE27 0HS"},{"$f":"'[1]GIFTS data'!H141","v":"Greater London"},{"$f":"IF(OR('[1]GIFTS data'!K141=\"4. Proactive Programme\",'[1]GIFTS data'!K141=\"3. Regular Grants Programme\"),\"No\",\"Yes\")","v":"Yes"},{"$f":"RIGHT('[1]GIFTS data'!K141,LEN('[1]GIFTS data'!K141)-3)","v":"Main Grants Programme"},{"$f":"'[1]Transformation sheet'!$B$8","v":"GB-CHC-274100"},{"$f":"'[1]Transformation sheet'!$B$9","v":"The Clothworkers Foundation"},"https://www.clothworkersfoundation.org.uk/",{"$f":"'[1]Transformation sheet'!$B$11","v":"2019-05-31"},{"$f":"IF(OR('[1]GIFTS data'!K141=\"4. Proactive Programme\",'[1]GIFTS data'!K141=\"3. Regular Grants Programme\"),\"Revenue\",\"Capital\")","v":"Capital"}]
[{"$f":"CONCATENATE('[1]Transformation sheet'!$B$1,'[1]GIFTS data'!A142)","v":"360G-ClothworkersFdn-201700680"},{"$f":"'[1]GIFTS data'!A142","v":201700680},{"$f":"CONCATENATE(\"Grant to \",'[1]GIFTS data'!F142)","v":"Grant to Launchpad Reading"},{"$f":"'[1]GIFTS data'!B142","v":"construction of five homes for a charity which works with homeless people in Reading"},{"$f":"'[1]Transformation sheet'!$B$2","v":"GBP"},{"$f":"'[1]GIFTS data'!C142","v":35000},{"$f":"'[1]GIFTS data'!D142","v":"2018-09-26"},{"$f":"IF(LEFT('[1]GIFTS data'!G142,3)=\"SC0\",\"GB-SC-\"&'[1]GIFTS data'!G142,IF(LEN('[1]GIFTS data'!G142)=8,\"GB-COH-\"&'[1]GIFTS data'!G142,IF(LEFT('[1]GIFTS data'!G142,1)=\"X\",\"GB-REV-\"&'[1]GIFTS data'!G142,IF(AND(LEN('[1]GIFTS data'!G142)=7,LEFT('[1]GIFTS data'!G142,1)=\"1\"),\"GB-CHC-\"&'[1]GIFTS data'!G142,IF(LEN('[1]GIFTS data'!G142)=7,\"GB-COH-0\"&'[1]GIFTS data'!G142,IF(LEFT('[1]GIFTS data'!G142,3)=\"NIC\",\"GB-NIC-\"&RIGHT('[1]GIFTS data'!G142,LEN('[1]GIFTS data'!G142)-3),IF(LEN('[1]GIFTS data'!G142)=6,\"GB-CHC-\"&'[1]GIFTS data'!G142,'[1]Transformation sheet'!$B$3&'[1]GIFTS data'!E142)))))))","v":"GB-CHC-279859"},{"$f":"'[1]GIFTS data'!F142","v":"Launchpad Reading"},{"$f":"'[1]GIFTS data'!G142","v":279859},{"$f":"'[1]GIFTS data'!J142","v":"Reading"},{"$f":"'[1]GIFTS data'!I142","v":"RG1 1DT"},{"$f":"'[1]GIFTS data'!H142","v":"South East"},{"$f":"IF(OR('[1]GIFTS data'!K142=\"4. Proactive Programme\",'[1]GIFTS data'!K142=\"3. Regular Grants Programme\"),\"No\",\"Yes\")","v":"Yes"},{"$f":"RIGHT('[1]GIFTS data'!K142,LEN('[1]GIFTS data'!K142)-3)","v":"Main Grants Programme"},{"$f":"'[1]Transformation sheet'!$B$8","v":"GB-CHC-274100"},{"$f":"'[1]Transformation sheet'!$B$9","v":"The Clothworkers Foundation"},"https://www.clothworkersfoundation.org.uk/",{"$f":"'[1]Transformation sheet'!$B$11","v":"2019-05-31"},{"$f":"IF(OR('[1]GIFTS data'!K142=\"4. Proactive Programme\",'[1]GIFTS data'!K142=\"3. Regular Grants Programme\"),\"Revenue\",\"Capital\")","v":"Capital"}]
[{"$f":"CONCATENATE('[1]Transformation sheet'!$B$1,'[1]GIFTS data'!A143)","v":"360G-ClothworkersFdn-201700652"},{"$f":"'[1]GIFTS data'!A143","v":201700652},{"$f":"CONCATENATE(\"Grant to \",'[1]GIFTS data'!F143)","v":"Grant to Leafair Community Association"},{"$f":"'[1]GIFTS data'!B143","v":"purchase of a minibus for a charity which works with disadvantaged young people in Derry"},{"$f":"'[1]Transformation sheet'!$B$2","v":"GBP"},{"$f":"'[1]GIFTS data'!C143","v":18000},{"$f":"'[1]GIFTS data'!D143","v":"2018-05-16"},{"$f":"IF(LEFT('[1]GIFTS data'!G143,3)=\"SC0\",\"GB-SC-\"&'[1]GIFTS data'!G143,IF(LEN('[1]GIFTS data'!G143)=8,\"GB-COH-\"&'[1]GIFTS data'!G143,IF(LEFT('[1]GIFTS data'!G143,1)=\"X\",\"GB-REV-\"&'[1]GIFTS data'!G143,IF(AND(LEN('[1]GIFTS data'!G143)=7,LEFT('[1]GIFTS data'!G143,1)=\"1\"),\"GB-CHC-\"&'[1]GIFTS data'!G143,IF(LEN('[1]GIFTS data'!G143)=7,\"GB-COH-0\"&'[1]GIFTS data'!G143,IF(LEFT('[1]GIFTS data'!G143,3)=\"NIC\",\"GB-NIC-\"&RIGHT('[1]GIFTS data'!G143,LEN('[1]GIFTS data'!G143)-3),IF(LEN('[1]GIFTS data'!G143)=6,\"GB-CHC-\"&'[1]GIFTS data'!G143,'[1]Transformation sheet'!$B$3&'[1]GIFTS data'!E143)))))))","v":"GB-NIC-100283"},{"$f":"'[1]GIFTS data'!F143","v":"Leafair Community Association"},{"$f":"'[1]GIFTS data'!G143","v":"NIC100283"},{"$f":"'[1]GIFTS data'!J143","v":"Derry"},{"$f":"'[1]GIFTS data'!I143","v":"BT48 8JT"},{"$f":"'[1]GIFTS data'!H143","v":"Northern Ireland"},{"$f":"IF(OR('[1]GIFTS data'!K143=\"4. Proactive Programme\",'[1]GIFTS data'!K143=\"3. Regular Grants Programme\"),\"No\",\"Yes\")","v":"Yes"},{"$f":"RIGHT('[1]GIFTS data'!K143,LEN('[1]GIFTS data'!K143)-3)","v":"Main Grants Programme"},{"$f":"'[1]Transformation sheet'!$B$8","v":"GB-CHC-274100"},{"$f":"'[1]Transformation sheet'!$B$9","v":"The Clothworkers Foundation"},"https://www.clothworkersfoundation.org.uk/",{"$f":"'[1]Transformation sheet'!$B$11","v":"2019-05-31"},{"$f":"IF(OR('[1]GIFTS data'!K143=\"4. Proactive Programme\",'[1]GIFTS data'!K143=\"3. Regular Grants Programme\"),\"Revenue\",\"Capital\")","v":"Capital"}]
[{"$f":"CONCATENATE('[1]Transformation sheet'!$B$1,'[1]GIFTS data'!A144)","v":"360G-ClothworkersFdn-201700364"},{"$f":"'[1]GIFTS data'!A144","v":201700364},{"$f":"CONCATENATE(\"Grant to \",'[1]GIFTS data'!F144)","v":"Grant to Leuchie House"},{"$f":"'[1]GIFTS data'!B144","v":"purchase and installation of a bell system for a charity which works with disabled people in North Berwick"},{"$f":"'[1]Transformation sheet'!$B$2","v":"GBP"},{"$f":"'[1]GIFTS data'!C144","v":14000},{"$f":"'[1]GIFTS data'!D144","v":"2018-02-08"},{"$f":"IF(LEFT('[1]GIFTS data'!G144,3)=\"SC0\",\"GB-SC-\"&'[1]GIFTS data'!G144,IF(LEN('[1]GIFTS data'!G144)=8,\"GB-COH-\"&'[1]GIFTS data'!G144,IF(LEFT('[1]GIFTS data'!G144,1)=\"X\",\"GB-REV-\"&'[1]GIFTS data'!G144,IF(AND(LEN('[1]GIFTS data'!G144)=7,LEFT('[1]GIFTS data'!G144,1)=\"1\"),\"GB-CHC-\"&'[1]GIFTS data'!G144,IF(LEN('[1]GIFTS data'!G144)=7,\"GB-COH-0\"&'[1]GIFTS data'!G144,IF(LEFT('[1]GIFTS data'!G144,3)=\"NIC\",\"GB-NIC-\"&RIGHT('[1]GIFTS data'!G144,LEN('[1]GIFTS data'!G144)-3),IF(LEN('[1]GIFTS data'!G144)=6,\"GB-CHC-\"&'[1]GIFTS data'!G144,'[1]Transformation sheet'!$B$3&'[1]GIFTS data'!E144)))))))","v":"GB-SC-SC042249"},{"$f":"'[1]GIFTS data'!F144","v":"Leuchie House"},{"$f":"'[1]GIFTS data'!G144","v":"SC042249"},{"$f":"'[1]GIFTS data'!J144","v":"North Berwick"},{"$f":"'[1]GIFTS data'!I144","v":"EH39 5NT"},{"$f":"'[1]GIFTS data'!H144","v":"Scotland"},{"$f":"IF(OR('[1]GIFTS data'!K144=\"4. Proactive Programme\",'[1]GIFTS data'!K144=\"3. Regular Grants Programme\"),\"No\",\"Yes\")","v":"Yes"},{"$f":"RIGHT('[1]GIFTS data'!K144,LEN('[1]GIFTS data'!K144)-3)","v":"Main Grants Programme"},{"$f":"'[1]Transformation sheet'!$B$8","v":"GB-CHC-274100"},{"$f":"'[1]Transformation sheet'!$B$9","v":"The Clothworkers Foundation"},"https://www.clothworkersfoundation.org.uk/",{"$f":"'[1]Transformation sheet'!$B$11","v":"2019-05-31"},{"$f":"IF(OR('[1]GIFTS data'!K144=\"4. Proactive Programme\",'[1]GIFTS data'!K144=\"3. Regular Grants Programme\"),\"Revenue\",\"Capital\")","v":"Capital"}]
[{"$f":"CONCATENATE('[1]Transformation sheet'!$B$1,'[1]GIFTS data'!A145)","v":"360G-ClothworkersFdn-201700862"},{"$f":"'[1]GIFTS data'!A145","v":201700862},{"$f":"CONCATENATE(\"Grant to \",'[1]GIFTS data'!F145)","v":"Grant to Level Trust"},{"$f":"'[1]GIFTS data'!B145","v":"refurbishment of a stock room for a charity which works with disadvantaged young people in Luton"},{"$f":"'[1]Transformation sheet'!$B$2","v":"GBP"},{"$f":"'[1]GIFTS data'!C145","v":10000},{"$f":"'[1]GIFTS data'!D145","v":"2018-09-26"},{"$f":"IF(LEFT('[1]GIFTS data'!G145,3)=\"SC0\",\"GB-SC-\"&'[1]GIFTS data'!G145,IF(LEN('[1]GIFTS data'!G145)=8,\"GB-COH-\"&'[1]GIFTS data'!G145,IF(LEFT('[1]GIFTS data'!G145,1)=\"X\",\"GB-REV-\"&'[1]GIFTS data'!G145,IF(AND(LEN('[1]GIFTS data'!G145)=7,LEFT('[1]GIFTS data'!G145,1)=\"1\"),\"GB-CHC-\"&'[1]GIFTS data'!G145,IF(LEN('[1]GIFTS data'!G145)=7,\"GB-COH-0\"&'[1]GIFTS data'!G145,IF(LEFT('[1]GIFTS data'!G145,3)=\"NIC\",\"GB-NIC-\"&RIGHT('[1]GIFTS data'!G145,LEN('[1]GIFTS data'!G145)-3),IF(LEN('[1]GIFTS data'!G145)=6,\"GB-CHC-\"&'[1]GIFTS data'!G145,'[1]Transformation sheet'!$B$3&'[1]GIFTS data'!E145)))))))","v":"GB-CHC-1153936"},{"$f":"'[1]GIFTS data'!F145","v":"Level Trust"},{"$f":"'[1]GIFTS data'!G145","v":1153936},{"$f":"'[1]GIFTS data'!J145","v":"Luton"},{"$f":"'[1]GIFTS data'!I145","v":"LU1 2TW"},{"$f":"'[1]GIFTS data'!H145","v":"East"},{"$f":"IF(OR('[1]GIFTS data'!K145=\"4. Proactive Programme\",'[1]GIFTS data'!K145=\"3. Regular Grants Programme\"),\"No\",\"Yes\")","v":"Yes"},{"$f":"RIGHT('[1]GIFTS data'!K145,LEN('[1]GIFTS data'!K145)-3)","v":"Small Grants Programme"},{"$f":"'[1]Transformation sheet'!$B$8","v":"GB-CHC-274100"},{"$f":"'[1]Transformation sheet'!$B$9","v":"The Clothworkers Foundation"},"https://www.clothworkersfoundation.org.uk/",{"$f":"'[1]Transformation sheet'!$B$11","v":"2019-05-31"},{"$f":"IF(OR('[1]GIFTS data'!K145=\"4. Proactive Programme\",'[1]GIFTS data'!K145=\"3. Regular Grants Programme\"),\"Revenue\",\"Capital\")","v":"Capital"}]
[{"$f":"CONCATENATE('[1]Transformation sheet'!$B$1,'[1]GIFTS data'!A146)","v":"360G-ClothworkersFdn-201700444"},{"$f":"'[1]GIFTS data'!A146","v":201700444},{"$f":"CONCATENATE(\"Grant to \",'[1]GIFTS data'!F146)","v":"Grant to Lichfield Talking News for the Blind"},{"$f":"'[1]GIFTS data'!B146","v":"purchase of a Flashmax high speed duplicator for a charity which works with visually impaired people in Lichfield"},{"$f":"'[1]Transformation sheet'!$B$2","v":"GBP"},{"$f":"'[1]GIFTS data'!C146","v":5800},{"$f":"'[1]GIFTS data'!D146","v":"2018-01-30"},{"$f":"IF(LEFT('[1]GIFTS data'!G146,3)=\"SC0\",\"GB-SC-\"&'[1]GIFTS data'!G146,IF(LEN('[1]GIFTS data'!G146)=8,\"GB-COH-\"&'[1]GIFTS data'!G146,IF(LEFT('[1]GIFTS data'!G146,1)=\"X\",\"GB-REV-\"&'[1]GIFTS data'!G146,IF(AND(LEN('[1]GIFTS data'!G146)=7,LEFT('[1]GIFTS data'!G146,1)=\"1\"),\"GB-CHC-\"&'[1]GIFTS data'!G146,IF(LEN('[1]GIFTS data'!G146)=7,\"GB-COH-0\"&'[1]GIFTS data'!G146,IF(LEFT('[1]GIFTS data'!G146,3)=\"NIC\",\"GB-NIC-\"&RIGHT('[1]GIFTS data'!G146,LEN('[1]GIFTS data'!G146)-3),IF(LEN('[1]GIFTS data'!G146)=6,\"GB-CHC-\"&'[1]GIFTS data'!G146,'[1]Transformation sheet'!$B$3&'[1]GIFTS data'!E146)))))))","v":"GB-CHC-512190"},{"$f":"'[1]GIFTS data'!F146","v":"Lichfield Talking News for the Blind"},{"$f":"'[1]GIFTS data'!G146","v":512190},{"$f":"'[1]GIFTS data'!J146","v":"Lichfield"},{"$f":"'[1]GIFTS data'!I146","v":"WS14 9YH"},{"$f":"'[1]GIFTS data'!H146","v":"West Midlands"},{"$f":"IF(OR('[1]GIFTS data'!K146=\"4. Proactive Programme\",'[1]GIFTS data'!K146=\"3. Regular Grants Programme\"),\"No\",\"Yes\")","v":"Yes"},{"$f":"RIGHT('[1]GIFTS data'!K146,LEN('[1]GIFTS data'!K146)-3)","v":"Small Grants Programme"},{"$f":"'[1]Transformation sheet'!$B$8","v":"GB-CHC-274100"},{"$f":"'[1]Transformation sheet'!$B$9","v":"The Clothworkers Foundation"},"https://www.clothworkersfoundation.org.uk/",{"$f":"'[1]Transformation sheet'!$B$11","v":"2019-05-31"},{"$f":"IF(OR('[1]GIFTS data'!K146=\"4. Proactive Programme\",'[1]GIFTS data'!K146=\"3. Regular Grants Programme\"),\"Revenue\",\"Capital\")","v":"Capital"}]
[{"$f":"CONCATENATE('[1]Transformation sheet'!$B$1,'[1]GIFTS data'!A147)","v":"360G-ClothworkersFdn-201700894"},{"$f":"'[1]GIFTS data'!A147","v":201700894},{"$f":"CONCATENATE(\"Grant to \",'[1]GIFTS data'!F147)","v":"Grant to Lifespring Centre"},{"$f":"'[1]GIFTS data'!B147","v":"refurbishment of a community hub for a charity which works with people with disabilities in Nottinghamshire"},{"$f":"'[1]Transformation sheet'!$B$2","v":"GBP"},{"$f":"'[1]GIFTS data'!C147","v":10000},{"$f":"'[1]GIFTS data'!D147","v":"2018-11-02"},{"$f":"IF(LEFT('[1]GIFTS data'!G147,3)=\"SC0\",\"GB-SC-\"&'[1]GIFTS data'!G147,IF(LEN('[1]GIFTS data'!G147)=8,\"GB-COH-\"&'[1]GIFTS data'!G147,IF(LEFT('[1]GIFTS data'!G147,1)=\"X\",\"GB-REV-\"&'[1]GIFTS data'!G147,IF(AND(LEN('[1]GIFTS data'!G147)=7,LEFT('[1]GIFTS data'!G147,1)=\"1\"),\"GB-CHC-\"&'[1]GIFTS data'!G147,IF(LEN('[1]GIFTS data'!G147)=7,\"GB-COH-0\"&'[1]GIFTS data'!G147,IF(LEFT('[1]GIFTS data'!G147,3)=\"NIC\",\"GB-NIC-\"&RIGHT('[1]GIFTS data'!G147,LEN('[1]GIFTS data'!G147)-3),IF(LEN('[1]GIFTS data'!G147)=6,\"GB-CHC-\"&'[1]GIFTS data'!G147,'[1]Transformation sheet'!$B$3&'[1]GIFTS data'!E147)))))))","v":"GB-CHC-1132497"},{"$f":"'[1]GIFTS data'!F147","v":"Lifespring Centre"},{"$f":"'[1]GIFTS data'!G147","v":1132497},{"$f":"'[1]GIFTS data'!J147","v":"Newark"},{"$f":"'[1]GIFTS data'!I147","v":"NG22 9PP"},{"$f":"'[1]GIFTS data'!H147","v":"East Midlands"},{"$f":"IF(OR('[1]GIFTS data'!K147=\"4. Proactive Programme\",'[1]GIFTS data'!K147=\"3. Regular Grants Programme\"),\"No\",\"Yes\")","v":"Yes"},{"$f":"RIGHT('[1]GIFTS data'!K147,LEN('[1]GIFTS data'!K147)-3)","v":"Small Grants Programme"},{"$f":"'[1]Transformation sheet'!$B$8","v":"GB-CHC-274100"},{"$f":"'[1]Transformation sheet'!$B$9","v":"The Clothworkers Foundation"},"https://www.clothworkersfoundation.org.uk/",{"$f":"'[1]Transformation sheet'!$B$11","v":"2019-05-31"},{"$f":"IF(OR('[1]GIFTS data'!K147=\"4. Proactive Programme\",'[1]GIFTS data'!K147=\"3. Regular Grants Programme\"),\"Revenue\",\"Capital\")","v":"Capital"}]
[{"$f":"CONCATENATE('[1]Transformation sheet'!$B$1,'[1]GIFTS data'!A148)","v":"360G-ClothworkersFdn-201700509"},{"$f":"'[1]GIFTS data'!A148","v":201700509},{"$f":"CONCATENATE(\"Grant to \",'[1]GIFTS data'!F148)","v":"Grant to Link Age Southwark"},{"$f":"'[1]GIFTS data'!B148","v":"refurbishment of a building for a charity which works with older people in London"},{"$f":"'[1]Transformation sheet'!$B$2","v":"GBP"},{"$f":"'[1]GIFTS data'!C148","v":25000},{"$f":"'[1]GIFTS data'!D148","v":"2018-05-16"},{"$f":"IF(LEFT('[1]GIFTS data'!G148,3)=\"SC0\",\"GB-SC-\"&'[1]GIFTS data'!G148,IF(LEN('[1]GIFTS data'!G148)=8,\"GB-COH-\"&'[1]GIFTS data'!G148,IF(LEFT('[1]GIFTS data'!G148,1)=\"X\",\"GB-REV-\"&'[1]GIFTS data'!G148,IF(AND(LEN('[1]GIFTS data'!G148)=7,LEFT('[1]GIFTS data'!G148,1)=\"1\"),\"GB-CHC-\"&'[1]GIFTS data'!G148,IF(LEN('[1]GIFTS data'!G148)=7,\"GB-COH-0\"&'[1]GIFTS data'!G148,IF(LEFT('[1]GIFTS data'!G148,3)=\"NIC\",\"GB-NIC-\"&RIGHT('[1]GIFTS data'!G148,LEN('[1]GIFTS data'!G148)-3),IF(LEN('[1]GIFTS data'!G148)=6,\"GB-CHC-\"&'[1]GIFTS data'!G148,'[1]Transformation sheet'!$B$3&'[1]GIFTS data'!E148)))))))","v":"GB-CHC-1105923"},{"$f":"'[1]GIFTS data'!F148","v":"Link Age Southwark"},{"$f":"'[1]GIFTS data'!G148","v":1105923},{"$f":"'[1]GIFTS data'!J148","v":"London"},{"$f":"'[1]GIFTS data'!I148","v":"SE22 8PT"},{"$f":"'[1]GIFTS data'!H148","v":"Greater London"},{"$f":"IF(OR('[1]GIFTS data'!K148=\"4. Proactive Programme\",'[1]GIFTS data'!K148=\"3. Regular Grants Programme\"),\"No\",\"Yes\")","v":"Yes"},{"$f":"RIGHT('[1]GIFTS data'!K148,LEN('[1]GIFTS data'!K148)-3)","v":"Main Grants Programme"},{"$f":"'[1]Transformation sheet'!$B$8","v":"GB-CHC-274100"},{"$f":"'[1]Transformation sheet'!$B$9","v":"The Clothworkers Foundation"},"https://www.clothworkersfoundation.org.uk/",{"$f":"'[1]Transformation sheet'!$B$11","v":"2019-05-31"},{"$f":"IF(OR('[1]GIFTS data'!K148=\"4. Proactive Programme\",'[1]GIFTS data'!K148=\"3. Regular Grants Programme\"),\"Revenue\",\"Capital\")","v":"Capital"}]
[{"$f":"CONCATENATE('[1]Transformation sheet'!$B$1,'[1]GIFTS data'!A149)","v":"360G-ClothworkersFdn-201700553"},{"$f":"'[1]GIFTS data'!A149","v":201700553},{"$f":"CONCATENATE(\"Grant to \",'[1]GIFTS data'!F149)","v":"Grant to Lisburn Downtown Centre"},{"$f":"'[1]GIFTS data'!B149","v":"refurbishment of drop-in centre for a charity which works with disabled people"},{"$f":"'[1]Transformation sheet'!$B$2","v":"GBP"},{"$f":"'[1]GIFTS data'!C149","v":10000},{"$f":"'[1]GIFTS data'!D149","v":"2018-04-12"},{"$f":"IF(LEFT('[1]GIFTS data'!G149,3)=\"SC0\",\"GB-SC-\"&'[1]GIFTS data'!G149,IF(LEN('[1]GIFTS data'!G149)=8,\"GB-COH-\"&'[1]GIFTS data'!G149,IF(LEFT('[1]GIFTS data'!G149,1)=\"X\",\"GB-REV-\"&'[1]GIFTS data'!G149,IF(AND(LEN('[1]GIFTS data'!G149)=7,LEFT('[1]GIFTS data'!G149,1)=\"1\"),\"GB-CHC-\"&'[1]GIFTS data'!G149,IF(LEN('[1]GIFTS data'!G149)=7,\"GB-COH-0\"&'[1]GIFTS data'!G149,IF(LEFT('[1]GIFTS data'!G149,3)=\"NIC\",\"GB-NIC-\"&RIGHT('[1]GIFTS data'!G149,LEN('[1]GIFTS data'!G149)-3),IF(LEN('[1]GIFTS data'!G149)=6,\"GB-CHC-\"&'[1]GIFTS data'!G149,'[1]Transformation sheet'!$B$3&'[1]GIFTS data'!E149)))))))","v":"GB-NIC-100081"},{"$f":"'[1]GIFTS data'!F149","v":"Lisburn Downtown Centre"},{"$f":"'[1]GIFTS data'!G149","v":"NIC100081"},{"$f":"'[1]GIFTS data'!J149","v":"Lisburn"},{"$f":"'[1]GIFTS data'!I149","v":"BT28 1AD"},{"$f":"'[1]GIFTS data'!H149","v":"Northern Ireland"},{"$f":"IF(OR('[1]GIFTS data'!K149=\"4. Proactive Programme\",'[1]GIFTS data'!K149=\"3. Regular Grants Programme\"),\"No\",\"Yes\")","v":"Yes"},{"$f":"RIGHT('[1]GIFTS data'!K149,LEN('[1]GIFTS data'!K149)-3)","v":"Small Grants Programme"},{"$f":"'[1]Transformation sheet'!$B$8","v":"GB-CHC-274100"},{"$f":"'[1]Transformation sheet'!$B$9","v":"The Clothworkers Foundation"},"https://www.clothworkersfoundation.org.uk/",{"$f":"'[1]Transformation sheet'!$B$11","v":"2019-05-31"},{"$f":"IF(OR('[1]GIFTS data'!K149=\"4. Proactive Programme\",'[1]GIFTS data'!K149=\"3. Regular Grants Programme\"),\"Revenue\",\"Capital\")","v":"Capital"}]
[{"$f":"CONCATENATE('[1]Transformation sheet'!$B$1,'[1]GIFTS data'!A150)","v":"360G-ClothworkersFdn-201700533"},{"$f":"'[1]GIFTS data'!A150","v":201700533},{"$f":"CONCATENATE(\"Grant to \",'[1]GIFTS data'!F150)","v":"Grant to Liverpool Homeless Football Club"},{"$f":"'[1]GIFTS data'!B150","v":"purchase of a van and generator for a charity which works with homeless people"},{"$f":"'[1]Transformation sheet'!$B$2","v":"GBP"},{"$f":"'[1]GIFTS data'!C150","v":7500},{"$f":"'[1]GIFTS data'!D150","v":"2018-03-02"},{"$f":"IF(LEFT('[1]GIFTS data'!G150,3)=\"SC0\",\"GB-SC-\"&'[1]GIFTS data'!G150,IF(LEN('[1]GIFTS data'!G150)=8,\"GB-COH-\"&'[1]GIFTS data'!G150,IF(LEFT('[1]GIFTS data'!G150,1)=\"X\",\"GB-REV-\"&'[1]GIFTS data'!G150,IF(AND(LEN('[1]GIFTS data'!G150)=7,LEFT('[1]GIFTS data'!G150,1)=\"1\"),\"GB-CHC-\"&'[1]GIFTS data'!G150,IF(LEN('[1]GIFTS data'!G150)=7,\"GB-COH-0\"&'[1]GIFTS data'!G150,IF(LEFT('[1]GIFTS data'!G150,3)=\"NIC\",\"GB-NIC-\"&RIGHT('[1]GIFTS data'!G150,LEN('[1]GIFTS data'!G150)-3),IF(LEN('[1]GIFTS data'!G150)=6,\"GB-CHC-\"&'[1]GIFTS data'!G150,'[1]Transformation sheet'!$B$3&'[1]GIFTS data'!E150)))))))","v":"GB-COH-08457588"},{"$f":"'[1]GIFTS data'!F150","v":"Liverpool Homeless Football Club"},{"$f":"'[1]GIFTS data'!G150","v":8457588},{"$f":"'[1]GIFTS data'!J150","v":"Liverpool"},{"$f":"'[1]GIFTS data'!I150","v":"L2 2AH"},{"$f":"'[1]GIFTS data'!H150","v":"North West"},{"$f":"IF(OR('[1]GIFTS data'!K150=\"4. Proactive Programme\",'[1]GIFTS data'!K150=\"3. Regular Grants Programme\"),\"No\",\"Yes\")","v":"Yes"},{"$f":"RIGHT('[1]GIFTS data'!K150,LEN('[1]GIFTS data'!K150)-3)","v":"Small Grants Programme"},{"$f":"'[1]Transformation sheet'!$B$8","v":"GB-CHC-274100"},{"$f":"'[1]Transformation sheet'!$B$9","v":"The Clothworkers Foundation"},"https://www.clothworkersfoundation.org.uk/",{"$f":"'[1]Transformation sheet'!$B$11","v":"2019-05-31"},{"$f":"IF(OR('[1]GIFTS data'!K150=\"4. Proactive Programme\",'[1]GIFTS data'!K150=\"3. Regular Grants Programme\"),\"Revenue\",\"Capital\")","v":"Capital"}]
[{"$f":"CONCATENATE('[1]Transformation sheet'!$B$1,'[1]GIFTS data'!A151)","v":"360G-ClothworkersFdn-201700878"},{"$f":"'[1]GIFTS data'!A151","v":201700878},{"$f":"CONCATENATE(\"Grant to \",'[1]GIFTS data'!F151)","v":"Grant to Llanelli Centre for the Deaf"},{"$f":"'[1]GIFTS data'!B151","v":"refurbishment of roof and second floor of a building for a charity which works with people with disabilities in Carmarthenshire"},{"$f":"'[1]Transformation sheet'!$B$2","v":"GBP"},{"$f":"'[1]GIFTS data'!C151","v":8000},{"$f":"'[1]GIFTS data'!D151","v":"2018-11-02"},{"$f":"IF(LEFT('[1]GIFTS data'!G151,3)=\"SC0\",\"GB-SC-\"&'[1]GIFTS data'!G151,IF(LEN('[1]GIFTS data'!G151)=8,\"GB-COH-\"&'[1]GIFTS data'!G151,IF(LEFT('[1]GIFTS data'!G151,1)=\"X\",\"GB-REV-\"&'[1]GIFTS data'!G151,IF(AND(LEN('[1]GIFTS data'!G151)=7,LEFT('[1]GIFTS data'!G151,1)=\"1\"),\"GB-CHC-\"&'[1]GIFTS data'!G151,IF(LEN('[1]GIFTS data'!G151)=7,\"GB-COH-0\"&'[1]GIFTS data'!G151,IF(LEFT('[1]GIFTS data'!G151,3)=\"NIC\",\"GB-NIC-\"&RIGHT('[1]GIFTS data'!G151,LEN('[1]GIFTS data'!G151)-3),IF(LEN('[1]GIFTS data'!G151)=6,\"GB-CHC-\"&'[1]GIFTS data'!G151,'[1]Transformation sheet'!$B$3&'[1]GIFTS data'!E151)))))))","v":"GB-CHC-228370"},{"$f":"'[1]GIFTS data'!F151","v":"Llanelli Centre for the Deaf"},{"$f":"'[1]GIFTS data'!G151","v":228370},{"$f":"'[1]GIFTS data'!J151","v":"Llanelli"},{"$f":"'[1]GIFTS data'!I151","v":"SA15 3DR"},{"$f":"'[1]GIFTS data'!H151","v":"Wales"},{"$f":"IF(OR('[1]GIFTS data'!K151=\"4. Proactive Programme\",'[1]GIFTS data'!K151=\"3. Regular Grants Programme\"),\"No\",\"Yes\")","v":"Yes"},{"$f":"RIGHT('[1]GIFTS data'!K151,LEN('[1]GIFTS data'!K151)-3)","v":"Small Grants Programme"},{"$f":"'[1]Transformation sheet'!$B$8","v":"GB-CHC-274100"},{"$f":"'[1]Transformation sheet'!$B$9","v":"The Clothworkers Foundation"},"https://www.clothworkersfoundation.org.uk/",{"$f":"'[1]Transformation sheet'!$B$11","v":"2019-05-31"},{"$f":"IF(OR('[1]GIFTS data'!K151=\"4. Proactive Programme\",'[1]GIFTS data'!K151=\"3. Regular Grants Programme\"),\"Revenue\",\"Capital\")","v":"Capital"}]
[{"$f":"CONCATENATE('[1]Transformation sheet'!$B$1,'[1]GIFTS data'!A152)","v":"360G-ClothworkersFdn-201700809"},{"$f":"'[1]GIFTS data'!A152","v":201700809},{"$f":"CONCATENATE(\"Grant to \",'[1]GIFTS data'!F152)","v":"Grant to Longcause Community Special School"},{"$f":"'[1]GIFTS data'!B152","v":"construction of an outdoor classroom for a charity which works with children with diabilities in Plymouth"},{"$f":"'[1]Transformation sheet'!$B$2","v":"GBP"},{"$f":"'[1]GIFTS data'!C152","v":16000},{"$f":"'[1]GIFTS data'!D152","v":"2018-10-16"},{"$f":"IF(LEFT('[1]GIFTS data'!G152,3)=\"SC0\",\"GB-SC-\"&'[1]GIFTS data'!G152,IF(LEN('[1]GIFTS data'!G152)=8,\"GB-COH-\"&'[1]GIFTS data'!G152,IF(LEFT('[1]GIFTS data'!G152,1)=\"X\",\"GB-REV-\"&'[1]GIFTS data'!G152,IF(AND(LEN('[1]GIFTS data'!G152)=7,LEFT('[1]GIFTS data'!G152,1)=\"1\"),\"GB-CHC-\"&'[1]GIFTS data'!G152,IF(LEN('[1]GIFTS data'!G152)=7,\"GB-COH-0\"&'[1]GIFTS data'!G152,IF(LEFT('[1]GIFTS data'!G152,3)=\"NIC\",\"GB-NIC-\"&RIGHT('[1]GIFTS data'!G152,LEN('[1]GIFTS data'!G152)-3),IF(LEN('[1]GIFTS data'!G152)=6,\"GB-CHC-\"&'[1]GIFTS data'!G152,'[1]Transformation sheet'!$B$3&'[1]GIFTS data'!E152)))))))","v":"360G-ClothworkersFdn:ORG-10456"},{"$f":"'[1]GIFTS data'!F152","v":"Longcause Community Special School"},{"$f":"'[1]GIFTS data'!G152","v":0},{"$f":"'[1]GIFTS data'!J152","v":"Plymouth"},{"$f":"'[1]GIFTS data'!I152","v":"PL7 1JB"},{"$f":"'[1]GIFTS data'!H152","v":"South West"},{"$f":"IF(OR('[1]GIFTS data'!K152=\"4. Proactive Programme\",'[1]GIFTS data'!K152=\"3. Regular Grants Programme\"),\"No\",\"Yes\")","v":"Yes"},{"$f":"RIGHT('[1]GIFTS data'!K152,LEN('[1]GIFTS data'!K152)-3)","v":"Main Grants Programme"},{"$f":"'[1]Transformation sheet'!$B$8","v":"GB-CHC-274100"},{"$f":"'[1]Transformation sheet'!$B$9","v":"The Clothworkers Foundation"},"https://www.clothworkersfoundation.org.uk/",{"$f":"'[1]Transformation sheet'!$B$11","v":"2019-05-31"},{"$f":"IF(OR('[1]GIFTS data'!K152=\"4. Proactive Programme\",'[1]GIFTS data'!K152=\"3. Regular Grants Programme\"),\"Revenue\",\"Capital\")","v":"Capital"}]
[{"$f":"CONCATENATE('[1]Transformation sheet'!$B$1,'[1]GIFTS data'!A153)","v":"360G-ClothworkersFdn-201700645"},{"$f":"'[1]GIFTS data'!A153","v":201700645},{"$f":"CONCATENATE(\"Grant to \",'[1]GIFTS data'!F153)","v":"Grant to Loughgiel Community Association"},{"$f":"'[1]GIFTS data'!B153","v":"purchase of a van for a charity which works with older people in Antrim"},{"$f":"'[1]Transformation sheet'!$B$2","v":"GBP"},{"$f":"'[1]GIFTS data'!C153","v":5000},{"$f":"'[1]GIFTS data'!D153","v":"2018-05-04"},{"$f":"IF(LEFT('[1]GIFTS data'!G153,3)=\"SC0\",\"GB-SC-\"&'[1]GIFTS data'!G153,IF(LEN('[1]GIFTS data'!G153)=8,\"GB-COH-\"&'[1]GIFTS data'!G153,IF(LEFT('[1]GIFTS data'!G153,1)=\"X\",\"GB-REV-\"&'[1]GIFTS data'!G153,IF(AND(LEN('[1]GIFTS data'!G153)=7,LEFT('[1]GIFTS data'!G153,1)=\"1\"),\"GB-CHC-\"&'[1]GIFTS data'!G153,IF(LEN('[1]GIFTS data'!G153)=7,\"GB-COH-0\"&'[1]GIFTS data'!G153,IF(LEFT('[1]GIFTS data'!G153,3)=\"NIC\",\"GB-NIC-\"&RIGHT('[1]GIFTS data'!G153,LEN('[1]GIFTS data'!G153)-3),IF(LEN('[1]GIFTS data'!G153)=6,\"GB-CHC-\"&'[1]GIFTS data'!G153,'[1]Transformation sheet'!$B$3&'[1]GIFTS data'!E153)))))))","v":"GB-NIC-103422"},{"$f":"'[1]GIFTS data'!F153","v":"Loughgiel Community Association"},{"$f":"'[1]GIFTS data'!G153","v":"NIC103422"},{"$f":"'[1]GIFTS data'!J153","v":"Ballymena"},{"$f":"'[1]GIFTS data'!I153","v":"BT44 9JN"},{"$f":"'[1]GIFTS data'!H153","v":"Northern Ireland"},{"$f":"IF(OR('[1]GIFTS data'!K153=\"4. Proactive Programme\",'[1]GIFTS data'!K153=\"3. Regular Grants Programme\"),\"No\",\"Yes\")","v":"Yes"},{"$f":"RIGHT('[1]GIFTS data'!K153,LEN('[1]GIFTS data'!K153)-3)","v":"Small Grants Programme"},{"$f":"'[1]Transformation sheet'!$B$8","v":"GB-CHC-274100"},{"$f":"'[1]Transformation sheet'!$B$9","v":"The Clothworkers Foundation"},"https://www.clothworkersfoundation.org.uk/",{"$f":"'[1]Transformation sheet'!$B$11","v":"2019-05-31"},{"$f":"IF(OR('[1]GIFTS data'!K153=\"4. Proactive Programme\",'[1]GIFTS data'!K153=\"3. Regular Grants Programme\"),\"Revenue\",\"Capital\")","v":"Capital"}]
[{"$f":"CONCATENATE('[1]Transformation sheet'!$B$1,'[1]GIFTS data'!A154)","v":"360G-ClothworkersFdn-201700673"},{"$f":"'[1]GIFTS data'!A154","v":201700673},{"$f":"CONCATENATE(\"Grant to \",'[1]GIFTS data'!F154)","v":"Grant to Magdalene Group (Norfolk)"},{"$f":"'[1]GIFTS data'!B154","v":"purchase of furniture and equipment for shelter accomodation for a charity which works with disadvantaged young people in Norfolk"},{"$f":"'[1]Transformation sheet'!$B$2","v":"GBP"},{"$f":"'[1]GIFTS data'!C154","v":15000},{"$f":"'[1]GIFTS data'!D154","v":"2018-07-17"},{"$f":"IF(LEFT('[1]GIFTS data'!G154,3)=\"SC0\",\"GB-SC-\"&'[1]GIFTS data'!G154,IF(LEN('[1]GIFTS data'!G154)=8,\"GB-COH-\"&'[1]GIFTS data'!G154,IF(LEFT('[1]GIFTS data'!G154,1)=\"X\",\"GB-REV-\"&'[1]GIFTS data'!G154,IF(AND(LEN('[1]GIFTS data'!G154)=7,LEFT('[1]GIFTS data'!G154,1)=\"1\"),\"GB-CHC-\"&'[1]GIFTS data'!G154,IF(LEN('[1]GIFTS data'!G154)=7,\"GB-COH-0\"&'[1]GIFTS data'!G154,IF(LEFT('[1]GIFTS data'!G154,3)=\"NIC\",\"GB-NIC-\"&RIGHT('[1]GIFTS data'!G154,LEN('[1]GIFTS data'!G154)-3),IF(LEN('[1]GIFTS data'!G154)=6,\"GB-CHC-\"&'[1]GIFTS data'!G154,'[1]Transformation sheet'!$B$3&'[1]GIFTS data'!E154)))))))","v":"GB-CHC-1041195"},{"$f":"'[1]GIFTS data'!F154","v":"Magdalene Group (Norfolk)"},{"$f":"'[1]GIFTS data'!G154","v":1041195},{"$f":"'[1]GIFTS data'!J154","v":"Norwich"},{"$f":"'[1]GIFTS data'!I154","v":"NR1 1PH"},{"$f":"'[1]GIFTS data'!H154","v":"East"},{"$f":"IF(OR('[1]GIFTS data'!K154=\"4. Proactive Programme\",'[1]GIFTS data'!K154=\"3. Regular Grants Programme\"),\"No\",\"Yes\")","v":"Yes"},{"$f":"RIGHT('[1]GIFTS data'!K154,LEN('[1]GIFTS data'!K154)-3)","v":"Main Grants Programme"},{"$f":"'[1]Transformation sheet'!$B$8","v":"GB-CHC-274100"},{"$f":"'[1]Transformation sheet'!$B$9","v":"The Clothworkers Foundation"},"https://www.clothworkersfoundation.org.uk/",{"$f":"'[1]Transformation sheet'!$B$11","v":"2019-05-31"},{"$f":"IF(OR('[1]GIFTS data'!K154=\"4. Proactive Programme\",'[1]GIFTS data'!K154=\"3. Regular Grants Programme\"),\"Revenue\",\"Capital\")","v":"Capital"}]
[{"$f":"CONCATENATE('[1]Transformation sheet'!$B$1,'[1]GIFTS data'!A155)","v":"360G-ClothworkersFdn-201700668"},{"$f":"'[1]GIFTS data'!A155","v":201700668},{"$f":"CONCATENATE(\"Grant to \",'[1]GIFTS data'!F155)","v":"Grant to Mayfield and Easthouses Youth 2000 Project"},{"$f":"'[1]GIFTS data'!B155","v":"refurbishment of a kitchen for a charity which works with disadvantaged young people in Scotland"},{"$f":"'[1]Transformation sheet'!$B$2","v":"GBP"},{"$f":"'[1]GIFTS data'!C155","v":3800},{"$f":"'[1]GIFTS data'!D155","v":"2018-06-21"},{"$f":"IF(LEFT('[1]GIFTS data'!G155,3)=\"SC0\",\"GB-SC-\"&'[1]GIFTS data'!G155,IF(LEN('[1]GIFTS data'!G155)=8,\"GB-COH-\"&'[1]GIFTS data'!G155,IF(LEFT('[1]GIFTS data'!G155,1)=\"X\",\"GB-REV-\"&'[1]GIFTS data'!G155,IF(AND(LEN('[1]GIFTS data'!G155)=7,LEFT('[1]GIFTS data'!G155,1)=\"1\"),\"GB-CHC-\"&'[1]GIFTS data'!G155,IF(LEN('[1]GIFTS data'!G155)=7,\"GB-COH-0\"&'[1]GIFTS data'!G155,IF(LEFT('[1]GIFTS data'!G155,3)=\"NIC\",\"GB-NIC-\"&RIGHT('[1]GIFTS data'!G155,LEN('[1]GIFTS data'!G155)-3),IF(LEN('[1]GIFTS data'!G155)=6,\"GB-CHC-\"&'[1]GIFTS data'!G155,'[1]Transformation sheet'!$B$3&'[1]GIFTS data'!E155)))))))","v":"GB-SC-SC030823"},{"$f":"'[1]GIFTS data'!F155","v":"Mayfield and Easthouses Youth 2000 Project"},{"$f":"'[1]GIFTS data'!G155","v":"SC030823"},{"$f":"'[1]GIFTS data'!J155","v":"Dalkeith"},{"$f":"'[1]GIFTS data'!I155","v":"EH22 5DY"},{"$f":"'[1]GIFTS data'!H155","v":"Scotland"},{"$f":"IF(OR('[1]GIFTS data'!K155=\"4. Proactive Programme\",'[1]GIFTS data'!K155=\"3. Regular Grants Programme\"),\"No\",\"Yes\")","v":"Yes"},{"$f":"RIGHT('[1]GIFTS data'!K155,LEN('[1]GIFTS data'!K155)-3)","v":"Small Grants Programme"},{"$f":"'[1]Transformation sheet'!$B$8","v":"GB-CHC-274100"},{"$f":"'[1]Transformation sheet'!$B$9","v":"The Clothworkers Foundation"},"https://www.clothworkersfoundation.org.uk/",{"$f":"'[1]Transformation sheet'!$B$11","v":"2019-05-31"},{"$f":"IF(OR('[1]GIFTS data'!K155=\"4. Proactive Programme\",'[1]GIFTS data'!K155=\"3. Regular Grants Programme\"),\"Revenue\",\"Capital\")","v":"Capital"}]
[{"$f":"CONCATENATE('[1]Transformation sheet'!$B$1,'[1]GIFTS data'!A156)","v":"360G-ClothworkersFdn-201700678"},{"$f":"'[1]GIFTS data'!A156","v":201700678},{"$f":"CONCATENATE(\"Grant to \",'[1]GIFTS data'!F156)","v":"Grant to Meadow Well Connected"},{"$f":"'[1]GIFTS data'!B156","v":"refurbishment of toilets for a charity which works with disadvantaged young people in Tyne and Wear"},{"$f":"'[1]Transformation sheet'!$B$2","v":"GBP"},{"$f":"'[1]GIFTS data'!C156","v":10000},{"$f":"'[1]GIFTS data'!D156","v":"2018-06-21"},{"$f":"IF(LEFT('[1]GIFTS data'!G156,3)=\"SC0\",\"GB-SC-\"&'[1]GIFTS data'!G156,IF(LEN('[1]GIFTS data'!G156)=8,\"GB-COH-\"&'[1]GIFTS data'!G156,IF(LEFT('[1]GIFTS data'!G156,1)=\"X\",\"GB-REV-\"&'[1]GIFTS data'!G156,IF(AND(LEN('[1]GIFTS data'!G156)=7,LEFT('[1]GIFTS data'!G156,1)=\"1\"),\"GB-CHC-\"&'[1]GIFTS data'!G156,IF(LEN('[1]GIFTS data'!G156)=7,\"GB-COH-0\"&'[1]GIFTS data'!G156,IF(LEFT('[1]GIFTS data'!G156,3)=\"NIC\",\"GB-NIC-\"&RIGHT('[1]GIFTS data'!G156,LEN('[1]GIFTS data'!G156)-3),IF(LEN('[1]GIFTS data'!G156)=6,\"GB-CHC-\"&'[1]GIFTS data'!G156,'[1]Transformation sheet'!$B$3&'[1]GIFTS data'!E156)))))))","v":"GB-CHC-1070839"},{"$f":"'[1]GIFTS data'!F156","v":"Meadow Well Connected"},{"$f":"'[1]GIFTS data'!G156","v":1070839},{"$f":"'[1]GIFTS data'!J156","v":"North Shields"},{"$f":"'[1]GIFTS data'!I156","v":"NE29 6BA"},{"$f":"'[1]GIFTS data'!H156","v":"North East"},{"$f":"IF(OR('[1]GIFTS data'!K156=\"4. Proactive Programme\",'[1]GIFTS data'!K156=\"3. Regular Grants Programme\"),\"No\",\"Yes\")","v":"Yes"},{"$f":"RIGHT('[1]GIFTS data'!K156,LEN('[1]GIFTS data'!K156)-3)","v":"Small Grants Programme"},{"$f":"'[1]Transformation sheet'!$B$8","v":"GB-CHC-274100"},{"$f":"'[1]Transformation sheet'!$B$9","v":"The Clothworkers Foundation"},"https://www.clothworkersfoundation.org.uk/",{"$f":"'[1]Transformation sheet'!$B$11","v":"2019-05-31"},{"$f":"IF(OR('[1]GIFTS data'!K156=\"4. Proactive Programme\",'[1]GIFTS data'!K156=\"3. Regular Grants Programme\"),\"Revenue\",\"Capital\")","v":"Capital"}]
[{"$f":"CONCATENATE('[1]Transformation sheet'!$B$1,'[1]GIFTS data'!A157)","v":"360G-ClothworkersFdn-201700696"},{"$f":"'[1]GIFTS data'!A157","v":201700696},{"$f":"CONCATENATE(\"Grant to \",'[1]GIFTS data'!F157)","v":"Grant to Misfits Theatre Company UK"},{"$f":"'[1]GIFTS data'!B157","v":"purchases of mac book and case for a charity which works with disabled people in Bristol"},{"$f":"'[1]Transformation sheet'!$B$2","v":"GBP"},{"$f":"'[1]GIFTS data'!C157","v":1500},{"$f":"'[1]GIFTS data'!D157","v":"2018-06-21"},{"$f":"IF(LEFT('[1]GIFTS data'!G157,3)=\"SC0\",\"GB-SC-\"&'[1]GIFTS data'!G157,IF(LEN('[1]GIFTS data'!G157)=8,\"GB-COH-\"&'[1]GIFTS data'!G157,IF(LEFT('[1]GIFTS data'!G157,1)=\"X\",\"GB-REV-\"&'[1]GIFTS data'!G157,IF(AND(LEN('[1]GIFTS data'!G157)=7,LEFT('[1]GIFTS data'!G157,1)=\"1\"),\"GB-CHC-\"&'[1]GIFTS data'!G157,IF(LEN('[1]GIFTS data'!G157)=7,\"GB-COH-0\"&'[1]GIFTS data'!G157,IF(LEFT('[1]GIFTS data'!G157,3)=\"NIC\",\"GB-NIC-\"&RIGHT('[1]GIFTS data'!G157,LEN('[1]GIFTS data'!G157)-3),IF(LEN('[1]GIFTS data'!G157)=6,\"GB-CHC-\"&'[1]GIFTS data'!G157,'[1]Transformation sheet'!$B$3&'[1]GIFTS data'!E157)))))))","v":"GB-CHC-1166100"},{"$f":"'[1]GIFTS data'!F157","v":"Misfits Theatre Company UK"},{"$f":"'[1]GIFTS data'!G157","v":1166100},{"$f":"'[1]GIFTS data'!J157","v":"Bristol"},{"$f":"'[1]GIFTS data'!I157","v":"BS1 3QY"},{"$f":"'[1]GIFTS data'!H157","v":"South West"},{"$f":"IF(OR('[1]GIFTS data'!K157=\"4. Proactive Programme\",'[1]GIFTS data'!K157=\"3. Regular Grants Programme\"),\"No\",\"Yes\")","v":"Yes"},{"$f":"RIGHT('[1]GIFTS data'!K157,LEN('[1]GIFTS data'!K157)-3)","v":"Small Grants Programme"},{"$f":"'[1]Transformation sheet'!$B$8","v":"GB-CHC-274100"},{"$f":"'[1]Transformation sheet'!$B$9","v":"The Clothworkers Foundation"},"https://www.clothworkersfoundation.org.uk/",{"$f":"'[1]Transformation sheet'!$B$11","v":"2019-05-31"},{"$f":"IF(OR('[1]GIFTS data'!K157=\"4. Proactive Programme\",'[1]GIFTS data'!K157=\"3. Regular Grants Programme\"),\"Revenue\",\"Capital\")","v":"Capital"}]
[{"$f":"CONCATENATE('[1]Transformation sheet'!$B$1,'[1]GIFTS data'!A158)","v":"360G-ClothworkersFdn-201700742"},{"$f":"'[1]GIFTS data'!A158","v":201700742},{"$f":"CONCATENATE(\"Grant to \",'[1]GIFTS data'!F158)","v":"Grant to MoorlandSTAR"},{"$f":"'[1]GIFTS data'!B158","v":"purchase of kitchen equipment for a charity which works with older people in Cardiff"},{"$f":"'[1]Transformation sheet'!$B$2","v":"GBP"},{"$f":"'[1]GIFTS data'!C158","v":6000},{"$f":"'[1]GIFTS data'!D158","v":"2018-07-19"},{"$f":"IF(LEFT('[1]GIFTS data'!G158,3)=\"SC0\",\"GB-SC-\"&'[1]GIFTS data'!G158,IF(LEN('[1]GIFTS data'!G158)=8,\"GB-COH-\"&'[1]GIFTS data'!G158,IF(LEFT('[1]GIFTS data'!G158,1)=\"X\",\"GB-REV-\"&'[1]GIFTS data'!G158,IF(AND(LEN('[1]GIFTS data'!G158)=7,LEFT('[1]GIFTS data'!G158,1)=\"1\"),\"GB-CHC-\"&'[1]GIFTS data'!G158,IF(LEN('[1]GIFTS data'!G158)=7,\"GB-COH-0\"&'[1]GIFTS data'!G158,IF(LEFT('[1]GIFTS data'!G158,3)=\"NIC\",\"GB-NIC-\"&RIGHT('[1]GIFTS data'!G158,LEN('[1]GIFTS data'!G158)-3),IF(LEN('[1]GIFTS data'!G158)=6,\"GB-CHC-\"&'[1]GIFTS data'!G158,'[1]Transformation sheet'!$B$3&'[1]GIFTS data'!E158)))))))","v":"GB-CHC-1169760"},{"$f":"'[1]GIFTS data'!F158","v":"MoorlandSTAR"},{"$f":"'[1]GIFTS data'!G158","v":1169760},{"$f":"'[1]GIFTS data'!J158","v":"Cardiff"},{"$f":"'[1]GIFTS data'!I158","v":"CF24 2LG"},{"$f":"'[1]GIFTS data'!H158","v":"Wales"},{"$f":"IF(OR('[1]GIFTS data'!K158=\"4. Proactive Programme\",'[1]GIFTS data'!K158=\"3. Regular Grants Programme\"),\"No\",\"Yes\")","v":"Yes"},{"$f":"RIGHT('[1]GIFTS data'!K158,LEN('[1]GIFTS data'!K158)-3)","v":"Small Grants Programme"},{"$f":"'[1]Transformation sheet'!$B$8","v":"GB-CHC-274100"},{"$f":"'[1]Transformation sheet'!$B$9","v":"The Clothworkers Foundation"},"https://www.clothworkersfoundation.org.uk/",{"$f":"'[1]Transformation sheet'!$B$11","v":"2019-05-31"},{"$f":"IF(OR('[1]GIFTS data'!K158=\"4. Proactive Programme\",'[1]GIFTS data'!K158=\"3. Regular Grants Programme\"),\"Revenue\",\"Capital\")","v":"Capital"}]
[{"$f":"CONCATENATE('[1]Transformation sheet'!$B$1,'[1]GIFTS data'!A159)","v":"360G-ClothworkersFdn-201700567"},{"$f":"'[1]GIFTS data'!A159","v":201700567},{"$f":"CONCATENATE(\"Grant to \",'[1]GIFTS data'!F159)","v":"Grant to Mothers Against Violence"},{"$f":"'[1]GIFTS data'!B159","v":"refurbishment of kitchen and meeting rooms for a charity which works with disadvantaged minority communities in Manchester"},{"$f":"'[1]Transformation sheet'!$B$2","v":"GBP"},{"$f":"'[1]GIFTS data'!C159","v":19000},{"$f":"'[1]GIFTS data'!D159","v":"2018-05-16"},{"$f":"IF(LEFT('[1]GIFTS data'!G159,3)=\"SC0\",\"GB-SC-\"&'[1]GIFTS data'!G159,IF(LEN('[1]GIFTS data'!G159)=8,\"GB-COH-\"&'[1]GIFTS data'!G159,IF(LEFT('[1]GIFTS data'!G159,1)=\"X\",\"GB-REV-\"&'[1]GIFTS data'!G159,IF(AND(LEN('[1]GIFTS data'!G159)=7,LEFT('[1]GIFTS data'!G159,1)=\"1\"),\"GB-CHC-\"&'[1]GIFTS data'!G159,IF(LEN('[1]GIFTS data'!G159)=7,\"GB-COH-0\"&'[1]GIFTS data'!G159,IF(LEFT('[1]GIFTS data'!G159,3)=\"NIC\",\"GB-NIC-\"&RIGHT('[1]GIFTS data'!G159,LEN('[1]GIFTS data'!G159)-3),IF(LEN('[1]GIFTS data'!G159)=6,\"GB-CHC-\"&'[1]GIFTS data'!G159,'[1]Transformation sheet'!$B$3&'[1]GIFTS data'!E159)))))))","v":"GB-CHC-1135348"},{"$f":"'[1]GIFTS data'!F159","v":"Mothers Against Violence"},{"$f":"'[1]GIFTS data'!G159","v":1135348},{"$f":"'[1]GIFTS data'!J159","v":"Manchester"},{"$f":"'[1]GIFTS data'!I159","v":"M15 5SF"},{"$f":"'[1]GIFTS data'!H159","v":"North West"},{"$f":"IF(OR('[1]GIFTS data'!K159=\"4. Proactive Programme\",'[1]GIFTS data'!K159=\"3. Regular Grants Programme\"),\"No\",\"Yes\")","v":"Yes"},{"$f":"RIGHT('[1]GIFTS data'!K159,LEN('[1]GIFTS data'!K159)-3)","v":"Main Grants Programme"},{"$f":"'[1]Transformation sheet'!$B$8","v":"GB-CHC-274100"},{"$f":"'[1]Transformation sheet'!$B$9","v":"The Clothworkers Foundation"},"https://www.clothworkersfoundation.org.uk/",{"$f":"'[1]Transformation sheet'!$B$11","v":"2019-05-31"},{"$f":"IF(OR('[1]GIFTS data'!K159=\"4. Proactive Programme\",'[1]GIFTS data'!K159=\"3. Regular Grants Programme\"),\"Revenue\",\"Capital\")","v":"Capital"}]
[{"$f":"CONCATENATE('[1]Transformation sheet'!$B$1,'[1]GIFTS data'!A160)","v":"360G-ClothworkersFdn-201700356"},{"$f":"'[1]GIFTS data'!A160","v":201700356},{"$f":"CONCATENATE(\"Grant to \",'[1]GIFTS data'!F160)","v":"Grant to Mount Tamar School"},{"$f":"'[1]GIFTS data'!B160","v":"installation of zipline for a charity which works with disabled people in Plymouth"},{"$f":"'[1]Transformation sheet'!$B$2","v":"GBP"},{"$f":"'[1]GIFTS data'!C160","v":14700},{"$f":"'[1]GIFTS data'!D160","v":"2018-02-08"},{"$f":"IF(LEFT('[1]GIFTS data'!G160,3)=\"SC0\",\"GB-SC-\"&'[1]GIFTS data'!G160,IF(LEN('[1]GIFTS data'!G160)=8,\"GB-COH-\"&'[1]GIFTS data'!G160,IF(LEFT('[1]GIFTS data'!G160,1)=\"X\",\"GB-REV-\"&'[1]GIFTS data'!G160,IF(AND(LEN('[1]GIFTS data'!G160)=7,LEFT('[1]GIFTS data'!G160,1)=\"1\"),\"GB-CHC-\"&'[1]GIFTS data'!G160,IF(LEN('[1]GIFTS data'!G160)=7,\"GB-COH-0\"&'[1]GIFTS data'!G160,IF(LEFT('[1]GIFTS data'!G160,3)=\"NIC\",\"GB-NIC-\"&RIGHT('[1]GIFTS data'!G160,LEN('[1]GIFTS data'!G160)-3),IF(LEN('[1]GIFTS data'!G160)=6,\"GB-CHC-\"&'[1]GIFTS data'!G160,'[1]Transformation sheet'!$B$3&'[1]GIFTS data'!E160)))))))","v":"360G-ClothworkersFdn:ORG-10117"},{"$f":"'[1]GIFTS data'!F160","v":"Mount Tamar School"},{"$f":"'[1]GIFTS data'!G160","v":0},{"$f":"'[1]GIFTS data'!J160","v":"Plymouth"},{"$f":"'[1]GIFTS data'!I160","v":"PL5 2EF"},{"$f":"'[1]GIFTS data'!H160","v":"South West"},{"$f":"IF(OR('[1]GIFTS data'!K160=\"4. Proactive Programme\",'[1]GIFTS data'!K160=\"3. Regular Grants Programme\"),\"No\",\"Yes\")","v":"Yes"},{"$f":"RIGHT('[1]GIFTS data'!K160,LEN('[1]GIFTS data'!K160)-3)","v":"Main Grants Programme"},{"$f":"'[1]Transformation sheet'!$B$8","v":"GB-CHC-274100"},{"$f":"'[1]Transformation sheet'!$B$9","v":"The Clothworkers Foundation"},"https://www.clothworkersfoundation.org.uk/",{"$f":"'[1]Transformation sheet'!$B$11","v":"2019-05-31"},{"$f":"IF(OR('[1]GIFTS data'!K160=\"4. Proactive Programme\",'[1]GIFTS data'!K160=\"3. Regular Grants Programme\"),\"Revenue\",\"Capital\")","v":"Capital"}]
[{"$f":"CONCATENATE('[1]Transformation sheet'!$B$1,'[1]GIFTS data'!A161)","v":"360G-ClothworkersFdn-201700759"},{"$f":"'[1]GIFTS data'!A161","v":201700759},{"$f":"CONCATENATE(\"Grant to \",'[1]GIFTS data'!F161)","v":"Grant to Moving On Inverclyde"},{"$f":"'[1]GIFTS data'!B161","v":"purchase of IT equipment for a charity which works with people recovering from substance misuse in Inverclyde"},{"$f":"'[1]Transformation sheet'!$B$2","v":"GBP"},{"$f":"'[1]GIFTS data'!C161","v":4900},{"$f":"'[1]GIFTS data'!D161","v":"2018-08-31"},{"$f":"IF(LEFT('[1]GIFTS data'!G161,3)=\"SC0\",\"GB-SC-\"&'[1]GIFTS data'!G161,IF(LEN('[1]GIFTS data'!G161)=8,\"GB-COH-\"&'[1]GIFTS data'!G161,IF(LEFT('[1]GIFTS data'!G161,1)=\"X\",\"GB-REV-\"&'[1]GIFTS data'!G161,IF(AND(LEN('[1]GIFTS data'!G161)=7,LEFT('[1]GIFTS data'!G161,1)=\"1\"),\"GB-CHC-\"&'[1]GIFTS data'!G161,IF(LEN('[1]GIFTS data'!G161)=7,\"GB-COH-0\"&'[1]GIFTS data'!G161,IF(LEFT('[1]GIFTS data'!G161,3)=\"NIC\",\"GB-NIC-\"&RIGHT('[1]GIFTS data'!G161,LEN('[1]GIFTS data'!G161)-3),IF(LEN('[1]GIFTS data'!G161)=6,\"GB-CHC-\"&'[1]GIFTS data'!G161,'[1]Transformation sheet'!$B$3&'[1]GIFTS data'!E161)))))))","v":"GB-SC-SC034197"},{"$f":"'[1]GIFTS data'!F161","v":"Moving On Inverclyde"},{"$f":"'[1]GIFTS data'!G161","v":"SC034197"},{"$f":"'[1]GIFTS data'!J161","v":"Greenock"},{"$f":"'[1]GIFTS data'!I161","v":"PA15 1XX"},{"$f":"'[1]GIFTS data'!H161","v":"Scotland"},{"$f":"IF(OR('[1]GIFTS data'!K161=\"4. Proactive Programme\",'[1]GIFTS data'!K161=\"3. Regular Grants Programme\"),\"No\",\"Yes\")","v":"Yes"},{"$f":"RIGHT('[1]GIFTS data'!K161,LEN('[1]GIFTS data'!K161)-3)","v":"Small Grants Programme"},{"$f":"'[1]Transformation sheet'!$B$8","v":"GB-CHC-274100"},{"$f":"'[1]Transformation sheet'!$B$9","v":"The Clothworkers Foundation"},"https://www.clothworkersfoundation.org.uk/",{"$f":"'[1]Transformation sheet'!$B$11","v":"2019-05-31"},{"$f":"IF(OR('[1]GIFTS data'!K161=\"4. Proactive Programme\",'[1]GIFTS data'!K161=\"3. Regular Grants Programme\"),\"Revenue\",\"Capital\")","v":"Capital"}]
[{"$f":"CONCATENATE('[1]Transformation sheet'!$B$1,'[1]GIFTS data'!A162)","v":"360G-ClothworkersFdn-201700523"},{"$f":"'[1]GIFTS data'!A162","v":201700523},{"$f":"CONCATENATE(\"Grant to \",'[1]GIFTS data'!F162)","v":"Grant to Nexus Foundation Special School"},{"$f":"'[1]GIFTS data'!B162","v":"purchase of a minibus for a school which works with disabled people in Kent"},{"$f":"'[1]Transformation sheet'!$B$2","v":"GBP"},{"$f":"'[1]GIFTS data'!C162","v":12500},{"$f":"'[1]GIFTS data'!D162","v":"2018-03-02"},{"$f":"IF(LEFT('[1]GIFTS data'!G162,3)=\"SC0\",\"GB-SC-\"&'[1]GIFTS data'!G162,IF(LEN('[1]GIFTS data'!G162)=8,\"GB-COH-\"&'[1]GIFTS data'!G162,IF(LEFT('[1]GIFTS data'!G162,1)=\"X\",\"GB-REV-\"&'[1]GIFTS data'!G162,IF(AND(LEN('[1]GIFTS data'!G162)=7,LEFT('[1]GIFTS data'!G162,1)=\"1\"),\"GB-CHC-\"&'[1]GIFTS data'!G162,IF(LEN('[1]GIFTS data'!G162)=7,\"GB-COH-0\"&'[1]GIFTS data'!G162,IF(LEFT('[1]GIFTS data'!G162,3)=\"NIC\",\"GB-NIC-\"&RIGHT('[1]GIFTS data'!G162,LEN('[1]GIFTS data'!G162)-3),IF(LEN('[1]GIFTS data'!G162)=6,\"GB-CHC-\"&'[1]GIFTS data'!G162,'[1]Transformation sheet'!$B$3&'[1]GIFTS data'!E162)))))))","v":"360G-ClothworkersFdn:ORG-10252"},{"$f":"'[1]GIFTS data'!F162","v":"Nexus Foundation Special School"},{"$f":"'[1]GIFTS data'!G162","v":0},{"$f":"'[1]GIFTS data'!J162","v":"Tonbridge"},{"$f":"'[1]GIFTS data'!I162","v":"TN11 8AA"},{"$f":"'[1]GIFTS data'!H162","v":"South East"},{"$f":"IF(OR('[1]GIFTS data'!K162=\"4. Proactive Programme\",'[1]GIFTS data'!K162=\"3. Regular Grants Programme\"),\"No\",\"Yes\")","v":"Yes"},{"$f":"RIGHT('[1]GIFTS data'!K162,LEN('[1]GIFTS data'!K162)-3)","v":"Small Grants Programme"},{"$f":"'[1]Transformation sheet'!$B$8","v":"GB-CHC-274100"},{"$f":"'[1]Transformation sheet'!$B$9","v":"The Clothworkers Foundation"},"https://www.clothworkersfoundation.org.uk/",{"$f":"'[1]Transformation sheet'!$B$11","v":"2019-05-31"},{"$f":"IF(OR('[1]GIFTS data'!K162=\"4. Proactive Programme\",'[1]GIFTS data'!K162=\"3. Regular Grants Programme\"),\"Revenue\",\"Capital\")","v":"Capital"}]
[{"$f":"CONCATENATE('[1]Transformation sheet'!$B$1,'[1]GIFTS data'!A163)","v":"360G-ClothworkersFdn-201700603"},{"$f":"'[1]GIFTS data'!A163","v":201700603},{"$f":"CONCATENATE(\"Grant to \",'[1]GIFTS data'!F163)","v":"Grant to Nicholas Mills Foundation"},{"$f":"'[1]GIFTS data'!B163","v":"purchase of furniture for a charity which works with people recovering from alcohol and substance misuse in Buckinghamshire"},{"$f":"'[1]Transformation sheet'!$B$2","v":"GBP"},{"$f":"'[1]GIFTS data'!C163","v":2550},{"$f":"'[1]GIFTS data'!D163","v":"2018-04-12"},{"$f":"IF(LEFT('[1]GIFTS data'!G163,3)=\"SC0\",\"GB-SC-\"&'[1]GIFTS data'!G163,IF(LEN('[1]GIFTS data'!G163)=8,\"GB-COH-\"&'[1]GIFTS data'!G163,IF(LEFT('[1]GIFTS data'!G163,1)=\"X\",\"GB-REV-\"&'[1]GIFTS data'!G163,IF(AND(LEN('[1]GIFTS data'!G163)=7,LEFT('[1]GIFTS data'!G163,1)=\"1\"),\"GB-CHC-\"&'[1]GIFTS data'!G163,IF(LEN('[1]GIFTS data'!G163)=7,\"GB-COH-0\"&'[1]GIFTS data'!G163,IF(LEFT('[1]GIFTS data'!G163,3)=\"NIC\",\"GB-NIC-\"&RIGHT('[1]GIFTS data'!G163,LEN('[1]GIFTS data'!G163)-3),IF(LEN('[1]GIFTS data'!G163)=6,\"GB-CHC-\"&'[1]GIFTS data'!G163,'[1]Transformation sheet'!$B$3&'[1]GIFTS data'!E163)))))))","v":"GB-CHC-1123316"},{"$f":"'[1]GIFTS data'!F163","v":"Nicholas Mills Foundation"},{"$f":"'[1]GIFTS data'!G163","v":1123316},{"$f":"'[1]GIFTS data'!J163","v":"High Wycombe"},{"$f":"'[1]GIFTS data'!I163","v":"HP13 6RF"},{"$f":"'[1]GIFTS data'!H163","v":"South East"},{"$f":"IF(OR('[1]GIFTS data'!K163=\"4. Proactive Programme\",'[1]GIFTS data'!K163=\"3. Regular Grants Programme\"),\"No\",\"Yes\")","v":"Yes"},{"$f":"RIGHT('[1]GIFTS data'!K163,LEN('[1]GIFTS data'!K163)-3)","v":"Small Grants Programme"},{"$f":"'[1]Transformation sheet'!$B$8","v":"GB-CHC-274100"},{"$f":"'[1]Transformation sheet'!$B$9","v":"The Clothworkers Foundation"},"https://www.clothworkersfoundation.org.uk/",{"$f":"'[1]Transformation sheet'!$B$11","v":"2019-05-31"},{"$f":"IF(OR('[1]GIFTS data'!K163=\"4. Proactive Programme\",'[1]GIFTS data'!K163=\"3. Regular Grants Programme\"),\"Revenue\",\"Capital\")","v":"Capital"}]
[{"$f":"CONCATENATE('[1]Transformation sheet'!$B$1,'[1]GIFTS data'!A164)","v":"360G-ClothworkersFdn-201700538"},{"$f":"'[1]GIFTS data'!A164","v":201700538},{"$f":"CONCATENATE(\"Grant to \",'[1]GIFTS data'!F164)","v":"Grant to NMC Midlands"},{"$f":"'[1]GIFTS data'!B164","v":"purchase of therapy equipment for a charity which works with disabled people in the Midlands"},{"$f":"'[1]Transformation sheet'!$B$2","v":"GBP"},{"$f":"'[1]GIFTS data'!C164","v":10000},{"$f":"'[1]GIFTS data'!D164","v":"2018-03-02"},{"$f":"IF(LEFT('[1]GIFTS data'!G164,3)=\"SC0\",\"GB-SC-\"&'[1]GIFTS data'!G164,IF(LEN('[1]GIFTS data'!G164)=8,\"GB-COH-\"&'[1]GIFTS data'!G164,IF(LEFT('[1]GIFTS data'!G164,1)=\"X\",\"GB-REV-\"&'[1]GIFTS data'!G164,IF(AND(LEN('[1]GIFTS data'!G164)=7,LEFT('[1]GIFTS data'!G164,1)=\"1\"),\"GB-CHC-\"&'[1]GIFTS data'!G164,IF(LEN('[1]GIFTS data'!G164)=7,\"GB-COH-0\"&'[1]GIFTS data'!G164,IF(LEFT('[1]GIFTS data'!G164,3)=\"NIC\",\"GB-NIC-\"&RIGHT('[1]GIFTS data'!G164,LEN('[1]GIFTS data'!G164)-3),IF(LEN('[1]GIFTS data'!G164)=6,\"GB-CHC-\"&'[1]GIFTS data'!G164,'[1]Transformation sheet'!$B$3&'[1]GIFTS data'!E164)))))))","v":"GB-CHC-1148855"},{"$f":"'[1]GIFTS data'!F164","v":"NMC Midlands"},{"$f":"'[1]GIFTS data'!G164","v":1148855},{"$f":"'[1]GIFTS data'!J164","v":"Coventry"},{"$f":"'[1]GIFTS data'!I164","v":"CV4 9SW"},{"$f":"'[1]GIFTS data'!H164","v":"West Midlands"},{"$f":"IF(OR('[1]GIFTS data'!K164=\"4. Proactive Programme\",'[1]GIFTS data'!K164=\"3. Regular Grants Programme\"),\"No\",\"Yes\")","v":"Yes"},{"$f":"RIGHT('[1]GIFTS data'!K164,LEN('[1]GIFTS data'!K164)-3)","v":"Small Grants Programme"},{"$f":"'[1]Transformation sheet'!$B$8","v":"GB-CHC-274100"},{"$f":"'[1]Transformation sheet'!$B$9","v":"The Clothworkers Foundation"},"https://www.clothworkersfoundation.org.uk/",{"$f":"'[1]Transformation sheet'!$B$11","v":"2019-05-31"},{"$f":"IF(OR('[1]GIFTS data'!K164=\"4. Proactive Programme\",'[1]GIFTS data'!K164=\"3. Regular Grants Programme\"),\"Revenue\",\"Capital\")","v":"Capital"}]
[{"$f":"CONCATENATE('[1]Transformation sheet'!$B$1,'[1]GIFTS data'!A165)","v":"360G-ClothworkersFdn-201700552"},{"$f":"'[1]GIFTS data'!A165","v":201700552},{"$f":"CONCATENATE(\"Grant to \",'[1]GIFTS data'!F165)","v":"Grant to Norfolk and Norwich Scope Association"},{"$f":"'[1]GIFTS data'!B165","v":"purchase of ten tablets for a charity which works with disabled people"},{"$f":"'[1]Transformation sheet'!$B$2","v":"GBP"},{"$f":"'[1]GIFTS data'!C165","v":2650},{"$f":"'[1]GIFTS data'!D165","v":"2018-04-11"},{"$f":"IF(LEFT('[1]GIFTS data'!G165,3)=\"SC0\",\"GB-SC-\"&'[1]GIFTS data'!G165,IF(LEN('[1]GIFTS data'!G165)=8,\"GB-COH-\"&'[1]GIFTS data'!G165,IF(LEFT('[1]GIFTS data'!G165,1)=\"X\",\"GB-REV-\"&'[1]GIFTS data'!G165,IF(AND(LEN('[1]GIFTS data'!G165)=7,LEFT('[1]GIFTS data'!G165,1)=\"1\"),\"GB-CHC-\"&'[1]GIFTS data'!G165,IF(LEN('[1]GIFTS data'!G165)=7,\"GB-COH-0\"&'[1]GIFTS data'!G165,IF(LEFT('[1]GIFTS data'!G165,3)=\"NIC\",\"GB-NIC-\"&RIGHT('[1]GIFTS data'!G165,LEN('[1]GIFTS data'!G165)-3),IF(LEN('[1]GIFTS data'!G165)=6,\"GB-CHC-\"&'[1]GIFTS data'!G165,'[1]Transformation sheet'!$B$3&'[1]GIFTS data'!E165)))))))","v":"GB-CHC-1027466"},{"$f":"'[1]GIFTS data'!F165","v":"Norfolk and Norwich Scope Association"},{"$f":"'[1]GIFTS data'!G165","v":1027466},{"$f":"'[1]GIFTS data'!J165","v":"Norwich"},{"$f":"'[1]GIFTS data'!I165","v":"NR3 3TT"},{"$f":"'[1]GIFTS data'!H165","v":"East"},{"$f":"IF(OR('[1]GIFTS data'!K165=\"4. Proactive Programme\",'[1]GIFTS data'!K165=\"3. Regular Grants Programme\"),\"No\",\"Yes\")","v":"Yes"},{"$f":"RIGHT('[1]GIFTS data'!K165,LEN('[1]GIFTS data'!K165)-3)","v":"Small Grants Programme"},{"$f":"'[1]Transformation sheet'!$B$8","v":"GB-CHC-274100"},{"$f":"'[1]Transformation sheet'!$B$9","v":"The Clothworkers Foundation"},"https://www.clothworkersfoundation.org.uk/",{"$f":"'[1]Transformation sheet'!$B$11","v":"2019-05-31"},{"$f":"IF(OR('[1]GIFTS data'!K165=\"4. Proactive Programme\",'[1]GIFTS data'!K165=\"3. Regular Grants Programme\"),\"Revenue\",\"Capital\")","v":"Capital"}]
[{"$f":"CONCATENATE('[1]Transformation sheet'!$B$1,'[1]GIFTS data'!A166)","v":"360G-ClothworkersFdn-201700853"},{"$f":"'[1]GIFTS data'!A166","v":201700853},{"$f":"CONCATENATE(\"Grant to \",'[1]GIFTS data'!F166)","v":"Grant to North Edinburgh Childcare"},{"$f":"'[1]GIFTS data'!B166","v":"Building extension for a charity providing pre-school education for children from low income families"},{"$f":"'[1]Transformation sheet'!$B$2","v":"GBP"},{"$f":"'[1]GIFTS data'!C166","v":100000},{"$f":"'[1]GIFTS data'!D166","v":"2018-11-29"},{"$f":"IF(LEFT('[1]GIFTS data'!G166,3)=\"SC0\",\"GB-SC-\"&'[1]GIFTS data'!G166,IF(LEN('[1]GIFTS data'!G166)=8,\"GB-COH-\"&'[1]GIFTS data'!G166,IF(LEFT('[1]GIFTS data'!G166,1)=\"X\",\"GB-REV-\"&'[1]GIFTS data'!G166,IF(AND(LEN('[1]GIFTS data'!G166)=7,LEFT('[1]GIFTS data'!G166,1)=\"1\"),\"GB-CHC-\"&'[1]GIFTS data'!G166,IF(LEN('[1]GIFTS data'!G166)=7,\"GB-COH-0\"&'[1]GIFTS data'!G166,IF(LEFT('[1]GIFTS data'!G166,3)=\"NIC\",\"GB-NIC-\"&RIGHT('[1]GIFTS data'!G166,LEN('[1]GIFTS data'!G166)-3),IF(LEN('[1]GIFTS data'!G166)=6,\"GB-CHC-\"&'[1]GIFTS data'!G166,'[1]Transformation sheet'!$B$3&'[1]GIFTS data'!E166)))))))","v":"GB-SC-SC023245"},{"$f":"'[1]GIFTS data'!F166","v":"North Edinburgh Childcare"},{"$f":"'[1]GIFTS data'!G166","v":"SC023245"},{"$f":"'[1]GIFTS data'!J166","v":"Edinburgh"},{"$f":"'[1]GIFTS data'!I166","v":"EH4 4BL"},{"$f":"'[1]GIFTS data'!H166","v":"Scotland"},{"$f":"IF(OR('[1]GIFTS data'!K166=\"4. Proactive Programme\",'[1]GIFTS data'!K166=\"3. Regular Grants Programme\"),\"No\",\"Yes\")","v":"Yes"},{"$f":"RIGHT('[1]GIFTS data'!K166,LEN('[1]GIFTS data'!K166)-3)","v":"Main Grants Programme"},{"$f":"'[1]Transformation sheet'!$B$8","v":"GB-CHC-274100"},{"$f":"'[1]Transformation sheet'!$B$9","v":"The Clothworkers Foundation"},"https://www.clothworkersfoundation.org.uk/",{"$f":"'[1]Transformation sheet'!$B$11","v":"2019-05-31"},{"$f":"IF(OR('[1]GIFTS data'!K166=\"4. Proactive Programme\",'[1]GIFTS data'!K166=\"3. Regular Grants Programme\"),\"Revenue\",\"Capital\")","v":"Capital"}]
[{"$f":"CONCATENATE('[1]Transformation sheet'!$B$1,'[1]GIFTS data'!A167)","v":"360G-ClothworkersFdn-201700831"},{"$f":"'[1]GIFTS data'!A167","v":201700831},{"$f":"CONCATENATE(\"Grant to \",'[1]GIFTS data'!F167)","v":"Grant to Northam Care Trust"},{"$f":"'[1]GIFTS data'!B167","v":"Extension of premises for a charity in Devon that supports people with profound and multiple learning and other disabilities"},{"$f":"'[1]Transformation sheet'!$B$2","v":"GBP"},{"$f":"'[1]GIFTS data'!C167","v":25000},{"$f":"'[1]GIFTS data'!D167","v":"2018-10-16"},{"$f":"IF(LEFT('[1]GIFTS data'!G167,3)=\"SC0\",\"GB-SC-\"&'[1]GIFTS data'!G167,IF(LEN('[1]GIFTS data'!G167)=8,\"GB-COH-\"&'[1]GIFTS data'!G167,IF(LEFT('[1]GIFTS data'!G167,1)=\"X\",\"GB-REV-\"&'[1]GIFTS data'!G167,IF(AND(LEN('[1]GIFTS data'!G167)=7,LEFT('[1]GIFTS data'!G167,1)=\"1\"),\"GB-CHC-\"&'[1]GIFTS data'!G167,IF(LEN('[1]GIFTS data'!G167)=7,\"GB-COH-0\"&'[1]GIFTS data'!G167,IF(LEFT('[1]GIFTS data'!G167,3)=\"NIC\",\"GB-NIC-\"&RIGHT('[1]GIFTS data'!G167,LEN('[1]GIFTS data'!G167)-3),IF(LEN('[1]GIFTS data'!G167)=6,\"GB-CHC-\"&'[1]GIFTS data'!G167,'[1]Transformation sheet'!$B$3&'[1]GIFTS data'!E167)))))))","v":"GB-CHC-1081784"},{"$f":"'[1]GIFTS data'!F167","v":"Northam Care Trust"},{"$f":"'[1]GIFTS data'!G167","v":1081784},{"$f":"'[1]GIFTS data'!J167","v":"Bideford"},{"$f":"'[1]GIFTS data'!I167","v":"EX39 3PG"},{"$f":"'[1]GIFTS data'!H167","v":"South West"},{"$f":"IF(OR('[1]GIFTS data'!K167=\"4. Proactive Programme\",'[1]GIFTS data'!K167=\"3. Regular Grants Programme\"),\"No\",\"Yes\")","v":"Yes"},{"$f":"RIGHT('[1]GIFTS data'!K167,LEN('[1]GIFTS data'!K167)-3)","v":"Main Grants Programme"},{"$f":"'[1]Transformation sheet'!$B$8","v":"GB-CHC-274100"},{"$f":"'[1]Transformation sheet'!$B$9","v":"The Clothworkers Foundation"},"https://www.clothworkersfoundation.org.uk/",{"$f":"'[1]Transformation sheet'!$B$11","v":"2019-05-31"},{"$f":"IF(OR('[1]GIFTS data'!K167=\"4. Proactive Programme\",'[1]GIFTS data'!K167=\"3. Regular Grants Programme\"),\"Revenue\",\"Capital\")","v":"Capital"}]
[{"$f":"CONCATENATE('[1]Transformation sheet'!$B$1,'[1]GIFTS data'!A168)","v":"360G-ClothworkersFdn-201700449"},{"$f":"'[1]GIFTS data'!A168","v":201700449},{"$f":"CONCATENATE(\"Grant to \",'[1]GIFTS data'!F168)","v":"Grant to Northamptonshire Rape Crisis (NRC)"},{"$f":"'[1]GIFTS data'!B168","v":"purchase of furniture for a charity which works with survivors of domestic and sexual violence in Northampton"},{"$f":"'[1]Transformation sheet'!$B$2","v":"GBP"},{"$f":"'[1]GIFTS data'!C168","v":10000},{"$f":"'[1]GIFTS data'!D168","v":"2018-01-30"},{"$f":"IF(LEFT('[1]GIFTS data'!G168,3)=\"SC0\",\"GB-SC-\"&'[1]GIFTS data'!G168,IF(LEN('[1]GIFTS data'!G168)=8,\"GB-COH-\"&'[1]GIFTS data'!G168,IF(LEFT('[1]GIFTS data'!G168,1)=\"X\",\"GB-REV-\"&'[1]GIFTS data'!G168,IF(AND(LEN('[1]GIFTS data'!G168)=7,LEFT('[1]GIFTS data'!G168,1)=\"1\"),\"GB-CHC-\"&'[1]GIFTS data'!G168,IF(LEN('[1]GIFTS data'!G168)=7,\"GB-COH-0\"&'[1]GIFTS data'!G168,IF(LEFT('[1]GIFTS data'!G168,3)=\"NIC\",\"GB-NIC-\"&RIGHT('[1]GIFTS data'!G168,LEN('[1]GIFTS data'!G168)-3),IF(LEN('[1]GIFTS data'!G168)=6,\"GB-CHC-\"&'[1]GIFTS data'!G168,'[1]Transformation sheet'!$B$3&'[1]GIFTS data'!E168)))))))","v":"GB-CHC-1156246"},{"$f":"'[1]GIFTS data'!F168","v":"Northamptonshire Rape Crisis (NRC)"},{"$f":"'[1]GIFTS data'!G168","v":1156246},{"$f":"'[1]GIFTS data'!J168","v":"Northampton"},{"$f":"'[1]GIFTS data'!I168","v":"NN1 5RU"},{"$f":"'[1]GIFTS data'!H168","v":"East Midlands"},{"$f":"IF(OR('[1]GIFTS data'!K168=\"4. Proactive Programme\",'[1]GIFTS data'!K168=\"3. Regular Grants Programme\"),\"No\",\"Yes\")","v":"Yes"},{"$f":"RIGHT('[1]GIFTS data'!K168,LEN('[1]GIFTS data'!K168)-3)","v":"Small Grants Programme"},{"$f":"'[1]Transformation sheet'!$B$8","v":"GB-CHC-274100"},{"$f":"'[1]Transformation sheet'!$B$9","v":"The Clothworkers Foundation"},"https://www.clothworkersfoundation.org.uk/",{"$f":"'[1]Transformation sheet'!$B$11","v":"2019-05-31"},{"$f":"IF(OR('[1]GIFTS data'!K168=\"4. Proactive Programme\",'[1]GIFTS data'!K168=\"3. Regular Grants Programme\"),\"Revenue\",\"Capital\")","v":"Capital"}]
[{"$f":"CONCATENATE('[1]Transformation sheet'!$B$1,'[1]GIFTS data'!A169)","v":"360G-ClothworkersFdn-201700771"},{"$f":"'[1]GIFTS data'!A169","v":201700771},{"$f":"CONCATENATE(\"Grant to \",'[1]GIFTS data'!F169)","v":"Grant to Northumbria Calvert Trust"},{"$f":"'[1]GIFTS data'!B169","v":"Extending and updating facilities disabilities,  including accessible accommodation and hydrotherapy pool"},{"$f":"'[1]Transformation sheet'!$B$2","v":"GBP"},{"$f":"'[1]GIFTS data'!C169","v":50000},{"$f":"'[1]GIFTS data'!D169","v":"2018-11-29"},{"$f":"IF(LEFT('[1]GIFTS data'!G169,3)=\"SC0\",\"GB-SC-\"&'[1]GIFTS data'!G169,IF(LEN('[1]GIFTS data'!G169)=8,\"GB-COH-\"&'[1]GIFTS data'!G169,IF(LEFT('[1]GIFTS data'!G169,1)=\"X\",\"GB-REV-\"&'[1]GIFTS data'!G169,IF(AND(LEN('[1]GIFTS data'!G169)=7,LEFT('[1]GIFTS data'!G169,1)=\"1\"),\"GB-CHC-\"&'[1]GIFTS data'!G169,IF(LEN('[1]GIFTS data'!G169)=7,\"GB-COH-0\"&'[1]GIFTS data'!G169,IF(LEFT('[1]GIFTS data'!G169,3)=\"NIC\",\"GB-NIC-\"&RIGHT('[1]GIFTS data'!G169,LEN('[1]GIFTS data'!G169)-3),IF(LEN('[1]GIFTS data'!G169)=6,\"GB-CHC-\"&'[1]GIFTS data'!G169,'[1]Transformation sheet'!$B$3&'[1]GIFTS data'!E169)))))))","v":"GB-CHC-511851"},{"$f":"'[1]GIFTS data'!F169","v":"Northumbria Calvert Trust"},{"$f":"'[1]GIFTS data'!G169","v":511851},{"$f":"'[1]GIFTS data'!J169","v":"Hexham"},{"$f":"'[1]GIFTS data'!I169","v":"NE48 1BS"},{"$f":"'[1]GIFTS data'!H169","v":"North East"},{"$f":"IF(OR('[1]GIFTS data'!K169=\"4. Proactive Programme\",'[1]GIFTS data'!K169=\"3. Regular Grants Programme\"),\"No\",\"Yes\")","v":"Yes"},{"$f":"RIGHT('[1]GIFTS data'!K169,LEN('[1]GIFTS data'!K169)-3)","v":"Main Grants Programme"},{"$f":"'[1]Transformation sheet'!$B$8","v":"GB-CHC-274100"},{"$f":"'[1]Transformation sheet'!$B$9","v":"The Clothworkers Foundation"},"https://www.clothworkersfoundation.org.uk/",{"$f":"'[1]Transformation sheet'!$B$11","v":"2019-05-31"},{"$f":"IF(OR('[1]GIFTS data'!K169=\"4. Proactive Programme\",'[1]GIFTS data'!K169=\"3. Regular Grants Programme\"),\"Revenue\",\"Capital\")","v":"Capital"}]
[{"$f":"CONCATENATE('[1]Transformation sheet'!$B$1,'[1]GIFTS data'!A170)","v":"360G-ClothworkersFdn-201700775"},{"$f":"'[1]GIFTS data'!A170","v":201700775},{"$f":"CONCATENATE(\"Grant to \",'[1]GIFTS data'!F170)","v":"Grant to Oaklands School"},{"$f":"'[1]GIFTS data'!B170","v":"purchase of playground equipment for a charity which works with children with disabilities in Cheshire"},{"$f":"'[1]Transformation sheet'!$B$2","v":"GBP"},{"$f":"'[1]GIFTS data'!C170","v":15000},{"$f":"'[1]GIFTS data'!D170","v":"2018-10-16"},{"$f":"IF(LEFT('[1]GIFTS data'!G170,3)=\"SC0\",\"GB-SC-\"&'[1]GIFTS data'!G170,IF(LEN('[1]GIFTS data'!G170)=8,\"GB-COH-\"&'[1]GIFTS data'!G170,IF(LEFT('[1]GIFTS data'!G170,1)=\"X\",\"GB-REV-\"&'[1]GIFTS data'!G170,IF(AND(LEN('[1]GIFTS data'!G170)=7,LEFT('[1]GIFTS data'!G170,1)=\"1\"),\"GB-CHC-\"&'[1]GIFTS data'!G170,IF(LEN('[1]GIFTS data'!G170)=7,\"GB-COH-0\"&'[1]GIFTS data'!G170,IF(LEFT('[1]GIFTS data'!G170,3)=\"NIC\",\"GB-NIC-\"&RIGHT('[1]GIFTS data'!G170,LEN('[1]GIFTS data'!G170)-3),IF(LEN('[1]GIFTS data'!G170)=6,\"GB-CHC-\"&'[1]GIFTS data'!G170,'[1]Transformation sheet'!$B$3&'[1]GIFTS data'!E170)))))))","v":"360G-ClothworkersFdn:ORG-10432"},{"$f":"'[1]GIFTS data'!F170","v":"Oaklands School"},{"$f":"'[1]GIFTS data'!G170","v":0},{"$f":"'[1]GIFTS data'!J170","v":"Winsford"},{"$f":"'[1]GIFTS data'!I170","v":"CW71NU"},{"$f":"'[1]GIFTS data'!H170","v":"North West"},{"$f":"IF(OR('[1]GIFTS data'!K170=\"4. Proactive Programme\",'[1]GIFTS data'!K170=\"3. Regular Grants Programme\"),\"No\",\"Yes\")","v":"Yes"},{"$f":"RIGHT('[1]GIFTS data'!K170,LEN('[1]GIFTS data'!K170)-3)","v":"Main Grants Programme"},{"$f":"'[1]Transformation sheet'!$B$8","v":"GB-CHC-274100"},{"$f":"'[1]Transformation sheet'!$B$9","v":"The Clothworkers Foundation"},"https://www.clothworkersfoundation.org.uk/",{"$f":"'[1]Transformation sheet'!$B$11","v":"2019-05-31"},{"$f":"IF(OR('[1]GIFTS data'!K170=\"4. Proactive Programme\",'[1]GIFTS data'!K170=\"3. Regular Grants Programme\"),\"Revenue\",\"Capital\")","v":"Capital"}]
[{"$f":"CONCATENATE('[1]Transformation sheet'!$B$1,'[1]GIFTS data'!A171)","v":"360G-ClothworkersFdn-201700559"},{"$f":"'[1]GIFTS data'!A171","v":201700559},{"$f":"CONCATENATE(\"Grant to \",'[1]GIFTS data'!F171)","v":"Grant to Oakleaf Enterprise"},{"$f":"'[1]GIFTS data'!B171","v":"purchase of horticultural equipment for a charity which works with disabled people in Surrey"},{"$f":"'[1]Transformation sheet'!$B$2","v":"GBP"},{"$f":"'[1]GIFTS data'!C171","v":2100},{"$f":"'[1]GIFTS data'!D171","v":"2018-04-11"},{"$f":"IF(LEFT('[1]GIFTS data'!G171,3)=\"SC0\",\"GB-SC-\"&'[1]GIFTS data'!G171,IF(LEN('[1]GIFTS data'!G171)=8,\"GB-COH-\"&'[1]GIFTS data'!G171,IF(LEFT('[1]GIFTS data'!G171,1)=\"X\",\"GB-REV-\"&'[1]GIFTS data'!G171,IF(AND(LEN('[1]GIFTS data'!G171)=7,LEFT('[1]GIFTS data'!G171,1)=\"1\"),\"GB-CHC-\"&'[1]GIFTS data'!G171,IF(LEN('[1]GIFTS data'!G171)=7,\"GB-COH-0\"&'[1]GIFTS data'!G171,IF(LEFT('[1]GIFTS data'!G171,3)=\"NIC\",\"GB-NIC-\"&RIGHT('[1]GIFTS data'!G171,LEN('[1]GIFTS data'!G171)-3),IF(LEN('[1]GIFTS data'!G171)=6,\"GB-CHC-\"&'[1]GIFTS data'!G171,'[1]Transformation sheet'!$B$3&'[1]GIFTS data'!E171)))))))","v":"GB-CHC-1064524"},{"$f":"'[1]GIFTS data'!F171","v":"Oakleaf Enterprise"},{"$f":"'[1]GIFTS data'!G171","v":1064524},{"$f":"'[1]GIFTS data'!J171","v":"Guildford"},{"$f":"'[1]GIFTS data'!I171","v":"GU1 4UQ"},{"$f":"'[1]GIFTS data'!H171","v":"South East"},{"$f":"IF(OR('[1]GIFTS data'!K171=\"4. Proactive Programme\",'[1]GIFTS data'!K171=\"3. Regular Grants Programme\"),\"No\",\"Yes\")","v":"Yes"},{"$f":"RIGHT('[1]GIFTS data'!K171,LEN('[1]GIFTS data'!K171)-3)","v":"Small Grants Programme"},{"$f":"'[1]Transformation sheet'!$B$8","v":"GB-CHC-274100"},{"$f":"'[1]Transformation sheet'!$B$9","v":"The Clothworkers Foundation"},"https://www.clothworkersfoundation.org.uk/",{"$f":"'[1]Transformation sheet'!$B$11","v":"2019-05-31"},{"$f":"IF(OR('[1]GIFTS data'!K171=\"4. Proactive Programme\",'[1]GIFTS data'!K171=\"3. Regular Grants Programme\"),\"Revenue\",\"Capital\")","v":"Capital"}]
[{"$f":"CONCATENATE('[1]Transformation sheet'!$B$1,'[1]GIFTS data'!A172)","v":"360G-ClothworkersFdn-201700615"},{"$f":"'[1]GIFTS data'!A172","v":201700615},{"$f":"CONCATENATE(\"Grant to \",'[1]GIFTS data'!F172)","v":"Grant to Operation Emotion"},{"$f":"'[1]GIFTS data'!B172","v":"purchase of audio visual equipment for a charity which works with survivors of sexual or domestic violence in the South West"},{"$f":"'[1]Transformation sheet'!$B$2","v":"GBP"},{"$f":"'[1]GIFTS data'!C172","v":9000},{"$f":"'[1]GIFTS data'!D172","v":"2018-05-04"},{"$f":"IF(LEFT('[1]GIFTS data'!G172,3)=\"SC0\",\"GB-SC-\"&'[1]GIFTS data'!G172,IF(LEN('[1]GIFTS data'!G172)=8,\"GB-COH-\"&'[1]GIFTS data'!G172,IF(LEFT('[1]GIFTS data'!G172,1)=\"X\",\"GB-REV-\"&'[1]GIFTS data'!G172,IF(AND(LEN('[1]GIFTS data'!G172)=7,LEFT('[1]GIFTS data'!G172,1)=\"1\"),\"GB-CHC-\"&'[1]GIFTS data'!G172,IF(LEN('[1]GIFTS data'!G172)=7,\"GB-COH-0\"&'[1]GIFTS data'!G172,IF(LEFT('[1]GIFTS data'!G172,3)=\"NIC\",\"GB-NIC-\"&RIGHT('[1]GIFTS data'!G172,LEN('[1]GIFTS data'!G172)-3),IF(LEN('[1]GIFTS data'!G172)=6,\"GB-CHC-\"&'[1]GIFTS data'!G172,'[1]Transformation sheet'!$B$3&'[1]GIFTS data'!E172)))))))","v":"GB-CHC-1177098"},{"$f":"'[1]GIFTS data'!F172","v":"Operation Emotion"},{"$f":"'[1]GIFTS data'!G172","v":1177098},{"$f":"'[1]GIFTS data'!J172","v":"Plymouth"},{"$f":"'[1]GIFTS data'!I172","v":"PL2 3NT"},{"$f":"'[1]GIFTS data'!H172","v":"South West"},{"$f":"IF(OR('[1]GIFTS data'!K172=\"4. Proactive Programme\",'[1]GIFTS data'!K172=\"3. Regular Grants Programme\"),\"No\",\"Yes\")","v":"Yes"},{"$f":"RIGHT('[1]GIFTS data'!K172,LEN('[1]GIFTS data'!K172)-3)","v":"Small Grants Programme"},{"$f":"'[1]Transformation sheet'!$B$8","v":"GB-CHC-274100"},{"$f":"'[1]Transformation sheet'!$B$9","v":"The Clothworkers Foundation"},"https://www.clothworkersfoundation.org.uk/",{"$f":"'[1]Transformation sheet'!$B$11","v":"2019-05-31"},{"$f":"IF(OR('[1]GIFTS data'!K172=\"4. Proactive Programme\",'[1]GIFTS data'!K172=\"3. Regular Grants Programme\"),\"Revenue\",\"Capital\")","v":"Capital"}]
[{"$f":"CONCATENATE('[1]Transformation sheet'!$B$1,'[1]GIFTS data'!A173)","v":"360G-ClothworkersFdn-201700526"},{"$f":"'[1]GIFTS data'!A173","v":201700526},{"$f":"CONCATENATE(\"Grant to \",'[1]GIFTS data'!F173)","v":"Grant to Opportunity Sports Foundation"},{"$f":"'[1]GIFTS data'!B173","v":"purchase of a vehicle for a charity that works with disadvantaged young people in Lancashire"},{"$f":"'[1]Transformation sheet'!$B$2","v":"GBP"},{"$f":"'[1]GIFTS data'!C173","v":10000},{"$f":"'[1]GIFTS data'!D173","v":"2018-03-02"},{"$f":"IF(LEFT('[1]GIFTS data'!G173,3)=\"SC0\",\"GB-SC-\"&'[1]GIFTS data'!G173,IF(LEN('[1]GIFTS data'!G173)=8,\"GB-COH-\"&'[1]GIFTS data'!G173,IF(LEFT('[1]GIFTS data'!G173,1)=\"X\",\"GB-REV-\"&'[1]GIFTS data'!G173,IF(AND(LEN('[1]GIFTS data'!G173)=7,LEFT('[1]GIFTS data'!G173,1)=\"1\"),\"GB-CHC-\"&'[1]GIFTS data'!G173,IF(LEN('[1]GIFTS data'!G173)=7,\"GB-COH-0\"&'[1]GIFTS data'!G173,IF(LEFT('[1]GIFTS data'!G173,3)=\"NIC\",\"GB-NIC-\"&RIGHT('[1]GIFTS data'!G173,LEN('[1]GIFTS data'!G173)-3),IF(LEN('[1]GIFTS data'!G173)=6,\"GB-CHC-\"&'[1]GIFTS data'!G173,'[1]Transformation sheet'!$B$3&'[1]GIFTS data'!E173)))))))","v":"GB-CHC-1142543"},{"$f":"'[1]GIFTS data'!F173","v":"Opportunity Sports Foundation"},{"$f":"'[1]GIFTS data'!G173","v":1142543},{"$f":"'[1]GIFTS data'!J173","v":"Chorley"},{"$f":"'[1]GIFTS data'!I173","v":"PR7 7JU"},{"$f":"'[1]GIFTS data'!H173","v":"North West"},{"$f":"IF(OR('[1]GIFTS data'!K173=\"4. Proactive Programme\",'[1]GIFTS data'!K173=\"3. Regular Grants Programme\"),\"No\",\"Yes\")","v":"Yes"},{"$f":"RIGHT('[1]GIFTS data'!K173,LEN('[1]GIFTS data'!K173)-3)","v":"Small Grants Programme"},{"$f":"'[1]Transformation sheet'!$B$8","v":"GB-CHC-274100"},{"$f":"'[1]Transformation sheet'!$B$9","v":"The Clothworkers Foundation"},"https://www.clothworkersfoundation.org.uk/",{"$f":"'[1]Transformation sheet'!$B$11","v":"2019-05-31"},{"$f":"IF(OR('[1]GIFTS data'!K173=\"4. Proactive Programme\",'[1]GIFTS data'!K173=\"3. Regular Grants Programme\"),\"Revenue\",\"Capital\")","v":"Capital"}]
[{"$f":"CONCATENATE('[1]Transformation sheet'!$B$1,'[1]GIFTS data'!A174)","v":"360G-ClothworkersFdn-201700616"},{"$f":"'[1]GIFTS data'!A174","v":201700616},{"$f":"CONCATENATE(\"Grant to \",'[1]GIFTS data'!F174)","v":"Grant to Orcadia Movement"},{"$f":"'[1]GIFTS data'!B174","v":"refurbishment of toilets for a charity which works with people with learning disabilities in Edinburgh"},{"$f":"'[1]Transformation sheet'!$B$2","v":"GBP"},{"$f":"'[1]GIFTS data'!C174","v":13000},{"$f":"'[1]GIFTS data'!D174","v":"2018-05-18"},{"$f":"IF(LEFT('[1]GIFTS data'!G174,3)=\"SC0\",\"GB-SC-\"&'[1]GIFTS data'!G174,IF(LEN('[1]GIFTS data'!G174)=8,\"GB-COH-\"&'[1]GIFTS data'!G174,IF(LEFT('[1]GIFTS data'!G174,1)=\"X\",\"GB-REV-\"&'[1]GIFTS data'!G174,IF(AND(LEN('[1]GIFTS data'!G174)=7,LEFT('[1]GIFTS data'!G174,1)=\"1\"),\"GB-CHC-\"&'[1]GIFTS data'!G174,IF(LEN('[1]GIFTS data'!G174)=7,\"GB-COH-0\"&'[1]GIFTS data'!G174,IF(LEFT('[1]GIFTS data'!G174,3)=\"NIC\",\"GB-NIC-\"&RIGHT('[1]GIFTS data'!G174,LEN('[1]GIFTS data'!G174)-3),IF(LEN('[1]GIFTS data'!G174)=6,\"GB-CHC-\"&'[1]GIFTS data'!G174,'[1]Transformation sheet'!$B$3&'[1]GIFTS data'!E174)))))))","v":"GB-SC-SC019623"},{"$f":"'[1]GIFTS data'!F174","v":"Orcadia Movement"},{"$f":"'[1]GIFTS data'!G174","v":"SC019623"},{"$f":"'[1]GIFTS data'!J174","v":"Edinburgh"},{"$f":"'[1]GIFTS data'!I174","v":"EH15 2AJ"},{"$f":"'[1]GIFTS data'!H174","v":"Scotland"},{"$f":"IF(OR('[1]GIFTS data'!K174=\"4. Proactive Programme\",'[1]GIFTS data'!K174=\"3. Regular Grants Programme\"),\"No\",\"Yes\")","v":"Yes"},{"$f":"RIGHT('[1]GIFTS data'!K174,LEN('[1]GIFTS data'!K174)-3)","v":"Main Grants Programme"},{"$f":"'[1]Transformation sheet'!$B$8","v":"GB-CHC-274100"},{"$f":"'[1]Transformation sheet'!$B$9","v":"The Clothworkers Foundation"},"https://www.clothworkersfoundation.org.uk/",{"$f":"'[1]Transformation sheet'!$B$11","v":"2019-05-31"},{"$f":"IF(OR('[1]GIFTS data'!K174=\"4. Proactive Programme\",'[1]GIFTS data'!K174=\"3. Regular Grants Programme\"),\"Revenue\",\"Capital\")","v":"Capital"}]
[{"$f":"CONCATENATE('[1]Transformation sheet'!$B$1,'[1]GIFTS data'!A175)","v":"360G-ClothworkersFdn-201700859"},{"$f":"'[1]GIFTS data'!A175","v":201700859},{"$f":"CONCATENATE(\"Grant to \",'[1]GIFTS data'!F175)","v":"Grant to Oswin Projects"},{"$f":"'[1]GIFTS data'!B175","v":"purchase of kitchen and bakery equipment for a charity which works with prisoners and ex-offenders in Northumberland"},{"$f":"'[1]Transformation sheet'!$B$2","v":"GBP"},{"$f":"'[1]GIFTS data'!C175","v":20000},{"$f":"'[1]GIFTS data'!D175","v":"2018-10-16"},{"$f":"IF(LEFT('[1]GIFTS data'!G175,3)=\"SC0\",\"GB-SC-\"&'[1]GIFTS data'!G175,IF(LEN('[1]GIFTS data'!G175)=8,\"GB-COH-\"&'[1]GIFTS data'!G175,IF(LEFT('[1]GIFTS data'!G175,1)=\"X\",\"GB-REV-\"&'[1]GIFTS data'!G175,IF(AND(LEN('[1]GIFTS data'!G175)=7,LEFT('[1]GIFTS data'!G175,1)=\"1\"),\"GB-CHC-\"&'[1]GIFTS data'!G175,IF(LEN('[1]GIFTS data'!G175)=7,\"GB-COH-0\"&'[1]GIFTS data'!G175,IF(LEFT('[1]GIFTS data'!G175,3)=\"NIC\",\"GB-NIC-\"&RIGHT('[1]GIFTS data'!G175,LEN('[1]GIFTS data'!G175)-3),IF(LEN('[1]GIFTS data'!G175)=6,\"GB-CHC-\"&'[1]GIFTS data'!G175,'[1]Transformation sheet'!$B$3&'[1]GIFTS data'!E175)))))))","v":"GB-CHC-1158065"},{"$f":"'[1]GIFTS data'!F175","v":"Oswin Projects"},{"$f":"'[1]GIFTS data'!G175","v":1158065},{"$f":"'[1]GIFTS data'!J175","v":"Morpeth"},{"$f":"'[1]GIFTS data'!I175","v":"NE61 6SL"},{"$f":"'[1]GIFTS data'!H175","v":"North East"},{"$f":"IF(OR('[1]GIFTS data'!K175=\"4. Proactive Programme\",'[1]GIFTS data'!K175=\"3. Regular Grants Programme\"),\"No\",\"Yes\")","v":"Yes"},{"$f":"RIGHT('[1]GIFTS data'!K175,LEN('[1]GIFTS data'!K175)-3)","v":"Main Grants Programme"},{"$f":"'[1]Transformation sheet'!$B$8","v":"GB-CHC-274100"},{"$f":"'[1]Transformation sheet'!$B$9","v":"The Clothworkers Foundation"},"https://www.clothworkersfoundation.org.uk/",{"$f":"'[1]Transformation sheet'!$B$11","v":"2019-05-31"},{"$f":"IF(OR('[1]GIFTS data'!K175=\"4. Proactive Programme\",'[1]GIFTS data'!K175=\"3. Regular Grants Programme\"),\"Revenue\",\"Capital\")","v":"Capital"}]
[{"$f":"CONCATENATE('[1]Transformation sheet'!$B$1,'[1]GIFTS data'!A176)","v":"360G-ClothworkersFdn-201700409"},{"$f":"'[1]GIFTS data'!A176","v":201700409},{"$f":"CONCATENATE(\"Grant to \",'[1]GIFTS data'!F176)","v":"Grant to Our Wilton Trust"},{"$f":"'[1]GIFTS data'!B176","v":"refurbishment of building for a charity which works with homeless persons' in Salisbury"},{"$f":"'[1]Transformation sheet'!$B$2","v":"GBP"},{"$f":"'[1]GIFTS data'!C176","v":40000},{"$f":"'[1]GIFTS data'!D176","v":"2018-03-28"},{"$f":"IF(LEFT('[1]GIFTS data'!G176,3)=\"SC0\",\"GB-SC-\"&'[1]GIFTS data'!G176,IF(LEN('[1]GIFTS data'!G176)=8,\"GB-COH-\"&'[1]GIFTS data'!G176,IF(LEFT('[1]GIFTS data'!G176,1)=\"X\",\"GB-REV-\"&'[1]GIFTS data'!G176,IF(AND(LEN('[1]GIFTS data'!G176)=7,LEFT('[1]GIFTS data'!G176,1)=\"1\"),\"GB-CHC-\"&'[1]GIFTS data'!G176,IF(LEN('[1]GIFTS data'!G176)=7,\"GB-COH-0\"&'[1]GIFTS data'!G176,IF(LEFT('[1]GIFTS data'!G176,3)=\"NIC\",\"GB-NIC-\"&RIGHT('[1]GIFTS data'!G176,LEN('[1]GIFTS data'!G176)-3),IF(LEN('[1]GIFTS data'!G176)=6,\"GB-CHC-\"&'[1]GIFTS data'!G176,'[1]Transformation sheet'!$B$3&'[1]GIFTS data'!E176)))))))","v":"GB-CHC-1163266"},{"$f":"'[1]GIFTS data'!F176","v":"Our Wilton Trust"},{"$f":"'[1]GIFTS data'!G176","v":1163266},{"$f":"'[1]GIFTS data'!J176","v":"Salisbury"},{"$f":"'[1]GIFTS data'!I176","v":"SP11LY"},{"$f":"'[1]GIFTS data'!H176","v":"South West"},{"$f":"IF(OR('[1]GIFTS data'!K176=\"4. Proactive Programme\",'[1]GIFTS data'!K176=\"3. Regular Grants Programme\"),\"No\",\"Yes\")","v":"Yes"},{"$f":"RIGHT('[1]GIFTS data'!K176,LEN('[1]GIFTS data'!K176)-3)","v":"Main Grants Programme"},{"$f":"'[1]Transformation sheet'!$B$8","v":"GB-CHC-274100"},{"$f":"'[1]Transformation sheet'!$B$9","v":"The Clothworkers Foundation"},"https://www.clothworkersfoundation.org.uk/",{"$f":"'[1]Transformation sheet'!$B$11","v":"2019-05-31"},{"$f":"IF(OR('[1]GIFTS data'!K176=\"4. Proactive Programme\",'[1]GIFTS data'!K176=\"3. Regular Grants Programme\"),\"Revenue\",\"Capital\")","v":"Capital"}]
[{"$f":"CONCATENATE('[1]Transformation sheet'!$B$1,'[1]GIFTS data'!A177)","v":"360G-ClothworkersFdn-201700377"},{"$f":"'[1]GIFTS data'!A177","v":201700377},{"$f":"CONCATENATE(\"Grant to \",'[1]GIFTS data'!F177)","v":"Grant to Parochial Church Council of the Ecclesiastical Parish of Waterloo"},{"$f":"'[1]GIFTS data'!B177","v":"reconstruction of building for a charity which works with disadvantaged young people in Lambeth"},{"$f":"'[1]Transformation sheet'!$B$2","v":"GBP"},{"$f":"'[1]GIFTS data'!C177","v":80000},{"$f":"'[1]GIFTS data'!D177","v":"2018-06-28"},{"$f":"IF(LEFT('[1]GIFTS data'!G177,3)=\"SC0\",\"GB-SC-\"&'[1]GIFTS data'!G177,IF(LEN('[1]GIFTS data'!G177)=8,\"GB-COH-\"&'[1]GIFTS data'!G177,IF(LEFT('[1]GIFTS data'!G177,1)=\"X\",\"GB-REV-\"&'[1]GIFTS data'!G177,IF(AND(LEN('[1]GIFTS data'!G177)=7,LEFT('[1]GIFTS data'!G177,1)=\"1\"),\"GB-CHC-\"&'[1]GIFTS data'!G177,IF(LEN('[1]GIFTS data'!G177)=7,\"GB-COH-0\"&'[1]GIFTS data'!G177,IF(LEFT('[1]GIFTS data'!G177,3)=\"NIC\",\"GB-NIC-\"&RIGHT('[1]GIFTS data'!G177,LEN('[1]GIFTS data'!G177)-3),IF(LEN('[1]GIFTS data'!G177)=6,\"GB-CHC-\"&'[1]GIFTS data'!G177,'[1]Transformation sheet'!$B$3&'[1]GIFTS data'!E177)))))))","v":"GB-CHC-1132457"},{"$f":"'[1]GIFTS data'!F177","v":"Parochial Church Council of the Ecclesiastical Parish of Waterloo"},{"$f":"'[1]GIFTS data'!G177","v":1132457},{"$f":"'[1]GIFTS data'!J177","v":"Lambeth"},{"$f":"'[1]GIFTS data'!I177","v":"SE1 8TY"},{"$f":"'[1]GIFTS data'!H177","v":"Greater London"},{"$f":"IF(OR('[1]GIFTS data'!K177=\"4. Proactive Programme\",'[1]GIFTS data'!K177=\"3. Regular Grants Programme\"),\"No\",\"Yes\")","v":"Yes"},{"$f":"RIGHT('[1]GIFTS data'!K177,LEN('[1]GIFTS data'!K177)-3)","v":"Main Grants Programme"},{"$f":"'[1]Transformation sheet'!$B$8","v":"GB-CHC-274100"},{"$f":"'[1]Transformation sheet'!$B$9","v":"The Clothworkers Foundation"},"https://www.clothworkersfoundation.org.uk/",{"$f":"'[1]Transformation sheet'!$B$11","v":"2019-05-31"},{"$f":"IF(OR('[1]GIFTS data'!K177=\"4. Proactive Programme\",'[1]GIFTS data'!K177=\"3. Regular Grants Programme\"),\"Revenue\",\"Capital\")","v":"Capital"}]
[{"$f":"CONCATENATE('[1]Transformation sheet'!$B$1,'[1]GIFTS data'!A178)","v":"360G-ClothworkersFdn-201700726"},{"$f":"'[1]GIFTS data'!A178","v":201700726},{"$f":"CONCATENATE(\"Grant to \",'[1]GIFTS data'!F178)","v":"Grant to Pennine Lancashire Community Farm"},{"$f":"'[1]GIFTS data'!B178","v":"Construction of an eco hut for a charity in Burnley"},{"$f":"'[1]Transformation sheet'!$B$2","v":"GBP"},{"$f":"'[1]GIFTS data'!C178","v":40000},{"$f":"'[1]GIFTS data'!D178","v":"2018-09-26"},{"$f":"IF(LEFT('[1]GIFTS data'!G178,3)=\"SC0\",\"GB-SC-\"&'[1]GIFTS data'!G178,IF(LEN('[1]GIFTS data'!G178)=8,\"GB-COH-\"&'[1]GIFTS data'!G178,IF(LEFT('[1]GIFTS data'!G178,1)=\"X\",\"GB-REV-\"&'[1]GIFTS data'!G178,IF(AND(LEN('[1]GIFTS data'!G178)=7,LEFT('[1]GIFTS data'!G178,1)=\"1\"),\"GB-CHC-\"&'[1]GIFTS data'!G178,IF(LEN('[1]GIFTS data'!G178)=7,\"GB-COH-0\"&'[1]GIFTS data'!G178,IF(LEFT('[1]GIFTS data'!G178,3)=\"NIC\",\"GB-NIC-\"&RIGHT('[1]GIFTS data'!G178,LEN('[1]GIFTS data'!G178)-3),IF(LEN('[1]GIFTS data'!G178)=6,\"GB-CHC-\"&'[1]GIFTS data'!G178,'[1]Transformation sheet'!$B$3&'[1]GIFTS data'!E178)))))))","v":"GB-CHC-1140498"},{"$f":"'[1]GIFTS data'!F178","v":"Pennine Lancashire Community Farm"},{"$f":"'[1]GIFTS data'!G178","v":1140498},{"$f":"'[1]GIFTS data'!J178","v":"Burnley"},{"$f":"'[1]GIFTS data'!I178","v":"BB12 0BU"},{"$f":"'[1]GIFTS data'!H178","v":"North West"},{"$f":"IF(OR('[1]GIFTS data'!K178=\"4. Proactive Programme\",'[1]GIFTS data'!K178=\"3. Regular Grants Programme\"),\"No\",\"Yes\")","v":"Yes"},{"$f":"RIGHT('[1]GIFTS data'!K178,LEN('[1]GIFTS data'!K178)-3)","v":"Main Grants Programme"},{"$f":"'[1]Transformation sheet'!$B$8","v":"GB-CHC-274100"},{"$f":"'[1]Transformation sheet'!$B$9","v":"The Clothworkers Foundation"},"https://www.clothworkersfoundation.org.uk/",{"$f":"'[1]Transformation sheet'!$B$11","v":"2019-05-31"},{"$f":"IF(OR('[1]GIFTS data'!K178=\"4. Proactive Programme\",'[1]GIFTS data'!K178=\"3. Regular Grants Programme\"),\"Revenue\",\"Capital\")","v":"Capital"}]
[{"$f":"CONCATENATE('[1]Transformation sheet'!$B$1,'[1]GIFTS data'!A179)","v":"360G-ClothworkersFdn-201700595"},{"$f":"'[1]GIFTS data'!A179","v":201700595},{"$f":"CONCATENATE(\"Grant to \",'[1]GIFTS data'!F179)","v":"Grant to Pennine Mencap"},{"$f":"'[1]GIFTS data'!B179","v":"refurbishment of a roof for a charity which works with disabled people in Greater Manchester"},{"$f":"'[1]Transformation sheet'!$B$2","v":"GBP"},{"$f":"'[1]GIFTS data'!C179","v":9400},{"$f":"'[1]GIFTS data'!D179","v":"2018-04-11"},{"$f":"IF(LEFT('[1]GIFTS data'!G179,3)=\"SC0\",\"GB-SC-\"&'[1]GIFTS data'!G179,IF(LEN('[1]GIFTS data'!G179)=8,\"GB-COH-\"&'[1]GIFTS data'!G179,IF(LEFT('[1]GIFTS data'!G179,1)=\"X\",\"GB-REV-\"&'[1]GIFTS data'!G179,IF(AND(LEN('[1]GIFTS data'!G179)=7,LEFT('[1]GIFTS data'!G179,1)=\"1\"),\"GB-CHC-\"&'[1]GIFTS data'!G179,IF(LEN('[1]GIFTS data'!G179)=7,\"GB-COH-0\"&'[1]GIFTS data'!G179,IF(LEFT('[1]GIFTS data'!G179,3)=\"NIC\",\"GB-NIC-\"&RIGHT('[1]GIFTS data'!G179,LEN('[1]GIFTS data'!G179)-3),IF(LEN('[1]GIFTS data'!G179)=6,\"GB-CHC-\"&'[1]GIFTS data'!G179,'[1]Transformation sheet'!$B$3&'[1]GIFTS data'!E179)))))))","v":"GB-CHC-1150285"},{"$f":"'[1]GIFTS data'!F179","v":"Pennine Mencap"},{"$f":"'[1]GIFTS data'!G179","v":1150285},{"$f":"'[1]GIFTS data'!J179","v":"Oldham"},{"$f":"'[1]GIFTS data'!I179","v":"OL1 1EN"},{"$f":"'[1]GIFTS data'!H179","v":"North West"},{"$f":"IF(OR('[1]GIFTS data'!K179=\"4. Proactive Programme\",'[1]GIFTS data'!K179=\"3. Regular Grants Programme\"),\"No\",\"Yes\")","v":"Yes"},{"$f":"RIGHT('[1]GIFTS data'!K179,LEN('[1]GIFTS data'!K179)-3)","v":"Small Grants Programme"},{"$f":"'[1]Transformation sheet'!$B$8","v":"GB-CHC-274100"},{"$f":"'[1]Transformation sheet'!$B$9","v":"The Clothworkers Foundation"},"https://www.clothworkersfoundation.org.uk/",{"$f":"'[1]Transformation sheet'!$B$11","v":"2019-05-31"},{"$f":"IF(OR('[1]GIFTS data'!K179=\"4. Proactive Programme\",'[1]GIFTS data'!K179=\"3. Regular Grants Programme\"),\"Revenue\",\"Capital\")","v":"Capital"}]
[{"$f":"CONCATENATE('[1]Transformation sheet'!$B$1,'[1]GIFTS data'!A180)","v":"360G-ClothworkersFdn-201700581"},{"$f":"'[1]GIFTS data'!A180","v":201700581},{"$f":"CONCATENATE(\"Grant to \",'[1]GIFTS data'!F180)","v":"Grant to PHOEBE"},{"$f":"'[1]GIFTS data'!B180","v":"purchase of computers for a charity which works with disadvantaged minority communities in Suffolk"},{"$f":"'[1]Transformation sheet'!$B$2","v":"GBP"},{"$f":"'[1]GIFTS data'!C180","v":2000},{"$f":"'[1]GIFTS data'!D180","v":"2018-04-11"},{"$f":"IF(LEFT('[1]GIFTS data'!G180,3)=\"SC0\",\"GB-SC-\"&'[1]GIFTS data'!G180,IF(LEN('[1]GIFTS data'!G180)=8,\"GB-COH-\"&'[1]GIFTS data'!G180,IF(LEFT('[1]GIFTS data'!G180,1)=\"X\",\"GB-REV-\"&'[1]GIFTS data'!G180,IF(AND(LEN('[1]GIFTS data'!G180)=7,LEFT('[1]GIFTS data'!G180,1)=\"1\"),\"GB-CHC-\"&'[1]GIFTS data'!G180,IF(LEN('[1]GIFTS data'!G180)=7,\"GB-COH-0\"&'[1]GIFTS data'!G180,IF(LEFT('[1]GIFTS data'!G180,3)=\"NIC\",\"GB-NIC-\"&RIGHT('[1]GIFTS data'!G180,LEN('[1]GIFTS data'!G180)-3),IF(LEN('[1]GIFTS data'!G180)=6,\"GB-CHC-\"&'[1]GIFTS data'!G180,'[1]Transformation sheet'!$B$3&'[1]GIFTS data'!E180)))))))","v":"GB-CHC-1135541"},{"$f":"'[1]GIFTS data'!F180","v":"PHOEBE"},{"$f":"'[1]GIFTS data'!G180","v":1135541},{"$f":"'[1]GIFTS data'!J180","v":"IPSWICH"},{"$f":"'[1]GIFTS data'!I180","v":"IP1 2BE"},{"$f":"'[1]GIFTS data'!H180","v":"South West"},{"$f":"IF(OR('[1]GIFTS data'!K180=\"4. Proactive Programme\",'[1]GIFTS data'!K180=\"3. Regular Grants Programme\"),\"No\",\"Yes\")","v":"Yes"},{"$f":"RIGHT('[1]GIFTS data'!K180,LEN('[1]GIFTS data'!K180)-3)","v":"Small Grants Programme"},{"$f":"'[1]Transformation sheet'!$B$8","v":"GB-CHC-274100"},{"$f":"'[1]Transformation sheet'!$B$9","v":"The Clothworkers Foundation"},"https://www.clothworkersfoundation.org.uk/",{"$f":"'[1]Transformation sheet'!$B$11","v":"2019-05-31"},{"$f":"IF(OR('[1]GIFTS data'!K180=\"4. Proactive Programme\",'[1]GIFTS data'!K180=\"3. Regular Grants Programme\"),\"Revenue\",\"Capital\")","v":"Capital"}]
[{"$f":"CONCATENATE('[1]Transformation sheet'!$B$1,'[1]GIFTS data'!A181)","v":"360G-ClothworkersFdn-201700836"},{"$f":"'[1]GIFTS data'!A181","v":201700836},{"$f":"CONCATENATE(\"Grant to \",'[1]GIFTS data'!F181)","v":"Grant to Proud Trust"},{"$f":"'[1]GIFTS data'!B181","v":"Reconstruction of a centre in Manchester for a charity supporting the LGBT+ community"},{"$f":"'[1]Transformation sheet'!$B$2","v":"GBP"},{"$f":"'[1]GIFTS data'!C181","v":100000},{"$f":"'[1]GIFTS data'!D181","v":"2018-11-29"},{"$f":"IF(LEFT('[1]GIFTS data'!G181,3)=\"SC0\",\"GB-SC-\"&'[1]GIFTS data'!G181,IF(LEN('[1]GIFTS data'!G181)=8,\"GB-COH-\"&'[1]GIFTS data'!G181,IF(LEFT('[1]GIFTS data'!G181,1)=\"X\",\"GB-REV-\"&'[1]GIFTS data'!G181,IF(AND(LEN('[1]GIFTS data'!G181)=7,LEFT('[1]GIFTS data'!G181,1)=\"1\"),\"GB-CHC-\"&'[1]GIFTS data'!G181,IF(LEN('[1]GIFTS data'!G181)=7,\"GB-COH-0\"&'[1]GIFTS data'!G181,IF(LEFT('[1]GIFTS data'!G181,3)=\"NIC\",\"GB-NIC-\"&RIGHT('[1]GIFTS data'!G181,LEN('[1]GIFTS data'!G181)-3),IF(LEN('[1]GIFTS data'!G181)=6,\"GB-CHC-\"&'[1]GIFTS data'!G181,'[1]Transformation sheet'!$B$3&'[1]GIFTS data'!E181)))))))","v":"GB-CHC-1161102"},{"$f":"'[1]GIFTS data'!F181","v":"Proud Trust"},{"$f":"'[1]GIFTS data'!G181","v":1161102},{"$f":"'[1]GIFTS data'!J181","v":"Manchester"},{"$f":"'[1]GIFTS data'!I181","v":"M1 7HB"},{"$f":"'[1]GIFTS data'!H181","v":"North West"},{"$f":"IF(OR('[1]GIFTS data'!K181=\"4. Proactive Programme\",'[1]GIFTS data'!K181=\"3. Regular Grants Programme\"),\"No\",\"Yes\")","v":"Yes"},{"$f":"RIGHT('[1]GIFTS data'!K181,LEN('[1]GIFTS data'!K181)-3)","v":"Main Grants Programme"},{"$f":"'[1]Transformation sheet'!$B$8","v":"GB-CHC-274100"},{"$f":"'[1]Transformation sheet'!$B$9","v":"The Clothworkers Foundation"},"https://www.clothworkersfoundation.org.uk/",{"$f":"'[1]Transformation sheet'!$B$11","v":"2019-05-31"},{"$f":"IF(OR('[1]GIFTS data'!K181=\"4. Proactive Programme\",'[1]GIFTS data'!K181=\"3. Regular Grants Programme\"),\"Revenue\",\"Capital\")","v":"Capital"}]
[{"$f":"CONCATENATE('[1]Transformation sheet'!$B$1,'[1]GIFTS data'!A182)","v":"360G-ClothworkersFdn-201700577"},{"$f":"'[1]GIFTS data'!A182","v":201700577},{"$f":"CONCATENATE(\"Grant to \",'[1]GIFTS data'!F182)","v":"Grant to Purfleet Trust Resettlement Project"},{"$f":"'[1]GIFTS data'!B182","v":"purchase of furniture and white goods for a charity which works with homeless people in Norfolk"},{"$f":"'[1]Transformation sheet'!$B$2","v":"GBP"},{"$f":"'[1]GIFTS data'!C182","v":5900},{"$f":"'[1]GIFTS data'!D182","v":"2018-04-12"},{"$f":"IF(LEFT('[1]GIFTS data'!G182,3)=\"SC0\",\"GB-SC-\"&'[1]GIFTS data'!G182,IF(LEN('[1]GIFTS data'!G182)=8,\"GB-COH-\"&'[1]GIFTS data'!G182,IF(LEFT('[1]GIFTS data'!G182,1)=\"X\",\"GB-REV-\"&'[1]GIFTS data'!G182,IF(AND(LEN('[1]GIFTS data'!G182)=7,LEFT('[1]GIFTS data'!G182,1)=\"1\"),\"GB-CHC-\"&'[1]GIFTS data'!G182,IF(LEN('[1]GIFTS data'!G182)=7,\"GB-COH-0\"&'[1]GIFTS data'!G182,IF(LEFT('[1]GIFTS data'!G182,3)=\"NIC\",\"GB-NIC-\"&RIGHT('[1]GIFTS data'!G182,LEN('[1]GIFTS data'!G182)-3),IF(LEN('[1]GIFTS data'!G182)=6,\"GB-CHC-\"&'[1]GIFTS data'!G182,'[1]Transformation sheet'!$B$3&'[1]GIFTS data'!E182)))))))","v":"GB-CHC-1037276"},{"$f":"'[1]GIFTS data'!F182","v":"Purfleet Trust Resettlement Project"},{"$f":"'[1]GIFTS data'!G182","v":1037276},{"$f":"'[1]GIFTS data'!J182","v":"Kings Lynn"},{"$f":"'[1]GIFTS data'!I182","v":"PE301QS"},{"$f":"'[1]GIFTS data'!H182","v":"East"},{"$f":"IF(OR('[1]GIFTS data'!K182=\"4. Proactive Programme\",'[1]GIFTS data'!K182=\"3. Regular Grants Programme\"),\"No\",\"Yes\")","v":"Yes"},{"$f":"RIGHT('[1]GIFTS data'!K182,LEN('[1]GIFTS data'!K182)-3)","v":"Small Grants Programme"},{"$f":"'[1]Transformation sheet'!$B$8","v":"GB-CHC-274100"},{"$f":"'[1]Transformation sheet'!$B$9","v":"The Clothworkers Foundation"},"https://www.clothworkersfoundation.org.uk/",{"$f":"'[1]Transformation sheet'!$B$11","v":"2019-05-31"},{"$f":"IF(OR('[1]GIFTS data'!K182=\"4. Proactive Programme\",'[1]GIFTS data'!K182=\"3. Regular Grants Programme\"),\"Revenue\",\"Capital\")","v":"Capital"}]
[{"$f":"CONCATENATE('[1]Transformation sheet'!$B$1,'[1]GIFTS data'!A183)","v":"360G-ClothworkersFdn-201700786"},{"$f":"'[1]GIFTS data'!A183","v":201700786},{"$f":"CONCATENATE(\"Grant to \",'[1]GIFTS data'!F183)","v":"Grant to Queen's Theatre Hornchurch"},{"$f":"'[1]GIFTS data'!B183","v":"2018 Clothworkers' Theatre Award"},{"$f":"'[1]Transformation sheet'!$B$2","v":"GBP"},{"$f":"'[1]GIFTS data'!C183","v":150000},{"$f":"'[1]GIFTS data'!D183","v":"2018-06-28"},{"$f":"IF(LEFT('[1]GIFTS data'!G183,3)=\"SC0\",\"GB-SC-\"&'[1]GIFTS data'!G183,IF(LEN('[1]GIFTS data'!G183)=8,\"GB-COH-\"&'[1]GIFTS data'!G183,IF(LEFT('[1]GIFTS data'!G183,1)=\"X\",\"GB-REV-\"&'[1]GIFTS data'!G183,IF(AND(LEN('[1]GIFTS data'!G183)=7,LEFT('[1]GIFTS data'!G183,1)=\"1\"),\"GB-CHC-\"&'[1]GIFTS data'!G183,IF(LEN('[1]GIFTS data'!G183)=7,\"GB-COH-0\"&'[1]GIFTS data'!G183,IF(LEFT('[1]GIFTS data'!G183,3)=\"NIC\",\"GB-NIC-\"&RIGHT('[1]GIFTS data'!G183,LEN('[1]GIFTS data'!G183)-3),IF(LEN('[1]GIFTS data'!G183)=6,\"GB-CHC-\"&'[1]GIFTS data'!G183,'[1]Transformation sheet'!$B$3&'[1]GIFTS data'!E183)))))))","v":"GB-CHC-248680"},{"$f":"'[1]GIFTS data'!F183","v":"Queen's Theatre Hornchurch"},{"$f":"'[1]GIFTS data'!G183","v":248680},{"$f":"'[1]GIFTS data'!J183","v":" "},{"$f":"'[1]GIFTS data'!I183","v":"RM11 1QT"},{"$f":"'[1]GIFTS data'!H183","v":"Greater London"},{"$f":"IF(OR('[1]GIFTS data'!K183=\"4. Proactive Programme\",'[1]GIFTS data'!K183=\"3. Regular Grants Programme\"),\"No\",\"Yes\")","v":"No"},{"$f":"RIGHT('[1]GIFTS data'!K183,LEN('[1]GIFTS data'!K183)-3)","v":"Proactive Programme"},{"$f":"'[1]Transformation sheet'!$B$8","v":"GB-CHC-274100"},{"$f":"'[1]Transformation sheet'!$B$9","v":"The Clothworkers Foundation"},"https://www.clothworkersfoundation.org.uk/",{"$f":"'[1]Transformation sheet'!$B$11","v":"2019-05-31"},{"$f":"IF(OR('[1]GIFTS data'!K183=\"4. Proactive Programme\",'[1]GIFTS data'!K183=\"3. Regular Grants Programme\"),\"Revenue\",\"Capital\")","v":"Revenue"}]
[{"$f":"CONCATENATE('[1]Transformation sheet'!$B$1,'[1]GIFTS data'!A184)","v":"360G-ClothworkersFdn-201700544"},{"$f":"'[1]GIFTS data'!A184","v":201700544},{"$f":"CONCATENATE(\"Grant to \",'[1]GIFTS data'!F184)","v":"Grant to Race Equality Centre"},{"$f":"'[1]GIFTS data'!B184","v":"purchase of IT equipment and software for a charity which works with disadvantaged minority communities in Leicester"},{"$f":"'[1]Transformation sheet'!$B$2","v":"GBP"},{"$f":"'[1]GIFTS data'!C184","v":15000},{"$f":"'[1]GIFTS data'!D184","v":"2018-05-16"},{"$f":"IF(LEFT('[1]GIFTS data'!G184,3)=\"SC0\",\"GB-SC-\"&'[1]GIFTS data'!G184,IF(LEN('[1]GIFTS data'!G184)=8,\"GB-COH-\"&'[1]GIFTS data'!G184,IF(LEFT('[1]GIFTS data'!G184,1)=\"X\",\"GB-REV-\"&'[1]GIFTS data'!G184,IF(AND(LEN('[1]GIFTS data'!G184)=7,LEFT('[1]GIFTS data'!G184,1)=\"1\"),\"GB-CHC-\"&'[1]GIFTS data'!G184,IF(LEN('[1]GIFTS data'!G184)=7,\"GB-COH-0\"&'[1]GIFTS data'!G184,IF(LEFT('[1]GIFTS data'!G184,3)=\"NIC\",\"GB-NIC-\"&RIGHT('[1]GIFTS data'!G184,LEN('[1]GIFTS data'!G184)-3),IF(LEN('[1]GIFTS data'!G184)=6,\"GB-CHC-\"&'[1]GIFTS data'!G184,'[1]Transformation sheet'!$B$3&'[1]GIFTS data'!E184)))))))","v":"GB-CHC-1053154"},{"$f":"'[1]GIFTS data'!F184","v":"Race Equality Centre"},{"$f":"'[1]GIFTS data'!G184","v":1053154},{"$f":"'[1]GIFTS data'!J184","v":"Leicester"},{"$f":"'[1]GIFTS data'!I184","v":"LE1 5TE"},{"$f":"'[1]GIFTS data'!H184","v":"East Midlands"},{"$f":"IF(OR('[1]GIFTS data'!K184=\"4. Proactive Programme\",'[1]GIFTS data'!K184=\"3. Regular Grants Programme\"),\"No\",\"Yes\")","v":"Yes"},{"$f":"RIGHT('[1]GIFTS data'!K184,LEN('[1]GIFTS data'!K184)-3)","v":"Main Grants Programme"},{"$f":"'[1]Transformation sheet'!$B$8","v":"GB-CHC-274100"},{"$f":"'[1]Transformation sheet'!$B$9","v":"The Clothworkers Foundation"},"https://www.clothworkersfoundation.org.uk/",{"$f":"'[1]Transformation sheet'!$B$11","v":"2019-05-31"},{"$f":"IF(OR('[1]GIFTS data'!K184=\"4. Proactive Programme\",'[1]GIFTS data'!K184=\"3. Regular Grants Programme\"),\"Revenue\",\"Capital\")","v":"Capital"}]
[{"$f":"CONCATENATE('[1]Transformation sheet'!$B$1,'[1]GIFTS data'!A185)","v":"360G-ClothworkersFdn-201700606"},{"$f":"'[1]GIFTS data'!A185","v":201700606},{"$f":"CONCATENATE(\"Grant to \",'[1]GIFTS data'!F185)","v":"Grant to Rape and Sexual Abuse Centre, Perth & Kinross"},{"$f":"'[1]GIFTS data'!B185","v":"refurbishment of a new centre and therapeutic garden for a charity which works with survivors of sexual violence in Perth & Kinross"},{"$f":"'[1]Transformation sheet'!$B$2","v":"GBP"},{"$f":"'[1]GIFTS data'!C185","v":24000},{"$f":"'[1]GIFTS data'!D185","v":"2018-05-16"},{"$f":"IF(LEFT('[1]GIFTS data'!G185,3)=\"SC0\",\"GB-SC-\"&'[1]GIFTS data'!G185,IF(LEN('[1]GIFTS data'!G185)=8,\"GB-COH-\"&'[1]GIFTS data'!G185,IF(LEFT('[1]GIFTS data'!G185,1)=\"X\",\"GB-REV-\"&'[1]GIFTS data'!G185,IF(AND(LEN('[1]GIFTS data'!G185)=7,LEFT('[1]GIFTS data'!G185,1)=\"1\"),\"GB-CHC-\"&'[1]GIFTS data'!G185,IF(LEN('[1]GIFTS data'!G185)=7,\"GB-COH-0\"&'[1]GIFTS data'!G185,IF(LEFT('[1]GIFTS data'!G185,3)=\"NIC\",\"GB-NIC-\"&RIGHT('[1]GIFTS data'!G185,LEN('[1]GIFTS data'!G185)-3),IF(LEN('[1]GIFTS data'!G185)=6,\"GB-CHC-\"&'[1]GIFTS data'!G185,'[1]Transformation sheet'!$B$3&'[1]GIFTS data'!E185)))))))","v":"GB-SC-SC037982"},{"$f":"'[1]GIFTS data'!F185","v":"Rape and Sexual Abuse Centre, Perth & Kinross"},{"$f":"'[1]GIFTS data'!G185","v":"SC037982"},{"$f":"'[1]GIFTS data'!J185","v":"Perth"},{"$f":"'[1]GIFTS data'!I185","v":"PH2 8JA"},{"$f":"'[1]GIFTS data'!H185","v":"Scotland"},{"$f":"IF(OR('[1]GIFTS data'!K185=\"4. Proactive Programme\",'[1]GIFTS data'!K185=\"3. Regular Grants Programme\"),\"No\",\"Yes\")","v":"Yes"},{"$f":"RIGHT('[1]GIFTS data'!K185,LEN('[1]GIFTS data'!K185)-3)","v":"Main Grants Programme"},{"$f":"'[1]Transformation sheet'!$B$8","v":"GB-CHC-274100"},{"$f":"'[1]Transformation sheet'!$B$9","v":"The Clothworkers Foundation"},"https://www.clothworkersfoundation.org.uk/",{"$f":"'[1]Transformation sheet'!$B$11","v":"2019-05-31"},{"$f":"IF(OR('[1]GIFTS data'!K185=\"4. Proactive Programme\",'[1]GIFTS data'!K185=\"3. Regular Grants Programme\"),\"Revenue\",\"Capital\")","v":"Capital"}]
[{"$f":"CONCATENATE('[1]Transformation sheet'!$B$1,'[1]GIFTS data'!A186)","v":"360G-ClothworkersFdn-201700817"},{"$f":"'[1]GIFTS data'!A186","v":201700817},{"$f":"CONCATENATE(\"Grant to \",'[1]GIFTS data'!F186)","v":"Grant to Rape Crisis Wycombe Chiltern and South Bucks"},{"$f":"'[1]GIFTS data'!B186","v":"purchase of computers for a charity which works with survivors of domestic or sexual violence in Buckinghamshire"},{"$f":"'[1]Transformation sheet'!$B$2","v":"GBP"},{"$f":"'[1]GIFTS data'!C186","v":9900},{"$f":"'[1]GIFTS data'!D186","v":"2018-08-31"},{"$f":"IF(LEFT('[1]GIFTS data'!G186,3)=\"SC0\",\"GB-SC-\"&'[1]GIFTS data'!G186,IF(LEN('[1]GIFTS data'!G186)=8,\"GB-COH-\"&'[1]GIFTS data'!G186,IF(LEFT('[1]GIFTS data'!G186,1)=\"X\",\"GB-REV-\"&'[1]GIFTS data'!G186,IF(AND(LEN('[1]GIFTS data'!G186)=7,LEFT('[1]GIFTS data'!G186,1)=\"1\"),\"GB-CHC-\"&'[1]GIFTS data'!G186,IF(LEN('[1]GIFTS data'!G186)=7,\"GB-COH-0\"&'[1]GIFTS data'!G186,IF(LEFT('[1]GIFTS data'!G186,3)=\"NIC\",\"GB-NIC-\"&RIGHT('[1]GIFTS data'!G186,LEN('[1]GIFTS data'!G186)-3),IF(LEN('[1]GIFTS data'!G186)=6,\"GB-CHC-\"&'[1]GIFTS data'!G186,'[1]Transformation sheet'!$B$3&'[1]GIFTS data'!E186)))))))","v":"GB-CHC-1051611"},{"$f":"'[1]GIFTS data'!F186","v":"Rape Crisis Wycombe Chiltern and South Bucks"},{"$f":"'[1]GIFTS data'!G186","v":1051611},{"$f":"'[1]GIFTS data'!J186","v":"High Wycombe"},{"$f":"'[1]GIFTS data'!I186","v":"HP11 9GW"},{"$f":"'[1]GIFTS data'!H186","v":"South East"},{"$f":"IF(OR('[1]GIFTS data'!K186=\"4. Proactive Programme\",'[1]GIFTS data'!K186=\"3. Regular Grants Programme\"),\"No\",\"Yes\")","v":"Yes"},{"$f":"RIGHT('[1]GIFTS data'!K186,LEN('[1]GIFTS data'!K186)-3)","v":"Small Grants Programme"},{"$f":"'[1]Transformation sheet'!$B$8","v":"GB-CHC-274100"},{"$f":"'[1]Transformation sheet'!$B$9","v":"The Clothworkers Foundation"},"https://www.clothworkersfoundation.org.uk/",{"$f":"'[1]Transformation sheet'!$B$11","v":"2019-05-31"},{"$f":"IF(OR('[1]GIFTS data'!K186=\"4. Proactive Programme\",'[1]GIFTS data'!K186=\"3. Regular Grants Programme\"),\"Revenue\",\"Capital\")","v":"Capital"}]
[{"$f":"CONCATENATE('[1]Transformation sheet'!$B$1,'[1]GIFTS data'!A187)","v":"360G-ClothworkersFdn-201700441"},{"$f":"'[1]GIFTS data'!A187","v":201700441},{"$f":"CONCATENATE(\"Grant to \",'[1]GIFTS data'!F187)","v":"Grant to Ravenscliffe High School and Sports College"},{"$f":"'[1]GIFTS data'!B187","v":"construction of centre for a charity which works with disabled people in Halifax"},{"$f":"'[1]Transformation sheet'!$B$2","v":"GBP"},{"$f":"'[1]GIFTS data'!C187","v":17000},{"$f":"'[1]GIFTS data'!D187","v":"2018-02-08"},{"$f":"IF(LEFT('[1]GIFTS data'!G187,3)=\"SC0\",\"GB-SC-\"&'[1]GIFTS data'!G187,IF(LEN('[1]GIFTS data'!G187)=8,\"GB-COH-\"&'[1]GIFTS data'!G187,IF(LEFT('[1]GIFTS data'!G187,1)=\"X\",\"GB-REV-\"&'[1]GIFTS data'!G187,IF(AND(LEN('[1]GIFTS data'!G187)=7,LEFT('[1]GIFTS data'!G187,1)=\"1\"),\"GB-CHC-\"&'[1]GIFTS data'!G187,IF(LEN('[1]GIFTS data'!G187)=7,\"GB-COH-0\"&'[1]GIFTS data'!G187,IF(LEFT('[1]GIFTS data'!G187,3)=\"NIC\",\"GB-NIC-\"&RIGHT('[1]GIFTS data'!G187,LEN('[1]GIFTS data'!G187)-3),IF(LEN('[1]GIFTS data'!G187)=6,\"GB-CHC-\"&'[1]GIFTS data'!G187,'[1]Transformation sheet'!$B$3&'[1]GIFTS data'!E187)))))))","v":"360G-ClothworkersFdn:ORG-10181"},{"$f":"'[1]GIFTS data'!F187","v":"Ravenscliffe High School and Sports College"},{"$f":"'[1]GIFTS data'!G187","v":0},{"$f":"'[1]GIFTS data'!J187","v":"Halifax"},{"$f":"'[1]GIFTS data'!I187","v":"HX3 0RZ"},{"$f":"'[1]GIFTS data'!H187","v":"Yorks & Humberside"},{"$f":"IF(OR('[1]GIFTS data'!K187=\"4. Proactive Programme\",'[1]GIFTS data'!K187=\"3. Regular Grants Programme\"),\"No\",\"Yes\")","v":"Yes"},{"$f":"RIGHT('[1]GIFTS data'!K187,LEN('[1]GIFTS data'!K187)-3)","v":"Main Grants Programme"},{"$f":"'[1]Transformation sheet'!$B$8","v":"GB-CHC-274100"},{"$f":"'[1]Transformation sheet'!$B$9","v":"The Clothworkers Foundation"},"https://www.clothworkersfoundation.org.uk/",{"$f":"'[1]Transformation sheet'!$B$11","v":"2019-05-31"},{"$f":"IF(OR('[1]GIFTS data'!K187=\"4. Proactive Programme\",'[1]GIFTS data'!K187=\"3. Regular Grants Programme\"),\"Revenue\",\"Capital\")","v":"Capital"}]
[{"$f":"CONCATENATE('[1]Transformation sheet'!$B$1,'[1]GIFTS data'!A188)","v":"360G-ClothworkersFdn-201700946"},{"$f":"'[1]GIFTS data'!A188","v":201700946},{"$f":"CONCATENATE(\"Grant to \",'[1]GIFTS data'!F188)","v":"Grant to RAY Ceredigion Out of School Childcare Network"},{"$f":"'[1]GIFTS data'!B188","v":"purchase of a minibus for a charity which works with people with disabilities in Ceredigion"},{"$f":"'[1]Transformation sheet'!$B$2","v":"GBP"},{"$f":"'[1]GIFTS data'!C188","v":10500},{"$f":"'[1]GIFTS data'!D188","v":"2018-12-07"},{"$f":"IF(LEFT('[1]GIFTS data'!G188,3)=\"SC0\",\"GB-SC-\"&'[1]GIFTS data'!G188,IF(LEN('[1]GIFTS data'!G188)=8,\"GB-COH-\"&'[1]GIFTS data'!G188,IF(LEFT('[1]GIFTS data'!G188,1)=\"X\",\"GB-REV-\"&'[1]GIFTS data'!G188,IF(AND(LEN('[1]GIFTS data'!G188)=7,LEFT('[1]GIFTS data'!G188,1)=\"1\"),\"GB-CHC-\"&'[1]GIFTS data'!G188,IF(LEN('[1]GIFTS data'!G188)=7,\"GB-COH-0\"&'[1]GIFTS data'!G188,IF(LEFT('[1]GIFTS data'!G188,3)=\"NIC\",\"GB-NIC-\"&RIGHT('[1]GIFTS data'!G188,LEN('[1]GIFTS data'!G188)-3),IF(LEN('[1]GIFTS data'!G188)=6,\"GB-CHC-\"&'[1]GIFTS data'!G188,'[1]Transformation sheet'!$B$3&'[1]GIFTS data'!E188)))))))","v":"GB-CHC-1092722"},{"$f":"'[1]GIFTS data'!F188","v":"RAY Ceredigion Out of School Childcare Network"},{"$f":"'[1]GIFTS data'!G188","v":1092722},{"$f":"'[1]GIFTS data'!J188","v":"ABERAERON"},{"$f":"'[1]GIFTS data'!I188","v":"SA46 0BN"},{"$f":"'[1]GIFTS data'!H188","v":"Wales"},{"$f":"IF(OR('[1]GIFTS data'!K188=\"4. Proactive Programme\",'[1]GIFTS data'!K188=\"3. Regular Grants Programme\"),\"No\",\"Yes\")","v":"Yes"},{"$f":"RIGHT('[1]GIFTS data'!K188,LEN('[1]GIFTS data'!K188)-3)","v":"Small Grants Programme"},{"$f":"'[1]Transformation sheet'!$B$8","v":"GB-CHC-274100"},{"$f":"'[1]Transformation sheet'!$B$9","v":"The Clothworkers Foundation"},"https://www.clothworkersfoundation.org.uk/",{"$f":"'[1]Transformation sheet'!$B$11","v":"2019-05-31"},{"$f":"IF(OR('[1]GIFTS data'!K188=\"4. Proactive Programme\",'[1]GIFTS data'!K188=\"3. Regular Grants Programme\"),\"Revenue\",\"Capital\")","v":"Capital"}]
[{"$f":"CONCATENATE('[1]Transformation sheet'!$B$1,'[1]GIFTS data'!A189)","v":"360G-ClothworkersFdn-201700672"},{"$f":"'[1]GIFTS data'!A189","v":201700672},{"$f":"CONCATENATE(\"Grant to \",'[1]GIFTS data'!F189)","v":"Grant to Recover Team"},{"$f":"'[1]GIFTS data'!B189","v":"purchase of a people carrier for a charity which works with survivors of domestic and sexual violence"},{"$f":"'[1]Transformation sheet'!$B$2","v":"GBP"},{"$f":"'[1]GIFTS data'!C189","v":13100},{"$f":"'[1]GIFTS data'!D189","v":"2018-06-21"},{"$f":"IF(LEFT('[1]GIFTS data'!G189,3)=\"SC0\",\"GB-SC-\"&'[1]GIFTS data'!G189,IF(LEN('[1]GIFTS data'!G189)=8,\"GB-COH-\"&'[1]GIFTS data'!G189,IF(LEFT('[1]GIFTS data'!G189,1)=\"X\",\"GB-REV-\"&'[1]GIFTS data'!G189,IF(AND(LEN('[1]GIFTS data'!G189)=7,LEFT('[1]GIFTS data'!G189,1)=\"1\"),\"GB-CHC-\"&'[1]GIFTS data'!G189,IF(LEN('[1]GIFTS data'!G189)=7,\"GB-COH-0\"&'[1]GIFTS data'!G189,IF(LEFT('[1]GIFTS data'!G189,3)=\"NIC\",\"GB-NIC-\"&RIGHT('[1]GIFTS data'!G189,LEN('[1]GIFTS data'!G189)-3),IF(LEN('[1]GIFTS data'!G189)=6,\"GB-CHC-\"&'[1]GIFTS data'!G189,'[1]Transformation sheet'!$B$3&'[1]GIFTS data'!E189)))))))","v":"GB-CHC-1167218"},{"$f":"'[1]GIFTS data'!F189","v":"Recover Team"},{"$f":"'[1]GIFTS data'!G189","v":1167218},{"$f":"'[1]GIFTS data'!J189","v":"Welwyn Garden City"},{"$f":"'[1]GIFTS data'!I189","v":"AL7 1AU"},{"$f":"'[1]GIFTS data'!H189","v":"East"},{"$f":"IF(OR('[1]GIFTS data'!K189=\"4. Proactive Programme\",'[1]GIFTS data'!K189=\"3. Regular Grants Programme\"),\"No\",\"Yes\")","v":"Yes"},{"$f":"RIGHT('[1]GIFTS data'!K189,LEN('[1]GIFTS data'!K189)-3)","v":"Small Grants Programme"},{"$f":"'[1]Transformation sheet'!$B$8","v":"GB-CHC-274100"},{"$f":"'[1]Transformation sheet'!$B$9","v":"The Clothworkers Foundation"},"https://www.clothworkersfoundation.org.uk/",{"$f":"'[1]Transformation sheet'!$B$11","v":"2019-05-31"},{"$f":"IF(OR('[1]GIFTS data'!K189=\"4. Proactive Programme\",'[1]GIFTS data'!K189=\"3. Regular Grants Programme\"),\"Revenue\",\"Capital\")","v":"Capital"}]
[{"$f":"CONCATENATE('[1]Transformation sheet'!$B$1,'[1]GIFTS data'!A190)","v":"360G-ClothworkersFdn-201700508"},{"$f":"'[1]GIFTS data'!A190","v":201700508},{"$f":"CONCATENATE(\"Grant to \",'[1]GIFTS data'!F190)","v":"Grant to Rejuvenate UK 2016"},{"$f":"'[1]GIFTS data'!B190","v":"purchase of equipment for a charity which works with disadvantaged young people in London"},{"$f":"'[1]Transformation sheet'!$B$2","v":"GBP"},{"$f":"'[1]GIFTS data'!C190","v":10000},{"$f":"'[1]GIFTS data'!D190","v":"2018-01-30"},{"$f":"IF(LEFT('[1]GIFTS data'!G190,3)=\"SC0\",\"GB-SC-\"&'[1]GIFTS data'!G190,IF(LEN('[1]GIFTS data'!G190)=8,\"GB-COH-\"&'[1]GIFTS data'!G190,IF(LEFT('[1]GIFTS data'!G190,1)=\"X\",\"GB-REV-\"&'[1]GIFTS data'!G190,IF(AND(LEN('[1]GIFTS data'!G190)=7,LEFT('[1]GIFTS data'!G190,1)=\"1\"),\"GB-CHC-\"&'[1]GIFTS data'!G190,IF(LEN('[1]GIFTS data'!G190)=7,\"GB-COH-0\"&'[1]GIFTS data'!G190,IF(LEFT('[1]GIFTS data'!G190,3)=\"NIC\",\"GB-NIC-\"&RIGHT('[1]GIFTS data'!G190,LEN('[1]GIFTS data'!G190)-3),IF(LEN('[1]GIFTS data'!G190)=6,\"GB-CHC-\"&'[1]GIFTS data'!G190,'[1]Transformation sheet'!$B$3&'[1]GIFTS data'!E190)))))))","v":"GB-COH-08976004"},{"$f":"'[1]GIFTS data'!F190","v":"Rejuvenate UK 2016"},{"$f":"'[1]GIFTS data'!G190","v":8976004},{"$f":"'[1]GIFTS data'!J190","v":"London"},{"$f":"'[1]GIFTS data'!I190","v":"E14 0FN"},{"$f":"'[1]GIFTS data'!H190","v":"Greater London"},{"$f":"IF(OR('[1]GIFTS data'!K190=\"4. Proactive Programme\",'[1]GIFTS data'!K190=\"3. Regular Grants Programme\"),\"No\",\"Yes\")","v":"Yes"},{"$f":"RIGHT('[1]GIFTS data'!K190,LEN('[1]GIFTS data'!K190)-3)","v":"Small Grants Programme"},{"$f":"'[1]Transformation sheet'!$B$8","v":"GB-CHC-274100"},{"$f":"'[1]Transformation sheet'!$B$9","v":"The Clothworkers Foundation"},"https://www.clothworkersfoundation.org.uk/",{"$f":"'[1]Transformation sheet'!$B$11","v":"2019-05-31"},{"$f":"IF(OR('[1]GIFTS data'!K190=\"4. Proactive Programme\",'[1]GIFTS data'!K190=\"3. Regular Grants Programme\"),\"Revenue\",\"Capital\")","v":"Capital"}]
[{"$f":"CONCATENATE('[1]Transformation sheet'!$B$1,'[1]GIFTS data'!A191)","v":"360G-ClothworkersFdn-201700105"},{"$f":"'[1]GIFTS data'!A191","v":201700105},{"$f":"CONCATENATE(\"Grant to \",'[1]GIFTS data'!F191)","v":"Grant to Response Organisation"},{"$f":"'[1]GIFTS data'!B191","v":"Refurbishment building for a charity which works people with mental health issues in Oxford"},{"$f":"'[1]Transformation sheet'!$B$2","v":"GBP"},{"$f":"'[1]GIFTS data'!C191","v":30000},{"$f":"'[1]GIFTS data'!D191","v":"2018-03-27"},{"$f":"IF(LEFT('[1]GIFTS data'!G191,3)=\"SC0\",\"GB-SC-\"&'[1]GIFTS data'!G191,IF(LEN('[1]GIFTS data'!G191)=8,\"GB-COH-\"&'[1]GIFTS data'!G191,IF(LEFT('[1]GIFTS data'!G191,1)=\"X\",\"GB-REV-\"&'[1]GIFTS data'!G191,IF(AND(LEN('[1]GIFTS data'!G191)=7,LEFT('[1]GIFTS data'!G191,1)=\"1\"),\"GB-CHC-\"&'[1]GIFTS data'!G191,IF(LEN('[1]GIFTS data'!G191)=7,\"GB-COH-0\"&'[1]GIFTS data'!G191,IF(LEFT('[1]GIFTS data'!G191,3)=\"NIC\",\"GB-NIC-\"&RIGHT('[1]GIFTS data'!G191,LEN('[1]GIFTS data'!G191)-3),IF(LEN('[1]GIFTS data'!G191)=6,\"GB-CHC-\"&'[1]GIFTS data'!G191,'[1]Transformation sheet'!$B$3&'[1]GIFTS data'!E191)))))))","v":"GB-CHC-1101071"},{"$f":"'[1]GIFTS data'!F191","v":"Response Organisation"},{"$f":"'[1]GIFTS data'!G191","v":1101071},{"$f":"'[1]GIFTS data'!J191","v":"Oxford"},{"$f":"'[1]GIFTS data'!I191","v":"OX4 4SU"},{"$f":"'[1]GIFTS data'!H191","v":"South East"},{"$f":"IF(OR('[1]GIFTS data'!K191=\"4. Proactive Programme\",'[1]GIFTS data'!K191=\"3. Regular Grants Programme\"),\"No\",\"Yes\")","v":"Yes"},{"$f":"RIGHT('[1]GIFTS data'!K191,LEN('[1]GIFTS data'!K191)-3)","v":"Main Grants Programme"},{"$f":"'[1]Transformation sheet'!$B$8","v":"GB-CHC-274100"},{"$f":"'[1]Transformation sheet'!$B$9","v":"The Clothworkers Foundation"},"https://www.clothworkersfoundation.org.uk/",{"$f":"'[1]Transformation sheet'!$B$11","v":"2019-05-31"},{"$f":"IF(OR('[1]GIFTS data'!K191=\"4. Proactive Programme\",'[1]GIFTS data'!K191=\"3. Regular Grants Programme\"),\"Revenue\",\"Capital\")","v":"Capital"}]
[{"$f":"CONCATENATE('[1]Transformation sheet'!$B$1,'[1]GIFTS data'!A192)","v":"360G-ClothworkersFdn-201700384"},{"$f":"'[1]GIFTS data'!A192","v":201700384},{"$f":"CONCATENATE(\"Grant to \",'[1]GIFTS data'!F192)","v":"Grant to Richmond Psychosocial Foundation International (RPFI)"},{"$f":"'[1]GIFTS data'!B192","v":"purchase of furniture goods for a charity which works with disabled people in London"},{"$f":"'[1]Transformation sheet'!$B$2","v":"GBP"},{"$f":"'[1]GIFTS data'!C192","v":19000},{"$f":"'[1]GIFTS data'!D192","v":"2018-02-08"},{"$f":"IF(LEFT('[1]GIFTS data'!G192,3)=\"SC0\",\"GB-SC-\"&'[1]GIFTS data'!G192,IF(LEN('[1]GIFTS data'!G192)=8,\"GB-COH-\"&'[1]GIFTS data'!G192,IF(LEFT('[1]GIFTS data'!G192,1)=\"X\",\"GB-REV-\"&'[1]GIFTS data'!G192,IF(AND(LEN('[1]GIFTS data'!G192)=7,LEFT('[1]GIFTS data'!G192,1)=\"1\"),\"GB-CHC-\"&'[1]GIFTS data'!G192,IF(LEN('[1]GIFTS data'!G192)=7,\"GB-COH-0\"&'[1]GIFTS data'!G192,IF(LEFT('[1]GIFTS data'!G192,3)=\"NIC\",\"GB-NIC-\"&RIGHT('[1]GIFTS data'!G192,LEN('[1]GIFTS data'!G192)-3),IF(LEN('[1]GIFTS data'!G192)=6,\"GB-CHC-\"&'[1]GIFTS data'!G192,'[1]Transformation sheet'!$B$3&'[1]GIFTS data'!E192)))))))","v":"GB-CHC-116206"},{"$f":"'[1]GIFTS data'!F192","v":"Richmond Psychosocial Foundation International (RPFI)"},{"$f":"'[1]GIFTS data'!G192","v":116206},{"$f":"'[1]GIFTS data'!J192","v":"London"},{"$f":"'[1]GIFTS data'!I192","v":"TW2 7QN"},{"$f":"'[1]GIFTS data'!H192","v":"Greater London"},{"$f":"IF(OR('[1]GIFTS data'!K192=\"4. Proactive Programme\",'[1]GIFTS data'!K192=\"3. Regular Grants Programme\"),\"No\",\"Yes\")","v":"Yes"},{"$f":"RIGHT('[1]GIFTS data'!K192,LEN('[1]GIFTS data'!K192)-3)","v":"Main Grants Programme"},{"$f":"'[1]Transformation sheet'!$B$8","v":"GB-CHC-274100"},{"$f":"'[1]Transformation sheet'!$B$9","v":"The Clothworkers Foundation"},"https://www.clothworkersfoundation.org.uk/",{"$f":"'[1]Transformation sheet'!$B$11","v":"2019-05-31"},{"$f":"IF(OR('[1]GIFTS data'!K192=\"4. Proactive Programme\",'[1]GIFTS data'!K192=\"3. Regular Grants Programme\"),\"Revenue\",\"Capital\")","v":"Capital"}]
[{"$f":"CONCATENATE('[1]Transformation sheet'!$B$1,'[1]GIFTS data'!A193)","v":"360G-ClothworkersFdn-201700419"},{"$f":"'[1]GIFTS data'!A193","v":201700419},{"$f":"CONCATENATE(\"Grant to \",'[1]GIFTS data'!F193)","v":"Grant to Riding for the Disabled Association Incorporating Carriage Driving"},{"$f":"'[1]GIFTS data'!B193","v":"construction and refurbishment of riding arenas for a charity which works with disabled people in Warwick"},{"$f":"'[1]Transformation sheet'!$B$2","v":"GBP"},{"$f":"'[1]GIFTS data'!C193","v":100000},{"$f":"'[1]GIFTS data'!D193","v":"2018-03-27"},{"$f":"IF(LEFT('[1]GIFTS data'!G193,3)=\"SC0\",\"GB-SC-\"&'[1]GIFTS data'!G193,IF(LEN('[1]GIFTS data'!G193)=8,\"GB-COH-\"&'[1]GIFTS data'!G193,IF(LEFT('[1]GIFTS data'!G193,1)=\"X\",\"GB-REV-\"&'[1]GIFTS data'!G193,IF(AND(LEN('[1]GIFTS data'!G193)=7,LEFT('[1]GIFTS data'!G193,1)=\"1\"),\"GB-CHC-\"&'[1]GIFTS data'!G193,IF(LEN('[1]GIFTS data'!G193)=7,\"GB-COH-0\"&'[1]GIFTS data'!G193,IF(LEFT('[1]GIFTS data'!G193,3)=\"NIC\",\"GB-NIC-\"&RIGHT('[1]GIFTS data'!G193,LEN('[1]GIFTS data'!G193)-3),IF(LEN('[1]GIFTS data'!G193)=6,\"GB-CHC-\"&'[1]GIFTS data'!G193,'[1]Transformation sheet'!$B$3&'[1]GIFTS data'!E193)))))))","v":"GB-SC-SC039473"},{"$f":"'[1]GIFTS data'!F193","v":"Riding for the Disabled Association Incorporating Carriage Driving"},{"$f":"'[1]GIFTS data'!G193","v":"SC039473"},{"$f":"'[1]GIFTS data'!J193","v":"Warwick"},{"$f":"'[1]GIFTS data'!I193","v":"CV34 6LG"},{"$f":"'[1]GIFTS data'!H193","v":"West Midlands"},{"$f":"IF(OR('[1]GIFTS data'!K193=\"4. Proactive Programme\",'[1]GIFTS data'!K193=\"3. Regular Grants Programme\"),\"No\",\"Yes\")","v":"Yes"},{"$f":"RIGHT('[1]GIFTS data'!K193,LEN('[1]GIFTS data'!K193)-3)","v":"Main Grants Programme"},{"$f":"'[1]Transformation sheet'!$B$8","v":"GB-CHC-274100"},{"$f":"'[1]Transformation sheet'!$B$9","v":"The Clothworkers Foundation"},"https://www.clothworkersfoundation.org.uk/",{"$f":"'[1]Transformation sheet'!$B$11","v":"2019-05-31"},{"$f":"IF(OR('[1]GIFTS data'!K193=\"4. Proactive Programme\",'[1]GIFTS data'!K193=\"3. Regular Grants Programme\"),\"Revenue\",\"Capital\")","v":"Capital"}]
[{"$f":"CONCATENATE('[1]Transformation sheet'!$B$1,'[1]GIFTS data'!A194)","v":"360G-ClothworkersFdn-201700667"},{"$f":"'[1]GIFTS data'!A194","v":201700667},{"$f":"CONCATENATE(\"Grant to \",'[1]GIFTS data'!F194)","v":"Grant to Riverside Active Lives Network"},{"$f":"'[1]GIFTS data'!B194","v":"We are applying for a grant to replace a Mini bus, following a theft, which is required and vital for the services we provide at our organisation."},{"$f":"'[1]Transformation sheet'!$B$2","v":"GBP"},{"$f":"'[1]GIFTS data'!C194","v":15000},{"$f":"'[1]GIFTS data'!D194","v":"2018-06-21"},{"$f":"IF(LEFT('[1]GIFTS data'!G194,3)=\"SC0\",\"GB-SC-\"&'[1]GIFTS data'!G194,IF(LEN('[1]GIFTS data'!G194)=8,\"GB-COH-\"&'[1]GIFTS data'!G194,IF(LEFT('[1]GIFTS data'!G194,1)=\"X\",\"GB-REV-\"&'[1]GIFTS data'!G194,IF(AND(LEN('[1]GIFTS data'!G194)=7,LEFT('[1]GIFTS data'!G194,1)=\"1\"),\"GB-CHC-\"&'[1]GIFTS data'!G194,IF(LEN('[1]GIFTS data'!G194)=7,\"GB-COH-0\"&'[1]GIFTS data'!G194,IF(LEFT('[1]GIFTS data'!G194,3)=\"NIC\",\"GB-NIC-\"&RIGHT('[1]GIFTS data'!G194,LEN('[1]GIFTS data'!G194)-3),IF(LEN('[1]GIFTS data'!G194)=6,\"GB-CHC-\"&'[1]GIFTS data'!G194,'[1]Transformation sheet'!$B$3&'[1]GIFTS data'!E194)))))))","v":"GB-CHC-1158529"},{"$f":"'[1]GIFTS data'!F194","v":"Riverside Active Lives Network"},{"$f":"'[1]GIFTS data'!G194","v":1158529},{"$f":"'[1]GIFTS data'!J194","v":"GRAVESEND"},{"$f":"'[1]GIFTS data'!I194","v":"DA12 2JY"},{"$f":"'[1]GIFTS data'!H194","v":"South East"},{"$f":"IF(OR('[1]GIFTS data'!K194=\"4. Proactive Programme\",'[1]GIFTS data'!K194=\"3. Regular Grants Programme\"),\"No\",\"Yes\")","v":"Yes"},{"$f":"RIGHT('[1]GIFTS data'!K194,LEN('[1]GIFTS data'!K194)-3)","v":"Small Grants Programme"},{"$f":"'[1]Transformation sheet'!$B$8","v":"GB-CHC-274100"},{"$f":"'[1]Transformation sheet'!$B$9","v":"The Clothworkers Foundation"},"https://www.clothworkersfoundation.org.uk/",{"$f":"'[1]Transformation sheet'!$B$11","v":"2019-05-31"},{"$f":"IF(OR('[1]GIFTS data'!K194=\"4. Proactive Programme\",'[1]GIFTS data'!K194=\"3. Regular Grants Programme\"),\"Revenue\",\"Capital\")","v":"Capital"}]
[{"$f":"CONCATENATE('[1]Transformation sheet'!$B$1,'[1]GIFTS data'!A195)","v":"360G-ClothworkersFdn-200805317.02"},{"$f":"'[1]GIFTS data'!A195","v":200805317.02000001},{"$f":"CONCATENATE(\"Grant to \",'[1]GIFTS data'!F195)","v":"Grant to Royal Institution of Great Britain"},{"$f":"'[1]GIFTS data'!B195","v":"Continuation of the mathematics enrichment and enhancement programme for disadvantaged state schools in 2018/19"},{"$f":"'[1]Transformation sheet'!$B$2","v":"GBP"},{"$f":"'[1]GIFTS data'!C195","v":25000},{"$f":"'[1]GIFTS data'!D195","v":"2018-05-17"},{"$f":"IF(LEFT('[1]GIFTS data'!G195,3)=\"SC0\",\"GB-SC-\"&'[1]GIFTS data'!G195,IF(LEN('[1]GIFTS data'!G195)=8,\"GB-COH-\"&'[1]GIFTS data'!G195,IF(LEFT('[1]GIFTS data'!G195,1)=\"X\",\"GB-REV-\"&'[1]GIFTS data'!G195,IF(AND(LEN('[1]GIFTS data'!G195)=7,LEFT('[1]GIFTS data'!G195,1)=\"1\"),\"GB-CHC-\"&'[1]GIFTS data'!G195,IF(LEN('[1]GIFTS data'!G195)=7,\"GB-COH-0\"&'[1]GIFTS data'!G195,IF(LEFT('[1]GIFTS data'!G195,3)=\"NIC\",\"GB-NIC-\"&RIGHT('[1]GIFTS data'!G195,LEN('[1]GIFTS data'!G195)-3),IF(LEN('[1]GIFTS data'!G195)=6,\"GB-CHC-\"&'[1]GIFTS data'!G195,'[1]Transformation sheet'!$B$3&'[1]GIFTS data'!E195)))))))","v":"GB-CHC-227938"},{"$f":"'[1]GIFTS data'!F195","v":"Royal Institution of Great Britain"},{"$f":"'[1]GIFTS data'!G195","v":227938},{"$f":"'[1]GIFTS data'!J195","v":" "},{"$f":"'[1]GIFTS data'!I195","v":"W1S 4BS"},{"$f":"'[1]GIFTS data'!H195","v":"National"},{"$f":"IF(OR('[1]GIFTS data'!K195=\"4. Proactive Programme\",'[1]GIFTS data'!K195=\"3. Regular Grants Programme\"),\"No\",\"Yes\")","v":"Yes"},{"$f":"RIGHT('[1]GIFTS data'!K195,LEN('[1]GIFTS data'!K195)-3)","v":"Main Grants Programme"},{"$f":"'[1]Transformation sheet'!$B$8","v":"GB-CHC-274100"},{"$f":"'[1]Transformation sheet'!$B$9","v":"The Clothworkers Foundation"},"https://www.clothworkersfoundation.org.uk/",{"$f":"'[1]Transformation sheet'!$B$11","v":"2019-05-31"},{"$f":"IF(OR('[1]GIFTS data'!K195=\"4. Proactive Programme\",'[1]GIFTS data'!K195=\"3. Regular Grants Programme\"),\"Revenue\",\"Capital\")","v":"Capital"}]
[{"$f":"CONCATENATE('[1]Transformation sheet'!$B$1,'[1]GIFTS data'!A196)","v":"360G-ClothworkersFdn-201700821"},{"$f":"'[1]GIFTS data'!A196","v":201700821},{"$f":"CONCATENATE(\"Grant to \",'[1]GIFTS data'!F196)","v":"Grant to Rygbi Gogledd Cymru Wheelchair Rugby"},{"$f":"'[1]GIFTS data'!B196","v":"purchase of wheelchairs and sports kit for a charity which works with people with disabilities in Wales"},{"$f":"'[1]Transformation sheet'!$B$2","v":"GBP"},{"$f":"'[1]GIFTS data'!C196","v":10000},{"$f":"'[1]GIFTS data'!D196","v":"2018-08-31"},{"$f":"IF(LEFT('[1]GIFTS data'!G196,3)=\"SC0\",\"GB-SC-\"&'[1]GIFTS data'!G196,IF(LEN('[1]GIFTS data'!G196)=8,\"GB-COH-\"&'[1]GIFTS data'!G196,IF(LEFT('[1]GIFTS data'!G196,1)=\"X\",\"GB-REV-\"&'[1]GIFTS data'!G196,IF(AND(LEN('[1]GIFTS data'!G196)=7,LEFT('[1]GIFTS data'!G196,1)=\"1\"),\"GB-CHC-\"&'[1]GIFTS data'!G196,IF(LEN('[1]GIFTS data'!G196)=7,\"GB-COH-0\"&'[1]GIFTS data'!G196,IF(LEFT('[1]GIFTS data'!G196,3)=\"NIC\",\"GB-NIC-\"&RIGHT('[1]GIFTS data'!G196,LEN('[1]GIFTS data'!G196)-3),IF(LEN('[1]GIFTS data'!G196)=6,\"GB-CHC-\"&'[1]GIFTS data'!G196,'[1]Transformation sheet'!$B$3&'[1]GIFTS data'!E196)))))))","v":"GB-CHC-1169093"},{"$f":"'[1]GIFTS data'!F196","v":"Rygbi Gogledd Cymru Wheelchair Rugby"},{"$f":"'[1]GIFTS data'!G196","v":1169093},{"$f":"'[1]GIFTS data'!J196","v":"Colwyn Bay"},{"$f":"'[1]GIFTS data'!I196","v":"LL29 7SP"},{"$f":"'[1]GIFTS data'!H196","v":"Wales"},{"$f":"IF(OR('[1]GIFTS data'!K196=\"4. Proactive Programme\",'[1]GIFTS data'!K196=\"3. Regular Grants Programme\"),\"No\",\"Yes\")","v":"Yes"},{"$f":"RIGHT('[1]GIFTS data'!K196,LEN('[1]GIFTS data'!K196)-3)","v":"Small Grants Programme"},{"$f":"'[1]Transformation sheet'!$B$8","v":"GB-CHC-274100"},{"$f":"'[1]Transformation sheet'!$B$9","v":"The Clothworkers Foundation"},"https://www.clothworkersfoundation.org.uk/",{"$f":"'[1]Transformation sheet'!$B$11","v":"2019-05-31"},{"$f":"IF(OR('[1]GIFTS data'!K196=\"4. Proactive Programme\",'[1]GIFTS data'!K196=\"3. Regular Grants Programme\"),\"Revenue\",\"Capital\")","v":"Capital"}]
[{"$f":"CONCATENATE('[1]Transformation sheet'!$B$1,'[1]GIFTS data'!A197)","v":"360G-ClothworkersFdn-201700738"},{"$f":"'[1]GIFTS data'!A197","v":201700738},{"$f":"CONCATENATE(\"Grant to \",'[1]GIFTS data'!F197)","v":"Grant to S Pinter Youth project"},{"$f":"'[1]GIFTS data'!B197","v":"purchase of 30 hoverboards and 15 hovercraft attachments for a charity which works with disadvantaged young people in North London"},{"$f":"'[1]Transformation sheet'!$B$2","v":"GBP"},{"$f":"'[1]GIFTS data'!C197","v":5000},{"$f":"'[1]GIFTS data'!D197","v":"2018-07-19"},{"$f":"IF(LEFT('[1]GIFTS data'!G197,3)=\"SC0\",\"GB-SC-\"&'[1]GIFTS data'!G197,IF(LEN('[1]GIFTS data'!G197)=8,\"GB-COH-\"&'[1]GIFTS data'!G197,IF(LEFT('[1]GIFTS data'!G197,1)=\"X\",\"GB-REV-\"&'[1]GIFTS data'!G197,IF(AND(LEN('[1]GIFTS data'!G197)=7,LEFT('[1]GIFTS data'!G197,1)=\"1\"),\"GB-CHC-\"&'[1]GIFTS data'!G197,IF(LEN('[1]GIFTS data'!G197)=7,\"GB-COH-0\"&'[1]GIFTS data'!G197,IF(LEFT('[1]GIFTS data'!G197,3)=\"NIC\",\"GB-NIC-\"&RIGHT('[1]GIFTS data'!G197,LEN('[1]GIFTS data'!G197)-3),IF(LEN('[1]GIFTS data'!G197)=6,\"GB-CHC-\"&'[1]GIFTS data'!G197,'[1]Transformation sheet'!$B$3&'[1]GIFTS data'!E197)))))))","v":"GB-CHC-1103054"},{"$f":"'[1]GIFTS data'!F197","v":"S Pinter Youth project"},{"$f":"'[1]GIFTS data'!G197","v":1103054},{"$f":"'[1]GIFTS data'!J197","v":"London"},{"$f":"'[1]GIFTS data'!I197","v":"N15 6BE"},{"$f":"'[1]GIFTS data'!H197","v":"Greater London"},{"$f":"IF(OR('[1]GIFTS data'!K197=\"4. Proactive Programme\",'[1]GIFTS data'!K197=\"3. Regular Grants Programme\"),\"No\",\"Yes\")","v":"Yes"},{"$f":"RIGHT('[1]GIFTS data'!K197,LEN('[1]GIFTS data'!K197)-3)","v":"Small Grants Programme"},{"$f":"'[1]Transformation sheet'!$B$8","v":"GB-CHC-274100"},{"$f":"'[1]Transformation sheet'!$B$9","v":"The Clothworkers Foundation"},"https://www.clothworkersfoundation.org.uk/",{"$f":"'[1]Transformation sheet'!$B$11","v":"2019-05-31"},{"$f":"IF(OR('[1]GIFTS data'!K197=\"4. Proactive Programme\",'[1]GIFTS data'!K197=\"3. Regular Grants Programme\"),\"Revenue\",\"Capital\")","v":"Capital"}]
[{"$f":"CONCATENATE('[1]Transformation sheet'!$B$1,'[1]GIFTS data'!A198)","v":"360G-ClothworkersFdn-201700570"},{"$f":"'[1]GIFTS data'!A198","v":201700570},{"$f":"CONCATENATE(\"Grant to \",'[1]GIFTS data'!F198)","v":"Grant to SAFETY AWARENESS GLASGOW"},{"$f":"'[1]GIFTS data'!B198","v":"purchase of laptop, projector and sundries for a charity which works with disadvantaged minority communities"},{"$f":"'[1]Transformation sheet'!$B$2","v":"GBP"},{"$f":"'[1]GIFTS data'!C198","v":800},{"$f":"'[1]GIFTS data'!D198","v":"2018-04-11"},{"$f":"IF(LEFT('[1]GIFTS data'!G198,3)=\"SC0\",\"GB-SC-\"&'[1]GIFTS data'!G198,IF(LEN('[1]GIFTS data'!G198)=8,\"GB-COH-\"&'[1]GIFTS data'!G198,IF(LEFT('[1]GIFTS data'!G198,1)=\"X\",\"GB-REV-\"&'[1]GIFTS data'!G198,IF(AND(LEN('[1]GIFTS data'!G198)=7,LEFT('[1]GIFTS data'!G198,1)=\"1\"),\"GB-CHC-\"&'[1]GIFTS data'!G198,IF(LEN('[1]GIFTS data'!G198)=7,\"GB-COH-0\"&'[1]GIFTS data'!G198,IF(LEFT('[1]GIFTS data'!G198,3)=\"NIC\",\"GB-NIC-\"&RIGHT('[1]GIFTS data'!G198,LEN('[1]GIFTS data'!G198)-3),IF(LEN('[1]GIFTS data'!G198)=6,\"GB-CHC-\"&'[1]GIFTS data'!G198,'[1]Transformation sheet'!$B$3&'[1]GIFTS data'!E198)))))))","v":"GB-SC-SC045812"},{"$f":"'[1]GIFTS data'!F198","v":"SAFETY AWARENESS GLASGOW"},{"$f":"'[1]GIFTS data'!G198","v":"SC045812"},{"$f":"'[1]GIFTS data'!J198","v":"GLASGOW"},{"$f":"'[1]GIFTS data'!I198","v":"G51 3BX"},{"$f":"'[1]GIFTS data'!H198","v":"Scotland"},{"$f":"IF(OR('[1]GIFTS data'!K198=\"4. Proactive Programme\",'[1]GIFTS data'!K198=\"3. Regular Grants Programme\"),\"No\",\"Yes\")","v":"Yes"},{"$f":"RIGHT('[1]GIFTS data'!K198,LEN('[1]GIFTS data'!K198)-3)","v":"Small Grants Programme"},{"$f":"'[1]Transformation sheet'!$B$8","v":"GB-CHC-274100"},{"$f":"'[1]Transformation sheet'!$B$9","v":"The Clothworkers Foundation"},"https://www.clothworkersfoundation.org.uk/",{"$f":"'[1]Transformation sheet'!$B$11","v":"2019-05-31"},{"$f":"IF(OR('[1]GIFTS data'!K198=\"4. Proactive Programme\",'[1]GIFTS data'!K198=\"3. Regular Grants Programme\"),\"Revenue\",\"Capital\")","v":"Capital"}]
[{"$f":"CONCATENATE('[1]Transformation sheet'!$B$1,'[1]GIFTS data'!A199)","v":"360G-ClothworkersFdn-201700427"},{"$f":"'[1]GIFTS data'!A199","v":201700427},{"$f":"CONCATENATE(\"Grant to \",'[1]GIFTS data'!F199)","v":"Grant to Saheliya"},{"$f":"'[1]GIFTS data'!B199","v":"renovation and refurbishment of a building for a charity which works with disadvantaged minority communities in Edinburgh"},{"$f":"'[1]Transformation sheet'!$B$2","v":"GBP"},{"$f":"'[1]GIFTS data'!C199","v":16000},{"$f":"'[1]GIFTS data'!D199","v":"2018-02-08"},{"$f":"IF(LEFT('[1]GIFTS data'!G199,3)=\"SC0\",\"GB-SC-\"&'[1]GIFTS data'!G199,IF(LEN('[1]GIFTS data'!G199)=8,\"GB-COH-\"&'[1]GIFTS data'!G199,IF(LEFT('[1]GIFTS data'!G199,1)=\"X\",\"GB-REV-\"&'[1]GIFTS data'!G199,IF(AND(LEN('[1]GIFTS data'!G199)=7,LEFT('[1]GIFTS data'!G199,1)=\"1\"),\"GB-CHC-\"&'[1]GIFTS data'!G199,IF(LEN('[1]GIFTS data'!G199)=7,\"GB-COH-0\"&'[1]GIFTS data'!G199,IF(LEFT('[1]GIFTS data'!G199,3)=\"NIC\",\"GB-NIC-\"&RIGHT('[1]GIFTS data'!G199,LEN('[1]GIFTS data'!G199)-3),IF(LEN('[1]GIFTS data'!G199)=6,\"GB-CHC-\"&'[1]GIFTS data'!G199,'[1]Transformation sheet'!$B$3&'[1]GIFTS data'!E199)))))))","v":"GB-COH-SC209861"},{"$f":"'[1]GIFTS data'!F199","v":"Saheliya"},{"$f":"'[1]GIFTS data'!G199","v":"SC209861"},{"$f":"'[1]GIFTS data'!J199","v":"Edinburgh"},{"$f":"'[1]GIFTS data'!I199","v":"EH7 4NU"},{"$f":"'[1]GIFTS data'!H199","v":"Scotland"},{"$f":"IF(OR('[1]GIFTS data'!K199=\"4. Proactive Programme\",'[1]GIFTS data'!K199=\"3. Regular Grants Programme\"),\"No\",\"Yes\")","v":"Yes"},{"$f":"RIGHT('[1]GIFTS data'!K199,LEN('[1]GIFTS data'!K199)-3)","v":"Main Grants Programme"},{"$f":"'[1]Transformation sheet'!$B$8","v":"GB-CHC-274100"},{"$f":"'[1]Transformation sheet'!$B$9","v":"The Clothworkers Foundation"},"https://www.clothworkersfoundation.org.uk/",{"$f":"'[1]Transformation sheet'!$B$11","v":"2019-05-31"},{"$f":"IF(OR('[1]GIFTS data'!K199=\"4. Proactive Programme\",'[1]GIFTS data'!K199=\"3. Regular Grants Programme\"),\"Revenue\",\"Capital\")","v":"Capital"}]
[{"$f":"CONCATENATE('[1]Transformation sheet'!$B$1,'[1]GIFTS data'!A200)","v":"360G-ClothworkersFdn-201700398"},{"$f":"'[1]GIFTS data'!A200","v":201700398},{"$f":"CONCATENATE(\"Grant to \",'[1]GIFTS data'!F200)","v":"Grant to SATRO"},{"$f":"'[1]GIFTS data'!B200","v":"purchase of van for a charity which works with disadvantaged young people in Guildford"},{"$f":"'[1]Transformation sheet'!$B$2","v":"GBP"},{"$f":"'[1]GIFTS data'!C200","v":15000},{"$f":"'[1]GIFTS data'!D200","v":"2018-02-08"},{"$f":"IF(LEFT('[1]GIFTS data'!G200,3)=\"SC0\",\"GB-SC-\"&'[1]GIFTS data'!G200,IF(LEN('[1]GIFTS data'!G200)=8,\"GB-COH-\"&'[1]GIFTS data'!G200,IF(LEFT('[1]GIFTS data'!G200,1)=\"X\",\"GB-REV-\"&'[1]GIFTS data'!G200,IF(AND(LEN('[1]GIFTS data'!G200)=7,LEFT('[1]GIFTS data'!G200,1)=\"1\"),\"GB-CHC-\"&'[1]GIFTS data'!G200,IF(LEN('[1]GIFTS data'!G200)=7,\"GB-COH-0\"&'[1]GIFTS data'!G200,IF(LEFT('[1]GIFTS data'!G200,3)=\"NIC\",\"GB-NIC-\"&RIGHT('[1]GIFTS data'!G200,LEN('[1]GIFTS data'!G200)-3),IF(LEN('[1]GIFTS data'!G200)=6,\"GB-CHC-\"&'[1]GIFTS data'!G200,'[1]Transformation sheet'!$B$3&'[1]GIFTS data'!E200)))))))","v":"GB-CHC-1040572"},{"$f":"'[1]GIFTS data'!F200","v":"SATRO"},{"$f":"'[1]GIFTS data'!G200","v":1040572},{"$f":"'[1]GIFTS data'!J200","v":"Guildford"},{"$f":"'[1]GIFTS data'!I200","v":"GU2 7YG"},{"$f":"'[1]GIFTS data'!H200","v":"South East"},{"$f":"IF(OR('[1]GIFTS data'!K200=\"4. Proactive Programme\",'[1]GIFTS data'!K200=\"3. Regular Grants Programme\"),\"No\",\"Yes\")","v":"Yes"},{"$f":"RIGHT('[1]GIFTS data'!K200,LEN('[1]GIFTS data'!K200)-3)","v":"Main Grants Programme"},{"$f":"'[1]Transformation sheet'!$B$8","v":"GB-CHC-274100"},{"$f":"'[1]Transformation sheet'!$B$9","v":"The Clothworkers Foundation"},"https://www.clothworkersfoundation.org.uk/",{"$f":"'[1]Transformation sheet'!$B$11","v":"2019-05-31"},{"$f":"IF(OR('[1]GIFTS data'!K200=\"4. Proactive Programme\",'[1]GIFTS data'!K200=\"3. Regular Grants Programme\"),\"Revenue\",\"Capital\")","v":"Capital"}]
[{"$f":"CONCATENATE('[1]Transformation sheet'!$B$1,'[1]GIFTS data'!A201)","v":"360G-ClothworkersFdn-201700472"},{"$f":"'[1]GIFTS data'!A201","v":201700472},{"$f":"CONCATENATE(\"Grant to \",'[1]GIFTS data'!F201)","v":"Grant to Scarborough Social Action Centre (St Mary's With Holy Apostles)"},{"$f":"'[1]GIFTS data'!B201","v":"purchase of a van for a charity which works with homeless persons in Scarborough"},{"$f":"'[1]Transformation sheet'!$B$2","v":"GBP"},{"$f":"'[1]GIFTS data'!C201","v":12000},{"$f":"'[1]GIFTS data'!D201","v":"2018-01-30"},{"$f":"IF(LEFT('[1]GIFTS data'!G201,3)=\"SC0\",\"GB-SC-\"&'[1]GIFTS data'!G201,IF(LEN('[1]GIFTS data'!G201)=8,\"GB-COH-\"&'[1]GIFTS data'!G201,IF(LEFT('[1]GIFTS data'!G201,1)=\"X\",\"GB-REV-\"&'[1]GIFTS data'!G201,IF(AND(LEN('[1]GIFTS data'!G201)=7,LEFT('[1]GIFTS data'!G201,1)=\"1\"),\"GB-CHC-\"&'[1]GIFTS data'!G201,IF(LEN('[1]GIFTS data'!G201)=7,\"GB-COH-0\"&'[1]GIFTS data'!G201,IF(LEFT('[1]GIFTS data'!G201,3)=\"NIC\",\"GB-NIC-\"&RIGHT('[1]GIFTS data'!G201,LEN('[1]GIFTS data'!G201)-3),IF(LEN('[1]GIFTS data'!G201)=6,\"GB-CHC-\"&'[1]GIFTS data'!G201,'[1]Transformation sheet'!$B$3&'[1]GIFTS data'!E201)))))))","v":"GB-CHC-1071090"},{"$f":"'[1]GIFTS data'!F201","v":"Scarborough Social Action Centre (St Mary's With Holy Apostles)"},{"$f":"'[1]GIFTS data'!G201","v":1071090},{"$f":"'[1]GIFTS data'!J201","v":"Scarborough"},{"$f":"'[1]GIFTS data'!I201","v":"YO11 1TH"},{"$f":"'[1]GIFTS data'!H201","v":"Yorks & Humberside"},{"$f":"IF(OR('[1]GIFTS data'!K201=\"4. Proactive Programme\",'[1]GIFTS data'!K201=\"3. Regular Grants Programme\"),\"No\",\"Yes\")","v":"Yes"},{"$f":"RIGHT('[1]GIFTS data'!K201,LEN('[1]GIFTS data'!K201)-3)","v":"Small Grants Programme"},{"$f":"'[1]Transformation sheet'!$B$8","v":"GB-CHC-274100"},{"$f":"'[1]Transformation sheet'!$B$9","v":"The Clothworkers Foundation"},"https://www.clothworkersfoundation.org.uk/",{"$f":"'[1]Transformation sheet'!$B$11","v":"2019-05-31"},{"$f":"IF(OR('[1]GIFTS data'!K201=\"4. Proactive Programme\",'[1]GIFTS data'!K201=\"3. Regular Grants Programme\"),\"Revenue\",\"Capital\")","v":"Capital"}]
[{"$f":"CONCATENATE('[1]Transformation sheet'!$B$1,'[1]GIFTS data'!A202)","v":"360G-ClothworkersFdn-201700825"},{"$f":"'[1]GIFTS data'!A202","v":201700825},{"$f":"CONCATENATE(\"Grant to \",'[1]GIFTS data'!F202)","v":"Grant to Scrubditch Care Farm"},{"$f":"'[1]GIFTS data'!B202","v":"construction of a farm building, parking and track for a charity which works with people with disabilities in Cirencester"},{"$f":"'[1]Transformation sheet'!$B$2","v":"GBP"},{"$f":"'[1]GIFTS data'!C202","v":10000},{"$f":"'[1]GIFTS data'!D202","v":"2018-09-26"},{"$f":"IF(LEFT('[1]GIFTS data'!G202,3)=\"SC0\",\"GB-SC-\"&'[1]GIFTS data'!G202,IF(LEN('[1]GIFTS data'!G202)=8,\"GB-COH-\"&'[1]GIFTS data'!G202,IF(LEFT('[1]GIFTS data'!G202,1)=\"X\",\"GB-REV-\"&'[1]GIFTS data'!G202,IF(AND(LEN('[1]GIFTS data'!G202)=7,LEFT('[1]GIFTS data'!G202,1)=\"1\"),\"GB-CHC-\"&'[1]GIFTS data'!G202,IF(LEN('[1]GIFTS data'!G202)=7,\"GB-COH-0\"&'[1]GIFTS data'!G202,IF(LEFT('[1]GIFTS data'!G202,3)=\"NIC\",\"GB-NIC-\"&RIGHT('[1]GIFTS data'!G202,LEN('[1]GIFTS data'!G202)-3),IF(LEN('[1]GIFTS data'!G202)=6,\"GB-CHC-\"&'[1]GIFTS data'!G202,'[1]Transformation sheet'!$B$3&'[1]GIFTS data'!E202)))))))","v":"GB-CHC-1153460"},{"$f":"'[1]GIFTS data'!F202","v":"Scrubditch Care Farm"},{"$f":"'[1]GIFTS data'!G202","v":1153460},{"$f":"'[1]GIFTS data'!J202","v":"Cirencester"},{"$f":"'[1]GIFTS data'!I202","v":"GL7 7DZ"},{"$f":"'[1]GIFTS data'!H202","v":"South West"},{"$f":"IF(OR('[1]GIFTS data'!K202=\"4. Proactive Programme\",'[1]GIFTS data'!K202=\"3. Regular Grants Programme\"),\"No\",\"Yes\")","v":"Yes"},{"$f":"RIGHT('[1]GIFTS data'!K202,LEN('[1]GIFTS data'!K202)-3)","v":"Small Grants Programme"},{"$f":"'[1]Transformation sheet'!$B$8","v":"GB-CHC-274100"},{"$f":"'[1]Transformation sheet'!$B$9","v":"The Clothworkers Foundation"},"https://www.clothworkersfoundation.org.uk/",{"$f":"'[1]Transformation sheet'!$B$11","v":"2019-05-31"},{"$f":"IF(OR('[1]GIFTS data'!K202=\"4. Proactive Programme\",'[1]GIFTS data'!K202=\"3. Regular Grants Programme\"),\"Revenue\",\"Capital\")","v":"Capital"}]
[{"$f":"CONCATENATE('[1]Transformation sheet'!$B$1,'[1]GIFTS data'!A203)","v":"360G-ClothworkersFdn-201700885"},{"$f":"'[1]GIFTS data'!A203","v":201700885},{"$f":"CONCATENATE(\"Grant to \",'[1]GIFTS data'!F203)","v":"Grant to Sea-Change Projects"},{"$f":"'[1]GIFTS data'!B203","v":"fitting out of a boat for a charity which works with disadvantaged young people in Essex"},{"$f":"'[1]Transformation sheet'!$B$2","v":"GBP"},{"$f":"'[1]GIFTS data'!C203","v":10000},{"$f":"'[1]GIFTS data'!D203","v":"2018-11-02"},{"$f":"IF(LEFT('[1]GIFTS data'!G203,3)=\"SC0\",\"GB-SC-\"&'[1]GIFTS data'!G203,IF(LEN('[1]GIFTS data'!G203)=8,\"GB-COH-\"&'[1]GIFTS data'!G203,IF(LEFT('[1]GIFTS data'!G203,1)=\"X\",\"GB-REV-\"&'[1]GIFTS data'!G203,IF(AND(LEN('[1]GIFTS data'!G203)=7,LEFT('[1]GIFTS data'!G203,1)=\"1\"),\"GB-CHC-\"&'[1]GIFTS data'!G203,IF(LEN('[1]GIFTS data'!G203)=7,\"GB-COH-0\"&'[1]GIFTS data'!G203,IF(LEFT('[1]GIFTS data'!G203,3)=\"NIC\",\"GB-NIC-\"&RIGHT('[1]GIFTS data'!G203,LEN('[1]GIFTS data'!G203)-3),IF(LEN('[1]GIFTS data'!G203)=6,\"GB-CHC-\"&'[1]GIFTS data'!G203,'[1]Transformation sheet'!$B$3&'[1]GIFTS data'!E203)))))))","v":"GB-CHC-1125958"},{"$f":"'[1]GIFTS data'!F203","v":"Sea-Change Projects"},{"$f":"'[1]GIFTS data'!G203","v":1125958},{"$f":"'[1]GIFTS data'!J203","v":"Maldon"},{"$f":"'[1]GIFTS data'!I203","v":"CM9 5HG"},{"$f":"'[1]GIFTS data'!H203","v":"East"},{"$f":"IF(OR('[1]GIFTS data'!K203=\"4. Proactive Programme\",'[1]GIFTS data'!K203=\"3. Regular Grants Programme\"),\"No\",\"Yes\")","v":"Yes"},{"$f":"RIGHT('[1]GIFTS data'!K203,LEN('[1]GIFTS data'!K203)-3)","v":"Small Grants Programme"},{"$f":"'[1]Transformation sheet'!$B$8","v":"GB-CHC-274100"},{"$f":"'[1]Transformation sheet'!$B$9","v":"The Clothworkers Foundation"},"https://www.clothworkersfoundation.org.uk/",{"$f":"'[1]Transformation sheet'!$B$11","v":"2019-05-31"},{"$f":"IF(OR('[1]GIFTS data'!K203=\"4. Proactive Programme\",'[1]GIFTS data'!K203=\"3. Regular Grants Programme\"),\"Revenue\",\"Capital\")","v":"Capital"}]
[{"$f":"CONCATENATE('[1]Transformation sheet'!$B$1,'[1]GIFTS data'!A204)","v":"360G-ClothworkersFdn-201700494"},{"$f":"'[1]GIFTS data'!A204","v":201700494},{"$f":"CONCATENATE(\"Grant to \",'[1]GIFTS data'!F204)","v":"Grant to Self injury Support"},{"$f":"'[1]GIFTS data'!B204","v":"refurbishment of office and purchase of digital equipment for a charity which works with disabled people in Bristol"},{"$f":"'[1]Transformation sheet'!$B$2","v":"GBP"},{"$f":"'[1]GIFTS data'!C204","v":10000},{"$f":"'[1]GIFTS data'!D204","v":"2018-01-30"},{"$f":"IF(LEFT('[1]GIFTS data'!G204,3)=\"SC0\",\"GB-SC-\"&'[1]GIFTS data'!G204,IF(LEN('[1]GIFTS data'!G204)=8,\"GB-COH-\"&'[1]GIFTS data'!G204,IF(LEFT('[1]GIFTS data'!G204,1)=\"X\",\"GB-REV-\"&'[1]GIFTS data'!G204,IF(AND(LEN('[1]GIFTS data'!G204)=7,LEFT('[1]GIFTS data'!G204,1)=\"1\"),\"GB-CHC-\"&'[1]GIFTS data'!G204,IF(LEN('[1]GIFTS data'!G204)=7,\"GB-COH-0\"&'[1]GIFTS data'!G204,IF(LEFT('[1]GIFTS data'!G204,3)=\"NIC\",\"GB-NIC-\"&RIGHT('[1]GIFTS data'!G204,LEN('[1]GIFTS data'!G204)-3),IF(LEN('[1]GIFTS data'!G204)=6,\"GB-CHC-\"&'[1]GIFTS data'!G204,'[1]Transformation sheet'!$B$3&'[1]GIFTS data'!E204)))))))","v":"GB-CHC-1092299"},{"$f":"'[1]GIFTS data'!F204","v":"Self injury Support"},{"$f":"'[1]GIFTS data'!G204","v":1092299},{"$f":"'[1]GIFTS data'!J204","v":"Bristol"},{"$f":"'[1]GIFTS data'!I204","v":"BS2 2EF"},{"$f":"'[1]GIFTS data'!H204","v":"National"},{"$f":"IF(OR('[1]GIFTS data'!K204=\"4. Proactive Programme\",'[1]GIFTS data'!K204=\"3. Regular Grants Programme\"),\"No\",\"Yes\")","v":"Yes"},{"$f":"RIGHT('[1]GIFTS data'!K204,LEN('[1]GIFTS data'!K204)-3)","v":"Small Grants Programme"},{"$f":"'[1]Transformation sheet'!$B$8","v":"GB-CHC-274100"},{"$f":"'[1]Transformation sheet'!$B$9","v":"The Clothworkers Foundation"},"https://www.clothworkersfoundation.org.uk/",{"$f":"'[1]Transformation sheet'!$B$11","v":"2019-05-31"},{"$f":"IF(OR('[1]GIFTS data'!K204=\"4. Proactive Programme\",'[1]GIFTS data'!K204=\"3. Regular Grants Programme\"),\"Revenue\",\"Capital\")","v":"Capital"}]
[{"$f":"CONCATENATE('[1]Transformation sheet'!$B$1,'[1]GIFTS data'!A205)","v":"360G-ClothworkersFdn-201700586"},{"$f":"'[1]GIFTS data'!A205","v":201700586},{"$f":"CONCATENATE(\"Grant to \",'[1]GIFTS data'!F205)","v":"Grant to Shaw Centre"},{"$f":"'[1]GIFTS data'!B205","v":"purchase of furniture for a charity which works with disabled people in Manchester"},{"$f":"'[1]Transformation sheet'!$B$2","v":"GBP"},{"$f":"'[1]GIFTS data'!C205","v":1600},{"$f":"'[1]GIFTS data'!D205","v":"2018-04-11"},{"$f":"IF(LEFT('[1]GIFTS data'!G205,3)=\"SC0\",\"GB-SC-\"&'[1]GIFTS data'!G205,IF(LEN('[1]GIFTS data'!G205)=8,\"GB-COH-\"&'[1]GIFTS data'!G205,IF(LEFT('[1]GIFTS data'!G205,1)=\"X\",\"GB-REV-\"&'[1]GIFTS data'!G205,IF(AND(LEN('[1]GIFTS data'!G205)=7,LEFT('[1]GIFTS data'!G205,1)=\"1\"),\"GB-CHC-\"&'[1]GIFTS data'!G205,IF(LEN('[1]GIFTS data'!G205)=7,\"GB-COH-0\"&'[1]GIFTS data'!G205,IF(LEFT('[1]GIFTS data'!G205,3)=\"NIC\",\"GB-NIC-\"&RIGHT('[1]GIFTS data'!G205,LEN('[1]GIFTS data'!G205)-3),IF(LEN('[1]GIFTS data'!G205)=6,\"GB-CHC-\"&'[1]GIFTS data'!G205,'[1]Transformation sheet'!$B$3&'[1]GIFTS data'!E205)))))))","v":"GB-CHC-114187"},{"$f":"'[1]GIFTS data'!F205","v":"Shaw Centre"},{"$f":"'[1]GIFTS data'!G205","v":114187},{"$f":"'[1]GIFTS data'!J205","v":"Manchester"},{"$f":"'[1]GIFTS data'!I205","v":"M9 5UX"},{"$f":"'[1]GIFTS data'!H205","v":"North West"},{"$f":"IF(OR('[1]GIFTS data'!K205=\"4. Proactive Programme\",'[1]GIFTS data'!K205=\"3. Regular Grants Programme\"),\"No\",\"Yes\")","v":"Yes"},{"$f":"RIGHT('[1]GIFTS data'!K205,LEN('[1]GIFTS data'!K205)-3)","v":"Small Grants Programme"},{"$f":"'[1]Transformation sheet'!$B$8","v":"GB-CHC-274100"},{"$f":"'[1]Transformation sheet'!$B$9","v":"The Clothworkers Foundation"},"https://www.clothworkersfoundation.org.uk/",{"$f":"'[1]Transformation sheet'!$B$11","v":"2019-05-31"},{"$f":"IF(OR('[1]GIFTS data'!K205=\"4. Proactive Programme\",'[1]GIFTS data'!K205=\"3. Regular Grants Programme\"),\"Revenue\",\"Capital\")","v":"Capital"}]
[{"$f":"CONCATENATE('[1]Transformation sheet'!$B$1,'[1]GIFTS data'!A206)","v":"360G-ClothworkersFdn-201700020.01"},{"$f":"'[1]GIFTS data'!A206","v":201700020.00999999},{"$f":"CONCATENATE(\"Grant to \",'[1]GIFTS data'!F206)","v":"Grant to Sheriffs' and Recorder's Fund"},{"$f":"'[1]GIFTS data'!B206","v":"Towards making individual grants in 2018"},{"$f":"'[1]Transformation sheet'!$B$2","v":"GBP"},{"$f":"'[1]GIFTS data'!C206","v":5000},{"$f":"'[1]GIFTS data'!D206","v":"2018-02-08"},{"$f":"IF(LEFT('[1]GIFTS data'!G206,3)=\"SC0\",\"GB-SC-\"&'[1]GIFTS data'!G206,IF(LEN('[1]GIFTS data'!G206)=8,\"GB-COH-\"&'[1]GIFTS data'!G206,IF(LEFT('[1]GIFTS data'!G206,1)=\"X\",\"GB-REV-\"&'[1]GIFTS data'!G206,IF(AND(LEN('[1]GIFTS data'!G206)=7,LEFT('[1]GIFTS data'!G206,1)=\"1\"),\"GB-CHC-\"&'[1]GIFTS data'!G206,IF(LEN('[1]GIFTS data'!G206)=7,\"GB-COH-0\"&'[1]GIFTS data'!G206,IF(LEFT('[1]GIFTS data'!G206,3)=\"NIC\",\"GB-NIC-\"&RIGHT('[1]GIFTS data'!G206,LEN('[1]GIFTS data'!G206)-3),IF(LEN('[1]GIFTS data'!G206)=6,\"GB-CHC-\"&'[1]GIFTS data'!G206,'[1]Transformation sheet'!$B$3&'[1]GIFTS data'!E206)))))))","v":"GB-CHC-221927"},{"$f":"'[1]GIFTS data'!F206","v":"Sheriffs' and Recorder's Fund"},{"$f":"'[1]GIFTS data'!G206","v":221927},{"$f":"'[1]GIFTS data'!J206","v":" "},{"$f":"'[1]GIFTS data'!I206","v":"EC4M 7BS"},{"$f":"'[1]GIFTS data'!H206","v":"National"},{"$f":"IF(OR('[1]GIFTS data'!K206=\"4. Proactive Programme\",'[1]GIFTS data'!K206=\"3. Regular Grants Programme\"),\"No\",\"Yes\")","v":"No"},{"$f":"RIGHT('[1]GIFTS data'!K206,LEN('[1]GIFTS data'!K206)-3)","v":"Regular Grants Programme"},{"$f":"'[1]Transformation sheet'!$B$8","v":"GB-CHC-274100"},{"$f":"'[1]Transformation sheet'!$B$9","v":"The Clothworkers Foundation"},"https://www.clothworkersfoundation.org.uk/",{"$f":"'[1]Transformation sheet'!$B$11","v":"2019-05-31"},{"$f":"IF(OR('[1]GIFTS data'!K206=\"4. Proactive Programme\",'[1]GIFTS data'!K206=\"3. Regular Grants Programme\"),\"Revenue\",\"Capital\")","v":"Revenue"}]
[{"$f":"CONCATENATE('[1]Transformation sheet'!$B$1,'[1]GIFTS data'!A207)","v":"360G-ClothworkersFdn-201700761"},{"$f":"'[1]GIFTS data'!A207","v":201700761},{"$f":"CONCATENATE(\"Grant to \",'[1]GIFTS data'!F207)","v":"Grant to Shotton Partnership 2000"},{"$f":"'[1]GIFTS data'!B207","v":"New community centre in Durham"},{"$f":"'[1]Transformation sheet'!$B$2","v":"GBP"},{"$f":"'[1]GIFTS data'!C207","v":40000},{"$f":"'[1]GIFTS data'!D207","v":"2018-09-26"},{"$f":"IF(LEFT('[1]GIFTS data'!G207,3)=\"SC0\",\"GB-SC-\"&'[1]GIFTS data'!G207,IF(LEN('[1]GIFTS data'!G207)=8,\"GB-COH-\"&'[1]GIFTS data'!G207,IF(LEFT('[1]GIFTS data'!G207,1)=\"X\",\"GB-REV-\"&'[1]GIFTS data'!G207,IF(AND(LEN('[1]GIFTS data'!G207)=7,LEFT('[1]GIFTS data'!G207,1)=\"1\"),\"GB-CHC-\"&'[1]GIFTS data'!G207,IF(LEN('[1]GIFTS data'!G207)=7,\"GB-COH-0\"&'[1]GIFTS data'!G207,IF(LEFT('[1]GIFTS data'!G207,3)=\"NIC\",\"GB-NIC-\"&RIGHT('[1]GIFTS data'!G207,LEN('[1]GIFTS data'!G207)-3),IF(LEN('[1]GIFTS data'!G207)=6,\"GB-CHC-\"&'[1]GIFTS data'!G207,'[1]Transformation sheet'!$B$3&'[1]GIFTS data'!E207)))))))","v":"GB-CHC-1114785"},{"$f":"'[1]GIFTS data'!F207","v":"Shotton Partnership 2000"},{"$f":"'[1]GIFTS data'!G207","v":1114785},{"$f":"'[1]GIFTS data'!J207","v":"Shotton Colliery"},{"$f":"'[1]GIFTS data'!I207","v":"DH6 2PA"},{"$f":"'[1]GIFTS data'!H207","v":"North East"},{"$f":"IF(OR('[1]GIFTS data'!K207=\"4. Proactive Programme\",'[1]GIFTS data'!K207=\"3. Regular Grants Programme\"),\"No\",\"Yes\")","v":"Yes"},{"$f":"RIGHT('[1]GIFTS data'!K207,LEN('[1]GIFTS data'!K207)-3)","v":"Main Grants Programme"},{"$f":"'[1]Transformation sheet'!$B$8","v":"GB-CHC-274100"},{"$f":"'[1]Transformation sheet'!$B$9","v":"The Clothworkers Foundation"},"https://www.clothworkersfoundation.org.uk/",{"$f":"'[1]Transformation sheet'!$B$11","v":"2019-05-31"},{"$f":"IF(OR('[1]GIFTS data'!K207=\"4. Proactive Programme\",'[1]GIFTS data'!K207=\"3. Regular Grants Programme\"),\"Revenue\",\"Capital\")","v":"Capital"}]
[{"$f":"CONCATENATE('[1]Transformation sheet'!$B$1,'[1]GIFTS data'!A208)","v":"360G-ClothworkersFdn-201700728"},{"$f":"'[1]GIFTS data'!A208","v":201700728},{"$f":"CONCATENATE(\"Grant to \",'[1]GIFTS data'!F208)","v":"Grant to Solidarity Sports"},{"$f":"'[1]GIFTS data'!B208","v":"purchase of equipment and refurbishment of offices for a charity which works with disadvantaged young people in West London"},{"$f":"'[1]Transformation sheet'!$B$2","v":"GBP"},{"$f":"'[1]GIFTS data'!C208","v":9500},{"$f":"'[1]GIFTS data'!D208","v":"2018-07-19"},{"$f":"IF(LEFT('[1]GIFTS data'!G208,3)=\"SC0\",\"GB-SC-\"&'[1]GIFTS data'!G208,IF(LEN('[1]GIFTS data'!G208)=8,\"GB-COH-\"&'[1]GIFTS data'!G208,IF(LEFT('[1]GIFTS data'!G208,1)=\"X\",\"GB-REV-\"&'[1]GIFTS data'!G208,IF(AND(LEN('[1]GIFTS data'!G208)=7,LEFT('[1]GIFTS data'!G208,1)=\"1\"),\"GB-CHC-\"&'[1]GIFTS data'!G208,IF(LEN('[1]GIFTS data'!G208)=7,\"GB-COH-0\"&'[1]GIFTS data'!G208,IF(LEFT('[1]GIFTS data'!G208,3)=\"NIC\",\"GB-NIC-\"&RIGHT('[1]GIFTS data'!G208,LEN('[1]GIFTS data'!G208)-3),IF(LEN('[1]GIFTS data'!G208)=6,\"GB-CHC-\"&'[1]GIFTS data'!G208,'[1]Transformation sheet'!$B$3&'[1]GIFTS data'!E208)))))))","v":"GB-CHC-1123589"},{"$f":"'[1]GIFTS data'!F208","v":"Solidarity Sports"},{"$f":"'[1]GIFTS data'!G208","v":1123589},{"$f":"'[1]GIFTS data'!J208","v":"London"},{"$f":"'[1]GIFTS data'!I208","v":"W8 6TG"},{"$f":"'[1]GIFTS data'!H208","v":"Greater London"},{"$f":"IF(OR('[1]GIFTS data'!K208=\"4. Proactive Programme\",'[1]GIFTS data'!K208=\"3. Regular Grants Programme\"),\"No\",\"Yes\")","v":"Yes"},{"$f":"RIGHT('[1]GIFTS data'!K208,LEN('[1]GIFTS data'!K208)-3)","v":"Small Grants Programme"},{"$f":"'[1]Transformation sheet'!$B$8","v":"GB-CHC-274100"},{"$f":"'[1]Transformation sheet'!$B$9","v":"The Clothworkers Foundation"},"https://www.clothworkersfoundation.org.uk/",{"$f":"'[1]Transformation sheet'!$B$11","v":"2019-05-31"},{"$f":"IF(OR('[1]GIFTS data'!K208=\"4. Proactive Programme\",'[1]GIFTS data'!K208=\"3. Regular Grants Programme\"),\"Revenue\",\"Capital\")","v":"Capital"}]
[{"$f":"CONCATENATE('[1]Transformation sheet'!$B$1,'[1]GIFTS data'!A209)","v":"360G-ClothworkersFdn-201700414"},{"$f":"'[1]GIFTS data'!A209","v":201700414},{"$f":"CONCATENATE(\"Grant to \",'[1]GIFTS data'!F209)","v":"Grant to South Ayrshire Women's Aid"},{"$f":"'[1]GIFTS data'!B209","v":"reconstruction of a building for a charity which works with survivors of domestic and sexual violence in Ayrshire"},{"$f":"'[1]Transformation sheet'!$B$2","v":"GBP"},{"$f":"'[1]GIFTS data'!C209","v":100000},{"$f":"'[1]GIFTS data'!D209","v":"2018-11-29"},{"$f":"IF(LEFT('[1]GIFTS data'!G209,3)=\"SC0\",\"GB-SC-\"&'[1]GIFTS data'!G209,IF(LEN('[1]GIFTS data'!G209)=8,\"GB-COH-\"&'[1]GIFTS data'!G209,IF(LEFT('[1]GIFTS data'!G209,1)=\"X\",\"GB-REV-\"&'[1]GIFTS data'!G209,IF(AND(LEN('[1]GIFTS data'!G209)=7,LEFT('[1]GIFTS data'!G209,1)=\"1\"),\"GB-CHC-\"&'[1]GIFTS data'!G209,IF(LEN('[1]GIFTS data'!G209)=7,\"GB-COH-0\"&'[1]GIFTS data'!G209,IF(LEFT('[1]GIFTS data'!G209,3)=\"NIC\",\"GB-NIC-\"&RIGHT('[1]GIFTS data'!G209,LEN('[1]GIFTS data'!G209)-3),IF(LEN('[1]GIFTS data'!G209)=6,\"GB-CHC-\"&'[1]GIFTS data'!G209,'[1]Transformation sheet'!$B$3&'[1]GIFTS data'!E209)))))))","v":"GB-COH-SC339514"},{"$f":"'[1]GIFTS data'!F209","v":"South Ayrshire Women's Aid"},{"$f":"'[1]GIFTS data'!G209","v":"SC339514"},{"$f":"'[1]GIFTS data'!J209","v":"Ayr"},{"$f":"'[1]GIFTS data'!I209","v":"KA7 1BW"},{"$f":"'[1]GIFTS data'!H209","v":"Scotland"},{"$f":"IF(OR('[1]GIFTS data'!K209=\"4. Proactive Programme\",'[1]GIFTS data'!K209=\"3. Regular Grants Programme\"),\"No\",\"Yes\")","v":"Yes"},{"$f":"RIGHT('[1]GIFTS data'!K209,LEN('[1]GIFTS data'!K209)-3)","v":"Main Grants Programme"},{"$f":"'[1]Transformation sheet'!$B$8","v":"GB-CHC-274100"},{"$f":"'[1]Transformation sheet'!$B$9","v":"The Clothworkers Foundation"},"https://www.clothworkersfoundation.org.uk/",{"$f":"'[1]Transformation sheet'!$B$11","v":"2019-05-31"},{"$f":"IF(OR('[1]GIFTS data'!K209=\"4. Proactive Programme\",'[1]GIFTS data'!K209=\"3. Regular Grants Programme\"),\"Revenue\",\"Capital\")","v":"Capital"}]
[{"$f":"CONCATENATE('[1]Transformation sheet'!$B$1,'[1]GIFTS data'!A210)","v":"360G-ClothworkersFdn-201700664"},{"$f":"'[1]GIFTS data'!A210","v":201700664},{"$f":"CONCATENATE(\"Grant to \",'[1]GIFTS data'!F210)","v":"Grant to South Tyneside Churches' KEY Project"},{"$f":"'[1]GIFTS data'!B210","v":"purchase of a house for a charity which works with homeless people in Tyne and Wear"},{"$f":"'[1]Transformation sheet'!$B$2","v":"GBP"},{"$f":"'[1]GIFTS data'!C210","v":40000},{"$f":"'[1]GIFTS data'!D210","v":"2018-10-01"},{"$f":"IF(LEFT('[1]GIFTS data'!G210,3)=\"SC0\",\"GB-SC-\"&'[1]GIFTS data'!G210,IF(LEN('[1]GIFTS data'!G210)=8,\"GB-COH-\"&'[1]GIFTS data'!G210,IF(LEFT('[1]GIFTS data'!G210,1)=\"X\",\"GB-REV-\"&'[1]GIFTS data'!G210,IF(AND(LEN('[1]GIFTS data'!G210)=7,LEFT('[1]GIFTS data'!G210,1)=\"1\"),\"GB-CHC-\"&'[1]GIFTS data'!G210,IF(LEN('[1]GIFTS data'!G210)=7,\"GB-COH-0\"&'[1]GIFTS data'!G210,IF(LEFT('[1]GIFTS data'!G210,3)=\"NIC\",\"GB-NIC-\"&RIGHT('[1]GIFTS data'!G210,LEN('[1]GIFTS data'!G210)-3),IF(LEN('[1]GIFTS data'!G210)=6,\"GB-CHC-\"&'[1]GIFTS data'!G210,'[1]Transformation sheet'!$B$3&'[1]GIFTS data'!E210)))))))","v":"GB-CHC-1108921"},{"$f":"'[1]GIFTS data'!F210","v":"South Tyneside Churches' KEY Project"},{"$f":"'[1]GIFTS data'!G210","v":1108921},{"$f":"'[1]GIFTS data'!J210","v":"South Shields"},{"$f":"'[1]GIFTS data'!I210","v":"NE33 2BA"},{"$f":"'[1]GIFTS data'!H210","v":"North East"},{"$f":"IF(OR('[1]GIFTS data'!K210=\"4. Proactive Programme\",'[1]GIFTS data'!K210=\"3. Regular Grants Programme\"),\"No\",\"Yes\")","v":"Yes"},{"$f":"RIGHT('[1]GIFTS data'!K210,LEN('[1]GIFTS data'!K210)-3)","v":"Main Grants Programme"},{"$f":"'[1]Transformation sheet'!$B$8","v":"GB-CHC-274100"},{"$f":"'[1]Transformation sheet'!$B$9","v":"The Clothworkers Foundation"},"https://www.clothworkersfoundation.org.uk/",{"$f":"'[1]Transformation sheet'!$B$11","v":"2019-05-31"},{"$f":"IF(OR('[1]GIFTS data'!K210=\"4. Proactive Programme\",'[1]GIFTS data'!K210=\"3. Regular Grants Programme\"),\"Revenue\",\"Capital\")","v":"Capital"}]
[{"$f":"CONCATENATE('[1]Transformation sheet'!$B$1,'[1]GIFTS data'!A211)","v":"360G-ClothworkersFdn-201700564"},{"$f":"'[1]GIFTS data'!A211","v":201700564},{"$f":"CONCATENATE(\"Grant to \",'[1]GIFTS data'!F211)","v":"Grant to Southwark Day Centre for Asylum Seekers"},{"$f":"'[1]GIFTS data'!B211","v":"purchase of computers, database and cabinets for a charity which works with disadvantaged minority communities in Southwark"},{"$f":"'[1]Transformation sheet'!$B$2","v":"GBP"},{"$f":"'[1]GIFTS data'!C211","v":8000},{"$f":"'[1]GIFTS data'!D211","v":"2018-04-11"},{"$f":"IF(LEFT('[1]GIFTS data'!G211,3)=\"SC0\",\"GB-SC-\"&'[1]GIFTS data'!G211,IF(LEN('[1]GIFTS data'!G211)=8,\"GB-COH-\"&'[1]GIFTS data'!G211,IF(LEFT('[1]GIFTS data'!G211,1)=\"X\",\"GB-REV-\"&'[1]GIFTS data'!G211,IF(AND(LEN('[1]GIFTS data'!G211)=7,LEFT('[1]GIFTS data'!G211,1)=\"1\"),\"GB-CHC-\"&'[1]GIFTS data'!G211,IF(LEN('[1]GIFTS data'!G211)=7,\"GB-COH-0\"&'[1]GIFTS data'!G211,IF(LEFT('[1]GIFTS data'!G211,3)=\"NIC\",\"GB-NIC-\"&RIGHT('[1]GIFTS data'!G211,LEN('[1]GIFTS data'!G211)-3),IF(LEN('[1]GIFTS data'!G211)=6,\"GB-CHC-\"&'[1]GIFTS data'!G211,'[1]Transformation sheet'!$B$3&'[1]GIFTS data'!E211)))))))","v":"GB-CHC-1143912"},{"$f":"'[1]GIFTS data'!F211","v":"Southwark Day Centre for Asylum Seekers"},{"$f":"'[1]GIFTS data'!G211","v":1143912},{"$f":"'[1]GIFTS data'!J211","v":"London"},{"$f":"'[1]GIFTS data'!I211","v":"SE15 4AN"},{"$f":"'[1]GIFTS data'!H211","v":"Greater London"},{"$f":"IF(OR('[1]GIFTS data'!K211=\"4. Proactive Programme\",'[1]GIFTS data'!K211=\"3. Regular Grants Programme\"),\"No\",\"Yes\")","v":"Yes"},{"$f":"RIGHT('[1]GIFTS data'!K211,LEN('[1]GIFTS data'!K211)-3)","v":"Small Grants Programme"},{"$f":"'[1]Transformation sheet'!$B$8","v":"GB-CHC-274100"},{"$f":"'[1]Transformation sheet'!$B$9","v":"The Clothworkers Foundation"},"https://www.clothworkersfoundation.org.uk/",{"$f":"'[1]Transformation sheet'!$B$11","v":"2019-05-31"},{"$f":"IF(OR('[1]GIFTS data'!K211=\"4. Proactive Programme\",'[1]GIFTS data'!K211=\"3. Regular Grants Programme\"),\"Revenue\",\"Capital\")","v":"Capital"}]
[{"$f":"CONCATENATE('[1]Transformation sheet'!$B$1,'[1]GIFTS data'!A212)","v":"360G-ClothworkersFdn-201700473"},{"$f":"'[1]GIFTS data'!A212","v":201700473},{"$f":"CONCATENATE(\"Grant to \",'[1]GIFTS data'!F212)","v":"Grant to Space4Autism"},{"$f":"'[1]GIFTS data'!B212","v":"refurbishment of cafe and purchase of kitchen appliances for a charity which works with disabled people in Macclesfield"},{"$f":"'[1]Transformation sheet'!$B$2","v":"GBP"},{"$f":"'[1]GIFTS data'!C212","v":9800},{"$f":"'[1]GIFTS data'!D212","v":"2018-01-30"},{"$f":"IF(LEFT('[1]GIFTS data'!G212,3)=\"SC0\",\"GB-SC-\"&'[1]GIFTS data'!G212,IF(LEN('[1]GIFTS data'!G212)=8,\"GB-COH-\"&'[1]GIFTS data'!G212,IF(LEFT('[1]GIFTS data'!G212,1)=\"X\",\"GB-REV-\"&'[1]GIFTS data'!G212,IF(AND(LEN('[1]GIFTS data'!G212)=7,LEFT('[1]GIFTS data'!G212,1)=\"1\"),\"GB-CHC-\"&'[1]GIFTS data'!G212,IF(LEN('[1]GIFTS data'!G212)=7,\"GB-COH-0\"&'[1]GIFTS data'!G212,IF(LEFT('[1]GIFTS data'!G212,3)=\"NIC\",\"GB-NIC-\"&RIGHT('[1]GIFTS data'!G212,LEN('[1]GIFTS data'!G212)-3),IF(LEN('[1]GIFTS data'!G212)=6,\"GB-CHC-\"&'[1]GIFTS data'!G212,'[1]Transformation sheet'!$B$3&'[1]GIFTS data'!E212)))))))","v":"GB-CHC-1141860"},{"$f":"'[1]GIFTS data'!F212","v":"Space4Autism"},{"$f":"'[1]GIFTS data'!G212","v":1141860},{"$f":"'[1]GIFTS data'!J212","v":"Macclesfield,"},{"$f":"'[1]GIFTS data'!I212","v":"SK11 7NN"},{"$f":"'[1]GIFTS data'!H212","v":"North West"},{"$f":"IF(OR('[1]GIFTS data'!K212=\"4. Proactive Programme\",'[1]GIFTS data'!K212=\"3. Regular Grants Programme\"),\"No\",\"Yes\")","v":"Yes"},{"$f":"RIGHT('[1]GIFTS data'!K212,LEN('[1]GIFTS data'!K212)-3)","v":"Small Grants Programme"},{"$f":"'[1]Transformation sheet'!$B$8","v":"GB-CHC-274100"},{"$f":"'[1]Transformation sheet'!$B$9","v":"The Clothworkers Foundation"},"https://www.clothworkersfoundation.org.uk/",{"$f":"'[1]Transformation sheet'!$B$11","v":"2019-05-31"},{"$f":"IF(OR('[1]GIFTS data'!K212=\"4. Proactive Programme\",'[1]GIFTS data'!K212=\"3. Regular Grants Programme\"),\"Revenue\",\"Capital\")","v":"Capital"}]
[{"$f":"CONCATENATE('[1]Transformation sheet'!$B$1,'[1]GIFTS data'!A213)","v":"360G-ClothworkersFdn-201700504"},{"$f":"'[1]GIFTS data'!A213","v":201700504},{"$f":"CONCATENATE(\"Grant to \",'[1]GIFTS data'!F213)","v":"Grant to St Albans and Hertsmere Women's Refuge"},{"$f":"'[1]GIFTS data'!B213","v":"purchase and refurbishment of a property for a charity which works with survivors of domestic and sexual violence"},{"$f":"'[1]Transformation sheet'!$B$2","v":"GBP"},{"$f":"'[1]GIFTS data'!C213","v":100000},{"$f":"'[1]GIFTS data'!D213","v":"2018-06-28"},{"$f":"IF(LEFT('[1]GIFTS data'!G213,3)=\"SC0\",\"GB-SC-\"&'[1]GIFTS data'!G213,IF(LEN('[1]GIFTS data'!G213)=8,\"GB-COH-\"&'[1]GIFTS data'!G213,IF(LEFT('[1]GIFTS data'!G213,1)=\"X\",\"GB-REV-\"&'[1]GIFTS data'!G213,IF(AND(LEN('[1]GIFTS data'!G213)=7,LEFT('[1]GIFTS data'!G213,1)=\"1\"),\"GB-CHC-\"&'[1]GIFTS data'!G213,IF(LEN('[1]GIFTS data'!G213)=7,\"GB-COH-0\"&'[1]GIFTS data'!G213,IF(LEFT('[1]GIFTS data'!G213,3)=\"NIC\",\"GB-NIC-\"&RIGHT('[1]GIFTS data'!G213,LEN('[1]GIFTS data'!G213)-3),IF(LEN('[1]GIFTS data'!G213)=6,\"GB-CHC-\"&'[1]GIFTS data'!G213,'[1]Transformation sheet'!$B$3&'[1]GIFTS data'!E213)))))))","v":"GB-CHC-1069612"},{"$f":"'[1]GIFTS data'!F213","v":"St Albans and Hertsmere Women's Refuge"},{"$f":"'[1]GIFTS data'!G213","v":1069612},{"$f":"'[1]GIFTS data'!J213","v":"St Albans"},{"$f":"'[1]GIFTS data'!I213","v":"AL4 0ZE"},{"$f":"'[1]GIFTS data'!H213","v":"East"},{"$f":"IF(OR('[1]GIFTS data'!K213=\"4. Proactive Programme\",'[1]GIFTS data'!K213=\"3. Regular Grants Programme\"),\"No\",\"Yes\")","v":"Yes"},{"$f":"RIGHT('[1]GIFTS data'!K213,LEN('[1]GIFTS data'!K213)-3)","v":"Main Grants Programme"},{"$f":"'[1]Transformation sheet'!$B$8","v":"GB-CHC-274100"},{"$f":"'[1]Transformation sheet'!$B$9","v":"The Clothworkers Foundation"},"https://www.clothworkersfoundation.org.uk/",{"$f":"'[1]Transformation sheet'!$B$11","v":"2019-05-31"},{"$f":"IF(OR('[1]GIFTS data'!K213=\"4. Proactive Programme\",'[1]GIFTS data'!K213=\"3. Regular Grants Programme\"),\"Revenue\",\"Capital\")","v":"Capital"}]
[{"$f":"CONCATENATE('[1]Transformation sheet'!$B$1,'[1]GIFTS data'!A214)","v":"360G-ClothworkersFdn-201700617"},{"$f":"'[1]GIFTS data'!A214","v":201700617},{"$f":"CONCATENATE(\"Grant to \",'[1]GIFTS data'!F214)","v":"Grant to St Francis' Children's Society"},{"$f":"'[1]GIFTS data'!B214","v":"purchase of laptops for a charity which works with disadvantaged young people in Buckinghamshire"},{"$f":"'[1]Transformation sheet'!$B$2","v":"GBP"},{"$f":"'[1]GIFTS data'!C214","v":10000},{"$f":"'[1]GIFTS data'!D214","v":"2018-05-04"},{"$f":"IF(LEFT('[1]GIFTS data'!G214,3)=\"SC0\",\"GB-SC-\"&'[1]GIFTS data'!G214,IF(LEN('[1]GIFTS data'!G214)=8,\"GB-COH-\"&'[1]GIFTS data'!G214,IF(LEFT('[1]GIFTS data'!G214,1)=\"X\",\"GB-REV-\"&'[1]GIFTS data'!G214,IF(AND(LEN('[1]GIFTS data'!G214)=7,LEFT('[1]GIFTS data'!G214,1)=\"1\"),\"GB-CHC-\"&'[1]GIFTS data'!G214,IF(LEN('[1]GIFTS data'!G214)=7,\"GB-COH-0\"&'[1]GIFTS data'!G214,IF(LEFT('[1]GIFTS data'!G214,3)=\"NIC\",\"GB-NIC-\"&RIGHT('[1]GIFTS data'!G214,LEN('[1]GIFTS data'!G214)-3),IF(LEN('[1]GIFTS data'!G214)=6,\"GB-CHC-\"&'[1]GIFTS data'!G214,'[1]Transformation sheet'!$B$3&'[1]GIFTS data'!E214)))))))","v":"GB-CHC-211670"},{"$f":"'[1]GIFTS data'!F214","v":"St Francis' Children's Society"},{"$f":"'[1]GIFTS data'!G214","v":211670},{"$f":"'[1]GIFTS data'!J214","v":"Milton Keynes"},{"$f":"'[1]GIFTS data'!I214","v":"MK15 0AA"},{"$f":"'[1]GIFTS data'!H214","v":"South East"},{"$f":"IF(OR('[1]GIFTS data'!K214=\"4. Proactive Programme\",'[1]GIFTS data'!K214=\"3. Regular Grants Programme\"),\"No\",\"Yes\")","v":"Yes"},{"$f":"RIGHT('[1]GIFTS data'!K214,LEN('[1]GIFTS data'!K214)-3)","v":"Small Grants Programme"},{"$f":"'[1]Transformation sheet'!$B$8","v":"GB-CHC-274100"},{"$f":"'[1]Transformation sheet'!$B$9","v":"The Clothworkers Foundation"},"https://www.clothworkersfoundation.org.uk/",{"$f":"'[1]Transformation sheet'!$B$11","v":"2019-05-31"},{"$f":"IF(OR('[1]GIFTS data'!K214=\"4. Proactive Programme\",'[1]GIFTS data'!K214=\"3. Regular Grants Programme\"),\"Revenue\",\"Capital\")","v":"Capital"}]
[{"$f":"CONCATENATE('[1]Transformation sheet'!$B$1,'[1]GIFTS data'!A215)","v":"360G-ClothworkersFdn-201700632"},{"$f":"'[1]GIFTS data'!A215","v":201700632},{"$f":"CONCATENATE(\"Grant to \",'[1]GIFTS data'!F215)","v":"Grant to St Giles Trust"},{"$f":"'[1]GIFTS data'!B215","v":"purchase of new boiler for a charity which works with prisoners and ex-offenders in South London"},{"$f":"'[1]Transformation sheet'!$B$2","v":"GBP"},{"$f":"'[1]GIFTS data'!C215","v":25000},{"$f":"'[1]GIFTS data'!D215","v":"2018-05-16"},{"$f":"IF(LEFT('[1]GIFTS data'!G215,3)=\"SC0\",\"GB-SC-\"&'[1]GIFTS data'!G215,IF(LEN('[1]GIFTS data'!G215)=8,\"GB-COH-\"&'[1]GIFTS data'!G215,IF(LEFT('[1]GIFTS data'!G215,1)=\"X\",\"GB-REV-\"&'[1]GIFTS data'!G215,IF(AND(LEN('[1]GIFTS data'!G215)=7,LEFT('[1]GIFTS data'!G215,1)=\"1\"),\"GB-CHC-\"&'[1]GIFTS data'!G215,IF(LEN('[1]GIFTS data'!G215)=7,\"GB-COH-0\"&'[1]GIFTS data'!G215,IF(LEFT('[1]GIFTS data'!G215,3)=\"NIC\",\"GB-NIC-\"&RIGHT('[1]GIFTS data'!G215,LEN('[1]GIFTS data'!G215)-3),IF(LEN('[1]GIFTS data'!G215)=6,\"GB-CHC-\"&'[1]GIFTS data'!G215,'[1]Transformation sheet'!$B$3&'[1]GIFTS data'!E215)))))))","v":"GB-CHC-801355"},{"$f":"'[1]GIFTS data'!F215","v":"St Giles Trust"},{"$f":"'[1]GIFTS data'!G215","v":801355},{"$f":"'[1]GIFTS data'!J215","v":"Camberwell"},{"$f":"'[1]GIFTS data'!I215","v":"SE5 8JB"},{"$f":"'[1]GIFTS data'!H215","v":"Greater London"},{"$f":"IF(OR('[1]GIFTS data'!K215=\"4. Proactive Programme\",'[1]GIFTS data'!K215=\"3. Regular Grants Programme\"),\"No\",\"Yes\")","v":"Yes"},{"$f":"RIGHT('[1]GIFTS data'!K215,LEN('[1]GIFTS data'!K215)-3)","v":"Main Grants Programme"},{"$f":"'[1]Transformation sheet'!$B$8","v":"GB-CHC-274100"},{"$f":"'[1]Transformation sheet'!$B$9","v":"The Clothworkers Foundation"},"https://www.clothworkersfoundation.org.uk/",{"$f":"'[1]Transformation sheet'!$B$11","v":"2019-05-31"},{"$f":"IF(OR('[1]GIFTS data'!K215=\"4. Proactive Programme\",'[1]GIFTS data'!K215=\"3. Regular Grants Programme\"),\"Revenue\",\"Capital\")","v":"Capital"}]
[{"$f":"CONCATENATE('[1]Transformation sheet'!$B$1,'[1]GIFTS data'!A216)","v":"360G-ClothworkersFdn-201700574"},{"$f":"'[1]GIFTS data'!A216","v":201700574},{"$f":"CONCATENATE(\"Grant to \",'[1]GIFTS data'!F216)","v":"Grant to St James' Centre"},{"$f":"'[1]GIFTS data'!B216","v":"construction of a garden play area for a charity which works with disabled people in Derby"},{"$f":"'[1]Transformation sheet'!$B$2","v":"GBP"},{"$f":"'[1]GIFTS data'!C216","v":17000},{"$f":"'[1]GIFTS data'!D216","v":"2018-05-18"},{"$f":"IF(LEFT('[1]GIFTS data'!G216,3)=\"SC0\",\"GB-SC-\"&'[1]GIFTS data'!G216,IF(LEN('[1]GIFTS data'!G216)=8,\"GB-COH-\"&'[1]GIFTS data'!G216,IF(LEFT('[1]GIFTS data'!G216,1)=\"X\",\"GB-REV-\"&'[1]GIFTS data'!G216,IF(AND(LEN('[1]GIFTS data'!G216)=7,LEFT('[1]GIFTS data'!G216,1)=\"1\"),\"GB-CHC-\"&'[1]GIFTS data'!G216,IF(LEN('[1]GIFTS data'!G216)=7,\"GB-COH-0\"&'[1]GIFTS data'!G216,IF(LEFT('[1]GIFTS data'!G216,3)=\"NIC\",\"GB-NIC-\"&RIGHT('[1]GIFTS data'!G216,LEN('[1]GIFTS data'!G216)-3),IF(LEN('[1]GIFTS data'!G216)=6,\"GB-CHC-\"&'[1]GIFTS data'!G216,'[1]Transformation sheet'!$B$3&'[1]GIFTS data'!E216)))))))","v":"GB-CHC-1043189"},{"$f":"'[1]GIFTS data'!F216","v":"St James' Centre"},{"$f":"'[1]GIFTS data'!G216","v":1043189},{"$f":"'[1]GIFTS data'!J216","v":"Derby"},{"$f":"'[1]GIFTS data'!I216","v":"DE22 8LU"},{"$f":"'[1]GIFTS data'!H216","v":"East Midlands"},{"$f":"IF(OR('[1]GIFTS data'!K216=\"4. Proactive Programme\",'[1]GIFTS data'!K216=\"3. Regular Grants Programme\"),\"No\",\"Yes\")","v":"Yes"},{"$f":"RIGHT('[1]GIFTS data'!K216,LEN('[1]GIFTS data'!K216)-3)","v":"Main Grants Programme"},{"$f":"'[1]Transformation sheet'!$B$8","v":"GB-CHC-274100"},{"$f":"'[1]Transformation sheet'!$B$9","v":"The Clothworkers Foundation"},"https://www.clothworkersfoundation.org.uk/",{"$f":"'[1]Transformation sheet'!$B$11","v":"2019-05-31"},{"$f":"IF(OR('[1]GIFTS data'!K216=\"4. Proactive Programme\",'[1]GIFTS data'!K216=\"3. Regular Grants Programme\"),\"Revenue\",\"Capital\")","v":"Capital"}]
[{"$f":"CONCATENATE('[1]Transformation sheet'!$B$1,'[1]GIFTS data'!A217)","v":"360G-ClothworkersFdn-200805143.02"},{"$f":"'[1]GIFTS data'!A217","v":200805143.02000001},{"$f":"CONCATENATE(\"Grant to \",'[1]GIFTS data'!F217)","v":"Grant to St John of Jerusalem Eye Hospital"},{"$f":"'[1]GIFTS data'!B217","v":"Towards the hospital's general funds"},{"$f":"'[1]Transformation sheet'!$B$2","v":"GBP"},{"$f":"'[1]GIFTS data'!C217","v":30000},{"$f":"'[1]GIFTS data'!D217","v":"2018-03-27"},{"$f":"IF(LEFT('[1]GIFTS data'!G217,3)=\"SC0\",\"GB-SC-\"&'[1]GIFTS data'!G217,IF(LEN('[1]GIFTS data'!G217)=8,\"GB-COH-\"&'[1]GIFTS data'!G217,IF(LEFT('[1]GIFTS data'!G217,1)=\"X\",\"GB-REV-\"&'[1]GIFTS data'!G217,IF(AND(LEN('[1]GIFTS data'!G217)=7,LEFT('[1]GIFTS data'!G217,1)=\"1\"),\"GB-CHC-\"&'[1]GIFTS data'!G217,IF(LEN('[1]GIFTS data'!G217)=7,\"GB-COH-0\"&'[1]GIFTS data'!G217,IF(LEFT('[1]GIFTS data'!G217,3)=\"NIC\",\"GB-NIC-\"&RIGHT('[1]GIFTS data'!G217,LEN('[1]GIFTS data'!G217)-3),IF(LEN('[1]GIFTS data'!G217)=6,\"GB-CHC-\"&'[1]GIFTS data'!G217,'[1]Transformation sheet'!$B$3&'[1]GIFTS data'!E217)))))))","v":"GB-CHC-1080185"},{"$f":"'[1]GIFTS data'!F217","v":"St John of Jerusalem Eye Hospital"},{"$f":"'[1]GIFTS data'!G217","v":1080185},{"$f":"'[1]GIFTS data'!J217","v":" "},{"$f":"'[1]GIFTS data'!I217","v":"EC1M 6BB"},{"$f":"'[1]GIFTS data'!H217","v":"Overseas"},{"$f":"IF(OR('[1]GIFTS data'!K217=\"4. Proactive Programme\",'[1]GIFTS data'!K217=\"3. Regular Grants Programme\"),\"No\",\"Yes\")","v":"No"},{"$f":"RIGHT('[1]GIFTS data'!K217,LEN('[1]GIFTS data'!K217)-3)","v":"Regular Grants Programme"},{"$f":"'[1]Transformation sheet'!$B$8","v":"GB-CHC-274100"},{"$f":"'[1]Transformation sheet'!$B$9","v":"The Clothworkers Foundation"},"https://www.clothworkersfoundation.org.uk/",{"$f":"'[1]Transformation sheet'!$B$11","v":"2019-05-31"},{"$f":"IF(OR('[1]GIFTS data'!K217=\"4. Proactive Programme\",'[1]GIFTS data'!K217=\"3. Regular Grants Programme\"),\"Revenue\",\"Capital\")","v":"Revenue"}]
[{"$f":"CONCATENATE('[1]Transformation sheet'!$B$1,'[1]GIFTS data'!A218)","v":"360G-ClothworkersFdn-201700271"},{"$f":"'[1]GIFTS data'!A218","v":201700271},{"$f":"CONCATENATE(\"Grant to \",'[1]GIFTS data'!F218)","v":"Grant to St Luke's Church, Holbeck"},{"$f":"'[1]GIFTS data'!B218","v":"extension of building for charity which works with disadvantaged minority communities in Leeds"},{"$f":"'[1]Transformation sheet'!$B$2","v":"GBP"},{"$f":"'[1]GIFTS data'!C218","v":40000},{"$f":"'[1]GIFTS data'!D218","v":"2018-09-26"},{"$f":"IF(LEFT('[1]GIFTS data'!G218,3)=\"SC0\",\"GB-SC-\"&'[1]GIFTS data'!G218,IF(LEN('[1]GIFTS data'!G218)=8,\"GB-COH-\"&'[1]GIFTS data'!G218,IF(LEFT('[1]GIFTS data'!G218,1)=\"X\",\"GB-REV-\"&'[1]GIFTS data'!G218,IF(AND(LEN('[1]GIFTS data'!G218)=7,LEFT('[1]GIFTS data'!G218,1)=\"1\"),\"GB-CHC-\"&'[1]GIFTS data'!G218,IF(LEN('[1]GIFTS data'!G218)=7,\"GB-COH-0\"&'[1]GIFTS data'!G218,IF(LEFT('[1]GIFTS data'!G218,3)=\"NIC\",\"GB-NIC-\"&RIGHT('[1]GIFTS data'!G218,LEN('[1]GIFTS data'!G218)-3),IF(LEN('[1]GIFTS data'!G218)=6,\"GB-CHC-\"&'[1]GIFTS data'!G218,'[1]Transformation sheet'!$B$3&'[1]GIFTS data'!E218)))))))","v":"360G-ClothworkersFdn:ORG-10044"},{"$f":"'[1]GIFTS data'!F218","v":"St Luke's Church, Holbeck"},{"$f":"'[1]GIFTS data'!G218","v":0},{"$f":"'[1]GIFTS data'!J218","v":"Leeds"},{"$f":"'[1]GIFTS data'!I218","v":"LS11 8PD"},{"$f":"'[1]GIFTS data'!H218","v":"Yorks & Humberside"},{"$f":"IF(OR('[1]GIFTS data'!K218=\"4. Proactive Programme\",'[1]GIFTS data'!K218=\"3. Regular Grants Programme\"),\"No\",\"Yes\")","v":"Yes"},{"$f":"RIGHT('[1]GIFTS data'!K218,LEN('[1]GIFTS data'!K218)-3)","v":"Main Grants Programme"},{"$f":"'[1]Transformation sheet'!$B$8","v":"GB-CHC-274100"},{"$f":"'[1]Transformation sheet'!$B$9","v":"The Clothworkers Foundation"},"https://www.clothworkersfoundation.org.uk/",{"$f":"'[1]Transformation sheet'!$B$11","v":"2019-05-31"},{"$f":"IF(OR('[1]GIFTS data'!K218=\"4. Proactive Programme\",'[1]GIFTS data'!K218=\"3. Regular Grants Programme\"),\"Revenue\",\"Capital\")","v":"Capital"}]
[{"$f":"CONCATENATE('[1]Transformation sheet'!$B$1,'[1]GIFTS data'!A219)","v":"360G-ClothworkersFdn-201700463"},{"$f":"'[1]GIFTS data'!A219","v":201700463},{"$f":"CONCATENATE(\"Grant to \",'[1]GIFTS data'!F219)","v":"Grant to St Luke's Parochial Trust"},{"$f":"'[1]GIFTS data'!B219","v":"construction of a roof terrace for a charity which works with older people in London"},{"$f":"'[1]Transformation sheet'!$B$2","v":"GBP"},{"$f":"'[1]GIFTS data'!C219","v":20000},{"$f":"'[1]GIFTS data'!D219","v":"2018-02-08"},{"$f":"IF(LEFT('[1]GIFTS data'!G219,3)=\"SC0\",\"GB-SC-\"&'[1]GIFTS data'!G219,IF(LEN('[1]GIFTS data'!G219)=8,\"GB-COH-\"&'[1]GIFTS data'!G219,IF(LEFT('[1]GIFTS data'!G219,1)=\"X\",\"GB-REV-\"&'[1]GIFTS data'!G219,IF(AND(LEN('[1]GIFTS data'!G219)=7,LEFT('[1]GIFTS data'!G219,1)=\"1\"),\"GB-CHC-\"&'[1]GIFTS data'!G219,IF(LEN('[1]GIFTS data'!G219)=7,\"GB-COH-0\"&'[1]GIFTS data'!G219,IF(LEFT('[1]GIFTS data'!G219,3)=\"NIC\",\"GB-NIC-\"&RIGHT('[1]GIFTS data'!G219,LEN('[1]GIFTS data'!G219)-3),IF(LEN('[1]GIFTS data'!G219)=6,\"GB-CHC-\"&'[1]GIFTS data'!G219,'[1]Transformation sheet'!$B$3&'[1]GIFTS data'!E219)))))))","v":"GB-CHC-207497"},{"$f":"'[1]GIFTS data'!F219","v":"St Luke's Parochial Trust"},{"$f":"'[1]GIFTS data'!G219","v":207497},{"$f":"'[1]GIFTS data'!J219","v":"Islington"},{"$f":"'[1]GIFTS data'!I219","v":"EC1V 8AJ"},{"$f":"'[1]GIFTS data'!H219","v":"Greater London"},{"$f":"IF(OR('[1]GIFTS data'!K219=\"4. Proactive Programme\",'[1]GIFTS data'!K219=\"3. Regular Grants Programme\"),\"No\",\"Yes\")","v":"Yes"},{"$f":"RIGHT('[1]GIFTS data'!K219,LEN('[1]GIFTS data'!K219)-3)","v":"Main Grants Programme"},{"$f":"'[1]Transformation sheet'!$B$8","v":"GB-CHC-274100"},{"$f":"'[1]Transformation sheet'!$B$9","v":"The Clothworkers Foundation"},"https://www.clothworkersfoundation.org.uk/",{"$f":"'[1]Transformation sheet'!$B$11","v":"2019-05-31"},{"$f":"IF(OR('[1]GIFTS data'!K219=\"4. Proactive Programme\",'[1]GIFTS data'!K219=\"3. Regular Grants Programme\"),\"Revenue\",\"Capital\")","v":"Capital"}]
[{"$f":"CONCATENATE('[1]Transformation sheet'!$B$1,'[1]GIFTS data'!A220)","v":"360G-ClothworkersFdn-201700424"},{"$f":"'[1]GIFTS data'!A220","v":201700424},{"$f":"CONCATENATE(\"Grant to \",'[1]GIFTS data'!F220)","v":"Grant to St Richard of Chichester Christian Care Association"},{"$f":"'[1]GIFTS data'!B220","v":"refurbishment of a hub for a charity which works with homeless persons' in Bognor Regis"},{"$f":"'[1]Transformation sheet'!$B$2","v":"GBP"},{"$f":"'[1]GIFTS data'!C220","v":30000},{"$f":"'[1]GIFTS data'!D220","v":"2018-03-27"},{"$f":"IF(LEFT('[1]GIFTS data'!G220,3)=\"SC0\",\"GB-SC-\"&'[1]GIFTS data'!G220,IF(LEN('[1]GIFTS data'!G220)=8,\"GB-COH-\"&'[1]GIFTS data'!G220,IF(LEFT('[1]GIFTS data'!G220,1)=\"X\",\"GB-REV-\"&'[1]GIFTS data'!G220,IF(AND(LEN('[1]GIFTS data'!G220)=7,LEFT('[1]GIFTS data'!G220,1)=\"1\"),\"GB-CHC-\"&'[1]GIFTS data'!G220,IF(LEN('[1]GIFTS data'!G220)=7,\"GB-COH-0\"&'[1]GIFTS data'!G220,IF(LEFT('[1]GIFTS data'!G220,3)=\"NIC\",\"GB-NIC-\"&RIGHT('[1]GIFTS data'!G220,LEN('[1]GIFTS data'!G220)-3),IF(LEN('[1]GIFTS data'!G220)=6,\"GB-CHC-\"&'[1]GIFTS data'!G220,'[1]Transformation sheet'!$B$3&'[1]GIFTS data'!E220)))))))","v":"GB-CHC-1000830"},{"$f":"'[1]GIFTS data'!F220","v":"St Richard of Chichester Christian Care Association"},{"$f":"'[1]GIFTS data'!G220","v":1000830},{"$f":"'[1]GIFTS data'!J220","v":"Chichester"},{"$f":"'[1]GIFTS data'!I220","v":"PO20 1NP"},{"$f":"'[1]GIFTS data'!H220","v":"South East"},{"$f":"IF(OR('[1]GIFTS data'!K220=\"4. Proactive Programme\",'[1]GIFTS data'!K220=\"3. Regular Grants Programme\"),\"No\",\"Yes\")","v":"Yes"},{"$f":"RIGHT('[1]GIFTS data'!K220,LEN('[1]GIFTS data'!K220)-3)","v":"Main Grants Programme"},{"$f":"'[1]Transformation sheet'!$B$8","v":"GB-CHC-274100"},{"$f":"'[1]Transformation sheet'!$B$9","v":"The Clothworkers Foundation"},"https://www.clothworkersfoundation.org.uk/",{"$f":"'[1]Transformation sheet'!$B$11","v":"2019-05-31"},{"$f":"IF(OR('[1]GIFTS data'!K220=\"4. Proactive Programme\",'[1]GIFTS data'!K220=\"3. Regular Grants Programme\"),\"Revenue\",\"Capital\")","v":"Capital"}]
[{"$f":"CONCATENATE('[1]Transformation sheet'!$B$1,'[1]GIFTS data'!A221)","v":"360G-ClothworkersFdn-201700694"},{"$f":"'[1]GIFTS data'!A221","v":201700694},{"$f":"CONCATENATE(\"Grant to \",'[1]GIFTS data'!F221)","v":"Grant to Stockdales of Sale, Altrincham and District"},{"$f":"'[1]GIFTS data'!B221","v":"Refurbishment of a house for a charity in Cheshire supporting people with learning disabilities"},{"$f":"'[1]Transformation sheet'!$B$2","v":"GBP"},{"$f":"'[1]GIFTS data'!C221","v":50000},{"$f":"'[1]GIFTS data'!D221","v":"2018-11-29"},{"$f":"IF(LEFT('[1]GIFTS data'!G221,3)=\"SC0\",\"GB-SC-\"&'[1]GIFTS data'!G221,IF(LEN('[1]GIFTS data'!G221)=8,\"GB-COH-\"&'[1]GIFTS data'!G221,IF(LEFT('[1]GIFTS data'!G221,1)=\"X\",\"GB-REV-\"&'[1]GIFTS data'!G221,IF(AND(LEN('[1]GIFTS data'!G221)=7,LEFT('[1]GIFTS data'!G221,1)=\"1\"),\"GB-CHC-\"&'[1]GIFTS data'!G221,IF(LEN('[1]GIFTS data'!G221)=7,\"GB-COH-0\"&'[1]GIFTS data'!G221,IF(LEFT('[1]GIFTS data'!G221,3)=\"NIC\",\"GB-NIC-\"&RIGHT('[1]GIFTS data'!G221,LEN('[1]GIFTS data'!G221)-3),IF(LEN('[1]GIFTS data'!G221)=6,\"GB-CHC-\"&'[1]GIFTS data'!G221,'[1]Transformation sheet'!$B$3&'[1]GIFTS data'!E221)))))))","v":"GB-CHC-509053"},{"$f":"'[1]GIFTS data'!F221","v":"Stockdales of Sale, Altrincham and District"},{"$f":"'[1]GIFTS data'!G221","v":509053},{"$f":"'[1]GIFTS data'!J221","v":"Sale"},{"$f":"'[1]GIFTS data'!I221","v":"M33 5AH"},{"$f":"'[1]GIFTS data'!H221","v":"North West"},{"$f":"IF(OR('[1]GIFTS data'!K221=\"4. Proactive Programme\",'[1]GIFTS data'!K221=\"3. Regular Grants Programme\"),\"No\",\"Yes\")","v":"Yes"},{"$f":"RIGHT('[1]GIFTS data'!K221,LEN('[1]GIFTS data'!K221)-3)","v":"Main Grants Programme"},{"$f":"'[1]Transformation sheet'!$B$8","v":"GB-CHC-274100"},{"$f":"'[1]Transformation sheet'!$B$9","v":"The Clothworkers Foundation"},"https://www.clothworkersfoundation.org.uk/",{"$f":"'[1]Transformation sheet'!$B$11","v":"2019-05-31"},{"$f":"IF(OR('[1]GIFTS data'!K221=\"4. Proactive Programme\",'[1]GIFTS data'!K221=\"3. Regular Grants Programme\"),\"Revenue\",\"Capital\")","v":"Capital"}]
[{"$f":"CONCATENATE('[1]Transformation sheet'!$B$1,'[1]GIFTS data'!A222)","v":"360G-ClothworkersFdn-201700964"},{"$f":"'[1]GIFTS data'!A222","v":201700964},{"$f":"CONCATENATE(\"Grant to \",'[1]GIFTS data'!F222)","v":"Grant to Stonebridge City Farm"},{"$f":"'[1]GIFTS data'!B222","v":"purchase of IT equipment for a charity which works with disadvantaged minority communities in Nottingham"},{"$f":"'[1]Transformation sheet'!$B$2","v":"GBP"},{"$f":"'[1]GIFTS data'!C222","v":10000},{"$f":"'[1]GIFTS data'!D222","v":"2018-12-07"},{"$f":"IF(LEFT('[1]GIFTS data'!G222,3)=\"SC0\",\"GB-SC-\"&'[1]GIFTS data'!G222,IF(LEN('[1]GIFTS data'!G222)=8,\"GB-COH-\"&'[1]GIFTS data'!G222,IF(LEFT('[1]GIFTS data'!G222,1)=\"X\",\"GB-REV-\"&'[1]GIFTS data'!G222,IF(AND(LEN('[1]GIFTS data'!G222)=7,LEFT('[1]GIFTS data'!G222,1)=\"1\"),\"GB-CHC-\"&'[1]GIFTS data'!G222,IF(LEN('[1]GIFTS data'!G222)=7,\"GB-COH-0\"&'[1]GIFTS data'!G222,IF(LEFT('[1]GIFTS data'!G222,3)=\"NIC\",\"GB-NIC-\"&RIGHT('[1]GIFTS data'!G222,LEN('[1]GIFTS data'!G222)-3),IF(LEN('[1]GIFTS data'!G222)=6,\"GB-CHC-\"&'[1]GIFTS data'!G222,'[1]Transformation sheet'!$B$3&'[1]GIFTS data'!E222)))))))","v":"GB-CHC-1125245"},{"$f":"'[1]GIFTS data'!F222","v":"Stonebridge City Farm"},{"$f":"'[1]GIFTS data'!G222","v":1125245},{"$f":"'[1]GIFTS data'!J222","v":"Nottingham"},{"$f":"'[1]GIFTS data'!I222","v":"NG3 2FR"},{"$f":"'[1]GIFTS data'!H222","v":"East Midlands"},{"$f":"IF(OR('[1]GIFTS data'!K222=\"4. Proactive Programme\",'[1]GIFTS data'!K222=\"3. Regular Grants Programme\"),\"No\",\"Yes\")","v":"Yes"},{"$f":"RIGHT('[1]GIFTS data'!K222,LEN('[1]GIFTS data'!K222)-3)","v":"Small Grants Programme"},{"$f":"'[1]Transformation sheet'!$B$8","v":"GB-CHC-274100"},{"$f":"'[1]Transformation sheet'!$B$9","v":"The Clothworkers Foundation"},"https://www.clothworkersfoundation.org.uk/",{"$f":"'[1]Transformation sheet'!$B$11","v":"2019-05-31"},{"$f":"IF(OR('[1]GIFTS data'!K222=\"4. Proactive Programme\",'[1]GIFTS data'!K222=\"3. Regular Grants Programme\"),\"Revenue\",\"Capital\")","v":"Capital"}]
[{"$f":"CONCATENATE('[1]Transformation sheet'!$B$1,'[1]GIFTS data'!A223)","v":"360G-ClothworkersFdn-201700886"},{"$f":"'[1]GIFTS data'!A223","v":201700886},{"$f":"CONCATENATE(\"Grant to \",'[1]GIFTS data'!F223)","v":"Grant to Stop Abuse For Everyone"},{"$f":"'[1]GIFTS data'!B223","v":"refurbishment of office space and construction of a wheelchair accessible entrance for a charity which works with survivors of domestic and sexual violence"},{"$f":"'[1]Transformation sheet'!$B$2","v":"GBP"},{"$f":"'[1]GIFTS data'!C223","v":23000},{"$f":"'[1]GIFTS data'!D223","v":"2018-10-16"},{"$f":"IF(LEFT('[1]GIFTS data'!G223,3)=\"SC0\",\"GB-SC-\"&'[1]GIFTS data'!G223,IF(LEN('[1]GIFTS data'!G223)=8,\"GB-COH-\"&'[1]GIFTS data'!G223,IF(LEFT('[1]GIFTS data'!G223,1)=\"X\",\"GB-REV-\"&'[1]GIFTS data'!G223,IF(AND(LEN('[1]GIFTS data'!G223)=7,LEFT('[1]GIFTS data'!G223,1)=\"1\"),\"GB-CHC-\"&'[1]GIFTS data'!G223,IF(LEN('[1]GIFTS data'!G223)=7,\"GB-COH-0\"&'[1]GIFTS data'!G223,IF(LEFT('[1]GIFTS data'!G223,3)=\"NIC\",\"GB-NIC-\"&RIGHT('[1]GIFTS data'!G223,LEN('[1]GIFTS data'!G223)-3),IF(LEN('[1]GIFTS data'!G223)=6,\"GB-CHC-\"&'[1]GIFTS data'!G223,'[1]Transformation sheet'!$B$3&'[1]GIFTS data'!E223)))))))","v":"GB-CHC-291415"},{"$f":"'[1]GIFTS data'!F223","v":"Stop Abuse For Everyone"},{"$f":"'[1]GIFTS data'!G223","v":291415},{"$f":"'[1]GIFTS data'!J223","v":"Exeter"},{"$f":"'[1]GIFTS data'!I223","v":"EX1 2QA"},{"$f":"'[1]GIFTS data'!H223","v":"South West"},{"$f":"IF(OR('[1]GIFTS data'!K223=\"4. Proactive Programme\",'[1]GIFTS data'!K223=\"3. Regular Grants Programme\"),\"No\",\"Yes\")","v":"Yes"},{"$f":"RIGHT('[1]GIFTS data'!K223,LEN('[1]GIFTS data'!K223)-3)","v":"Main Grants Programme"},{"$f":"'[1]Transformation sheet'!$B$8","v":"GB-CHC-274100"},{"$f":"'[1]Transformation sheet'!$B$9","v":"The Clothworkers Foundation"},"https://www.clothworkersfoundation.org.uk/",{"$f":"'[1]Transformation sheet'!$B$11","v":"2019-05-31"},{"$f":"IF(OR('[1]GIFTS data'!K223=\"4. Proactive Programme\",'[1]GIFTS data'!K223=\"3. Regular Grants Programme\"),\"Revenue\",\"Capital\")","v":"Capital"}]
[{"$f":"CONCATENATE('[1]Transformation sheet'!$B$1,'[1]GIFTS data'!A224)","v":"360G-ClothworkersFdn-201700410"},{"$f":"'[1]GIFTS data'!A224","v":201700410},{"$f":"CONCATENATE(\"Grant to \",'[1]GIFTS data'!F224)","v":"Grant to Sudbury Neighbourhood (Middlesex) Centre"},{"$f":"'[1]GIFTS data'!B224","v":"purchase of minibus for a charity which works with older people in London"},{"$f":"'[1]Transformation sheet'!$B$2","v":"GBP"},{"$f":"'[1]GIFTS data'!C224","v":13000},{"$f":"'[1]GIFTS data'!D224","v":"2018-01-30"},{"$f":"IF(LEFT('[1]GIFTS data'!G224,3)=\"SC0\",\"GB-SC-\"&'[1]GIFTS data'!G224,IF(LEN('[1]GIFTS data'!G224)=8,\"GB-COH-\"&'[1]GIFTS data'!G224,IF(LEFT('[1]GIFTS data'!G224,1)=\"X\",\"GB-REV-\"&'[1]GIFTS data'!G224,IF(AND(LEN('[1]GIFTS data'!G224)=7,LEFT('[1]GIFTS data'!G224,1)=\"1\"),\"GB-CHC-\"&'[1]GIFTS data'!G224,IF(LEN('[1]GIFTS data'!G224)=7,\"GB-COH-0\"&'[1]GIFTS data'!G224,IF(LEFT('[1]GIFTS data'!G224,3)=\"NIC\",\"GB-NIC-\"&RIGHT('[1]GIFTS data'!G224,LEN('[1]GIFTS data'!G224)-3),IF(LEN('[1]GIFTS data'!G224)=6,\"GB-CHC-\"&'[1]GIFTS data'!G224,'[1]Transformation sheet'!$B$3&'[1]GIFTS data'!E224)))))))","v":"GB-CHC-1079460"},{"$f":"'[1]GIFTS data'!F224","v":"Sudbury Neighbourhood (Middlesex) Centre"},{"$f":"'[1]GIFTS data'!G224","v":1079460},{"$f":"'[1]GIFTS data'!J224","v":"London"},{"$f":"'[1]GIFTS data'!I224","v":"HA0 2LP"},{"$f":"'[1]GIFTS data'!H224","v":"Greater London"},{"$f":"IF(OR('[1]GIFTS data'!K224=\"4. Proactive Programme\",'[1]GIFTS data'!K224=\"3. Regular Grants Programme\"),\"No\",\"Yes\")","v":"Yes"},{"$f":"RIGHT('[1]GIFTS data'!K224,LEN('[1]GIFTS data'!K224)-3)","v":"Small Grants Programme"},{"$f":"'[1]Transformation sheet'!$B$8","v":"GB-CHC-274100"},{"$f":"'[1]Transformation sheet'!$B$9","v":"The Clothworkers Foundation"},"https://www.clothworkersfoundation.org.uk/",{"$f":"'[1]Transformation sheet'!$B$11","v":"2019-05-31"},{"$f":"IF(OR('[1]GIFTS data'!K224=\"4. Proactive Programme\",'[1]GIFTS data'!K224=\"3. Regular Grants Programme\"),\"Revenue\",\"Capital\")","v":"Capital"}]
[{"$f":"CONCATENATE('[1]Transformation sheet'!$B$1,'[1]GIFTS data'!A225)","v":"360G-ClothworkersFdn-201700385"},{"$f":"'[1]GIFTS data'!A225","v":201700385},{"$f":"CONCATENATE(\"Grant to \",'[1]GIFTS data'!F225)","v":"Grant to Sue Lambert Trust"},{"$f":"'[1]GIFTS data'!B225","v":"refurbishment of room for a charity which works with survivors of domestic and sexual violence in Norwich"},{"$f":"'[1]Transformation sheet'!$B$2","v":"GBP"},{"$f":"'[1]GIFTS data'!C225","v":25000},{"$f":"'[1]GIFTS data'!D225","v":"2018-02-08"},{"$f":"IF(LEFT('[1]GIFTS data'!G225,3)=\"SC0\",\"GB-SC-\"&'[1]GIFTS data'!G225,IF(LEN('[1]GIFTS data'!G225)=8,\"GB-COH-\"&'[1]GIFTS data'!G225,IF(LEFT('[1]GIFTS data'!G225,1)=\"X\",\"GB-REV-\"&'[1]GIFTS data'!G225,IF(AND(LEN('[1]GIFTS data'!G225)=7,LEFT('[1]GIFTS data'!G225,1)=\"1\"),\"GB-CHC-\"&'[1]GIFTS data'!G225,IF(LEN('[1]GIFTS data'!G225)=7,\"GB-COH-0\"&'[1]GIFTS data'!G225,IF(LEFT('[1]GIFTS data'!G225,3)=\"NIC\",\"GB-NIC-\"&RIGHT('[1]GIFTS data'!G225,LEN('[1]GIFTS data'!G225)-3),IF(LEN('[1]GIFTS data'!G225)=6,\"GB-CHC-\"&'[1]GIFTS data'!G225,'[1]Transformation sheet'!$B$3&'[1]GIFTS data'!E225)))))))","v":"GB-CHC-1120957"},{"$f":"'[1]GIFTS data'!F225","v":"Sue Lambert Trust"},{"$f":"'[1]GIFTS data'!G225","v":1120957},{"$f":"'[1]GIFTS data'!J225","v":"Norwich"},{"$f":"'[1]GIFTS data'!I225","v":"NR1 1QL"},{"$f":"'[1]GIFTS data'!H225","v":"East"},{"$f":"IF(OR('[1]GIFTS data'!K225=\"4. Proactive Programme\",'[1]GIFTS data'!K225=\"3. Regular Grants Programme\"),\"No\",\"Yes\")","v":"Yes"},{"$f":"RIGHT('[1]GIFTS data'!K225,LEN('[1]GIFTS data'!K225)-3)","v":"Main Grants Programme"},{"$f":"'[1]Transformation sheet'!$B$8","v":"GB-CHC-274100"},{"$f":"'[1]Transformation sheet'!$B$9","v":"The Clothworkers Foundation"},"https://www.clothworkersfoundation.org.uk/",{"$f":"'[1]Transformation sheet'!$B$11","v":"2019-05-31"},{"$f":"IF(OR('[1]GIFTS data'!K225=\"4. Proactive Programme\",'[1]GIFTS data'!K225=\"3. Regular Grants Programme\"),\"Revenue\",\"Capital\")","v":"Capital"}]
[{"$f":"CONCATENATE('[1]Transformation sheet'!$B$1,'[1]GIFTS data'!A226)","v":"360G-ClothworkersFdn-201700820"},{"$f":"'[1]GIFTS data'!A226","v":201700820},{"$f":"CONCATENATE(\"Grant to \",'[1]GIFTS data'!F226)","v":"Grant to Suited & Booted Centre"},{"$f":"'[1]GIFTS data'!B226","v":"purchase of furniture and equipment for a premises for a charity which works with disadvanatged young people in London"},{"$f":"'[1]Transformation sheet'!$B$2","v":"GBP"},{"$f":"'[1]GIFTS data'!C226","v":10000},{"$f":"'[1]GIFTS data'!D226","v":"2018-08-31"},{"$f":"IF(LEFT('[1]GIFTS data'!G226,3)=\"SC0\",\"GB-SC-\"&'[1]GIFTS data'!G226,IF(LEN('[1]GIFTS data'!G226)=8,\"GB-COH-\"&'[1]GIFTS data'!G226,IF(LEFT('[1]GIFTS data'!G226,1)=\"X\",\"GB-REV-\"&'[1]GIFTS data'!G226,IF(AND(LEN('[1]GIFTS data'!G226)=7,LEFT('[1]GIFTS data'!G226,1)=\"1\"),\"GB-CHC-\"&'[1]GIFTS data'!G226,IF(LEN('[1]GIFTS data'!G226)=7,\"GB-COH-0\"&'[1]GIFTS data'!G226,IF(LEFT('[1]GIFTS data'!G226,3)=\"NIC\",\"GB-NIC-\"&RIGHT('[1]GIFTS data'!G226,LEN('[1]GIFTS data'!G226)-3),IF(LEN('[1]GIFTS data'!G226)=6,\"GB-CHC-\"&'[1]GIFTS data'!G226,'[1]Transformation sheet'!$B$3&'[1]GIFTS data'!E226)))))))","v":"GB-CHC-1149229"},{"$f":"'[1]GIFTS data'!F226","v":"Suited & Booted Centre"},{"$f":"'[1]GIFTS data'!G226","v":1149229},{"$f":"'[1]GIFTS data'!J226","v":"City of London"},{"$f":"'[1]GIFTS data'!I226","v":"EC2M 5NT"},{"$f":"'[1]GIFTS data'!H226","v":"Greater London"},{"$f":"IF(OR('[1]GIFTS data'!K226=\"4. Proactive Programme\",'[1]GIFTS data'!K226=\"3. Regular Grants Programme\"),\"No\",\"Yes\")","v":"Yes"},{"$f":"RIGHT('[1]GIFTS data'!K226,LEN('[1]GIFTS data'!K226)-3)","v":"Small Grants Programme"},{"$f":"'[1]Transformation sheet'!$B$8","v":"GB-CHC-274100"},{"$f":"'[1]Transformation sheet'!$B$9","v":"The Clothworkers Foundation"},"https://www.clothworkersfoundation.org.uk/",{"$f":"'[1]Transformation sheet'!$B$11","v":"2019-05-31"},{"$f":"IF(OR('[1]GIFTS data'!K226=\"4. Proactive Programme\",'[1]GIFTS data'!K226=\"3. Regular Grants Programme\"),\"Revenue\",\"Capital\")","v":"Capital"}]
[{"$f":"CONCATENATE('[1]Transformation sheet'!$B$1,'[1]GIFTS data'!A227)","v":"360G-ClothworkersFdn-201700790"},{"$f":"'[1]GIFTS data'!A227","v":201700790},{"$f":"CONCATENATE(\"Grant to \",'[1]GIFTS data'!F227)","v":"Grant to Survive"},{"$f":"'[1]GIFTS data'!B227","v":"purchase of a laptop, printer and AV equipment for a charity which works with survivors of sexual or domestic violence in Cheshire"},{"$f":"'[1]Transformation sheet'!$B$2","v":"GBP"},{"$f":"'[1]GIFTS data'!C227","v":1300},{"$f":"'[1]GIFTS data'!D227","v":"2018-08-31"},{"$f":"IF(LEFT('[1]GIFTS data'!G227,3)=\"SC0\",\"GB-SC-\"&'[1]GIFTS data'!G227,IF(LEN('[1]GIFTS data'!G227)=8,\"GB-COH-\"&'[1]GIFTS data'!G227,IF(LEFT('[1]GIFTS data'!G227,1)=\"X\",\"GB-REV-\"&'[1]GIFTS data'!G227,IF(AND(LEN('[1]GIFTS data'!G227)=7,LEFT('[1]GIFTS data'!G227,1)=\"1\"),\"GB-CHC-\"&'[1]GIFTS data'!G227,IF(LEN('[1]GIFTS data'!G227)=7,\"GB-COH-0\"&'[1]GIFTS data'!G227,IF(LEFT('[1]GIFTS data'!G227,3)=\"NIC\",\"GB-NIC-\"&RIGHT('[1]GIFTS data'!G227,LEN('[1]GIFTS data'!G227)-3),IF(LEN('[1]GIFTS data'!G227)=6,\"GB-CHC-\"&'[1]GIFTS data'!G227,'[1]Transformation sheet'!$B$3&'[1]GIFTS data'!E227)))))))","v":"GB-CHC-1047103"},{"$f":"'[1]GIFTS data'!F227","v":"Survive"},{"$f":"'[1]GIFTS data'!G227","v":1047103},{"$f":"'[1]GIFTS data'!J227","v":"Crewe"},{"$f":"'[1]GIFTS data'!I227","v":"CW2 6BG"},{"$f":"'[1]GIFTS data'!H227","v":"North West"},{"$f":"IF(OR('[1]GIFTS data'!K227=\"4. Proactive Programme\",'[1]GIFTS data'!K227=\"3. Regular Grants Programme\"),\"No\",\"Yes\")","v":"Yes"},{"$f":"RIGHT('[1]GIFTS data'!K227,LEN('[1]GIFTS data'!K227)-3)","v":"Small Grants Programme"},{"$f":"'[1]Transformation sheet'!$B$8","v":"GB-CHC-274100"},{"$f":"'[1]Transformation sheet'!$B$9","v":"The Clothworkers Foundation"},"https://www.clothworkersfoundation.org.uk/",{"$f":"'[1]Transformation sheet'!$B$11","v":"2019-05-31"},{"$f":"IF(OR('[1]GIFTS data'!K227=\"4. Proactive Programme\",'[1]GIFTS data'!K227=\"3. Regular Grants Programme\"),\"Revenue\",\"Capital\")","v":"Capital"}]
[{"$f":"CONCATENATE('[1]Transformation sheet'!$B$1,'[1]GIFTS data'!A228)","v":"360G-ClothworkersFdn-201700582"},{"$f":"'[1]GIFTS data'!A228","v":201700582},{"$f":"CONCATENATE(\"Grant to \",'[1]GIFTS data'!F228)","v":"Grant to Surviving Economic Abuse"},{"$f":"'[1]GIFTS data'!B228","v":"purchase of a printer and computers for a charity which works with survivors of sexual and domestic violence"},{"$f":"'[1]Transformation sheet'!$B$2","v":"GBP"},{"$f":"'[1]GIFTS data'!C228","v":3050},{"$f":"'[1]GIFTS data'!D228","v":"2018-04-11"},{"$f":"IF(LEFT('[1]GIFTS data'!G228,3)=\"SC0\",\"GB-SC-\"&'[1]GIFTS data'!G228,IF(LEN('[1]GIFTS data'!G228)=8,\"GB-COH-\"&'[1]GIFTS data'!G228,IF(LEFT('[1]GIFTS data'!G228,1)=\"X\",\"GB-REV-\"&'[1]GIFTS data'!G228,IF(AND(LEN('[1]GIFTS data'!G228)=7,LEFT('[1]GIFTS data'!G228,1)=\"1\"),\"GB-CHC-\"&'[1]GIFTS data'!G228,IF(LEN('[1]GIFTS data'!G228)=7,\"GB-COH-0\"&'[1]GIFTS data'!G228,IF(LEFT('[1]GIFTS data'!G228,3)=\"NIC\",\"GB-NIC-\"&RIGHT('[1]GIFTS data'!G228,LEN('[1]GIFTS data'!G228)-3),IF(LEN('[1]GIFTS data'!G228)=6,\"GB-CHC-\"&'[1]GIFTS data'!G228,'[1]Transformation sheet'!$B$3&'[1]GIFTS data'!E228)))))))","v":"GB-CHC-1173256"},{"$f":"'[1]GIFTS data'!F228","v":"Surviving Economic Abuse"},{"$f":"'[1]GIFTS data'!G228","v":1173256},{"$f":"'[1]GIFTS data'!J228","v":"Burnham-on-Crouch"},{"$f":"'[1]GIFTS data'!I228","v":"CM0 8JB"},{"$f":"'[1]GIFTS data'!H228","v":"National"},{"$f":"IF(OR('[1]GIFTS data'!K228=\"4. Proactive Programme\",'[1]GIFTS data'!K228=\"3. Regular Grants Programme\"),\"No\",\"Yes\")","v":"Yes"},{"$f":"RIGHT('[1]GIFTS data'!K228,LEN('[1]GIFTS data'!K228)-3)","v":"Small Grants Programme"},{"$f":"'[1]Transformation sheet'!$B$8","v":"GB-CHC-274100"},{"$f":"'[1]Transformation sheet'!$B$9","v":"The Clothworkers Foundation"},"https://www.clothworkersfoundation.org.uk/",{"$f":"'[1]Transformation sheet'!$B$11","v":"2019-05-31"},{"$f":"IF(OR('[1]GIFTS data'!K228=\"4. Proactive Programme\",'[1]GIFTS data'!K228=\"3. Regular Grants Programme\"),\"Revenue\",\"Capital\")","v":"Capital"}]
[{"$f":"CONCATENATE('[1]Transformation sheet'!$B$1,'[1]GIFTS data'!A229)","v":"360G-ClothworkersFdn-201700794"},{"$f":"'[1]GIFTS data'!A229","v":201700794},{"$f":"CONCATENATE(\"Grant to \",'[1]GIFTS data'!F229)","v":"Grant to Sutton Women's Centre"},{"$f":"'[1]GIFTS data'!B229","v":"refurbishment of rooms for a charity which works with survivors of sexual or domestic violence in Sutton"},{"$f":"'[1]Transformation sheet'!$B$2","v":"GBP"},{"$f":"'[1]GIFTS data'!C229","v":6200},{"$f":"'[1]GIFTS data'!D229","v":"2018-08-31"},{"$f":"IF(LEFT('[1]GIFTS data'!G229,3)=\"SC0\",\"GB-SC-\"&'[1]GIFTS data'!G229,IF(LEN('[1]GIFTS data'!G229)=8,\"GB-COH-\"&'[1]GIFTS data'!G229,IF(LEFT('[1]GIFTS data'!G229,1)=\"X\",\"GB-REV-\"&'[1]GIFTS data'!G229,IF(AND(LEN('[1]GIFTS data'!G229)=7,LEFT('[1]GIFTS data'!G229,1)=\"1\"),\"GB-CHC-\"&'[1]GIFTS data'!G229,IF(LEN('[1]GIFTS data'!G229)=7,\"GB-COH-0\"&'[1]GIFTS data'!G229,IF(LEFT('[1]GIFTS data'!G229,3)=\"NIC\",\"GB-NIC-\"&RIGHT('[1]GIFTS data'!G229,LEN('[1]GIFTS data'!G229)-3),IF(LEN('[1]GIFTS data'!G229)=6,\"GB-CHC-\"&'[1]GIFTS data'!G229,'[1]Transformation sheet'!$B$3&'[1]GIFTS data'!E229)))))))","v":"GB-CHC-294067"},{"$f":"'[1]GIFTS data'!F229","v":"Sutton Women's Centre"},{"$f":"'[1]GIFTS data'!G229","v":294067},{"$f":"'[1]GIFTS data'!J229","v":"Sutton"},{"$f":"'[1]GIFTS data'!I229","v":"SM1 4QL"},{"$f":"'[1]GIFTS data'!H229","v":"Greater London"},{"$f":"IF(OR('[1]GIFTS data'!K229=\"4. Proactive Programme\",'[1]GIFTS data'!K229=\"3. Regular Grants Programme\"),\"No\",\"Yes\")","v":"Yes"},{"$f":"RIGHT('[1]GIFTS data'!K229,LEN('[1]GIFTS data'!K229)-3)","v":"Small Grants Programme"},{"$f":"'[1]Transformation sheet'!$B$8","v":"GB-CHC-274100"},{"$f":"'[1]Transformation sheet'!$B$9","v":"The Clothworkers Foundation"},"https://www.clothworkersfoundation.org.uk/",{"$f":"'[1]Transformation sheet'!$B$11","v":"2019-05-31"},{"$f":"IF(OR('[1]GIFTS data'!K229=\"4. Proactive Programme\",'[1]GIFTS data'!K229=\"3. Regular Grants Programme\"),\"Revenue\",\"Capital\")","v":"Capital"}]
[{"$f":"CONCATENATE('[1]Transformation sheet'!$B$1,'[1]GIFTS data'!A230)","v":"360G-ClothworkersFdn-201700459"},{"$f":"'[1]GIFTS data'!A230","v":201700459},{"$f":"CONCATENATE(\"Grant to \",'[1]GIFTS data'!F230)","v":"Grant to Talacre Action Group"},{"$f":"'[1]GIFTS data'!B230","v":"refurbishment of a building for a charity which works with disadvantaged young people in Kentish Town"},{"$f":"'[1]Transformation sheet'!$B$2","v":"GBP"},{"$f":"'[1]GIFTS data'!C230","v":9250},{"$f":"'[1]GIFTS data'!D230","v":"2018-01-30"},{"$f":"IF(LEFT('[1]GIFTS data'!G230,3)=\"SC0\",\"GB-SC-\"&'[1]GIFTS data'!G230,IF(LEN('[1]GIFTS data'!G230)=8,\"GB-COH-\"&'[1]GIFTS data'!G230,IF(LEFT('[1]GIFTS data'!G230,1)=\"X\",\"GB-REV-\"&'[1]GIFTS data'!G230,IF(AND(LEN('[1]GIFTS data'!G230)=7,LEFT('[1]GIFTS data'!G230,1)=\"1\"),\"GB-CHC-\"&'[1]GIFTS data'!G230,IF(LEN('[1]GIFTS data'!G230)=7,\"GB-COH-0\"&'[1]GIFTS data'!G230,IF(LEFT('[1]GIFTS data'!G230,3)=\"NIC\",\"GB-NIC-\"&RIGHT('[1]GIFTS data'!G230,LEN('[1]GIFTS data'!G230)-3),IF(LEN('[1]GIFTS data'!G230)=6,\"GB-CHC-\"&'[1]GIFTS data'!G230,'[1]Transformation sheet'!$B$3&'[1]GIFTS data'!E230)))))))","v":"GB-CHC-802347"},{"$f":"'[1]GIFTS data'!F230","v":"Talacre Action Group"},{"$f":"'[1]GIFTS data'!G230","v":802347},{"$f":"'[1]GIFTS data'!J230","v":"Kentish Town"},{"$f":"'[1]GIFTS data'!I230","v":"NW5 3NL"},{"$f":"'[1]GIFTS data'!H230","v":"Greater London"},{"$f":"IF(OR('[1]GIFTS data'!K230=\"4. Proactive Programme\",'[1]GIFTS data'!K230=\"3. Regular Grants Programme\"),\"No\",\"Yes\")","v":"Yes"},{"$f":"RIGHT('[1]GIFTS data'!K230,LEN('[1]GIFTS data'!K230)-3)","v":"Small Grants Programme"},{"$f":"'[1]Transformation sheet'!$B$8","v":"GB-CHC-274100"},{"$f":"'[1]Transformation sheet'!$B$9","v":"The Clothworkers Foundation"},"https://www.clothworkersfoundation.org.uk/",{"$f":"'[1]Transformation sheet'!$B$11","v":"2019-05-31"},{"$f":"IF(OR('[1]GIFTS data'!K230=\"4. Proactive Programme\",'[1]GIFTS data'!K230=\"3. Regular Grants Programme\"),\"Revenue\",\"Capital\")","v":"Capital"}]
[{"$f":"CONCATENATE('[1]Transformation sheet'!$B$1,'[1]GIFTS data'!A231)","v":"360G-ClothworkersFdn-201700511"},{"$f":"'[1]GIFTS data'!A231","v":201700511},{"$f":"CONCATENATE(\"Grant to \",'[1]GIFTS data'!F231)","v":"Grant to Talent-Ed Education"},{"$f":"'[1]GIFTS data'!B231","v":"purchase of laptop computers for a charity which works with disadvantaged young people in London"},{"$f":"'[1]Transformation sheet'!$B$2","v":"GBP"},{"$f":"'[1]GIFTS data'!C231","v":4700},{"$f":"'[1]GIFTS data'!D231","v":"2018-03-02"},{"$f":"IF(LEFT('[1]GIFTS data'!G231,3)=\"SC0\",\"GB-SC-\"&'[1]GIFTS data'!G231,IF(LEN('[1]GIFTS data'!G231)=8,\"GB-COH-\"&'[1]GIFTS data'!G231,IF(LEFT('[1]GIFTS data'!G231,1)=\"X\",\"GB-REV-\"&'[1]GIFTS data'!G231,IF(AND(LEN('[1]GIFTS data'!G231)=7,LEFT('[1]GIFTS data'!G231,1)=\"1\"),\"GB-CHC-\"&'[1]GIFTS data'!G231,IF(LEN('[1]GIFTS data'!G231)=7,\"GB-COH-0\"&'[1]GIFTS data'!G231,IF(LEFT('[1]GIFTS data'!G231,3)=\"NIC\",\"GB-NIC-\"&RIGHT('[1]GIFTS data'!G231,LEN('[1]GIFTS data'!G231)-3),IF(LEN('[1]GIFTS data'!G231)=6,\"GB-CHC-\"&'[1]GIFTS data'!G231,'[1]Transformation sheet'!$B$3&'[1]GIFTS data'!E231)))))))","v":"GB-CHC-1149130"},{"$f":"'[1]GIFTS data'!F231","v":"Talent-Ed Education"},{"$f":"'[1]GIFTS data'!G231","v":1149130},{"$f":"'[1]GIFTS data'!J231","v":"London"},{"$f":"'[1]GIFTS data'!I231","v":"N1 6HQ"},{"$f":"'[1]GIFTS data'!H231","v":"Greater London"},{"$f":"IF(OR('[1]GIFTS data'!K231=\"4. Proactive Programme\",'[1]GIFTS data'!K231=\"3. Regular Grants Programme\"),\"No\",\"Yes\")","v":"Yes"},{"$f":"RIGHT('[1]GIFTS data'!K231,LEN('[1]GIFTS data'!K231)-3)","v":"Small Grants Programme"},{"$f":"'[1]Transformation sheet'!$B$8","v":"GB-CHC-274100"},{"$f":"'[1]Transformation sheet'!$B$9","v":"The Clothworkers Foundation"},"https://www.clothworkersfoundation.org.uk/",{"$f":"'[1]Transformation sheet'!$B$11","v":"2019-05-31"},{"$f":"IF(OR('[1]GIFTS data'!K231=\"4. Proactive Programme\",'[1]GIFTS data'!K231=\"3. Regular Grants Programme\"),\"Revenue\",\"Capital\")","v":"Capital"}]
[{"$f":"CONCATENATE('[1]Transformation sheet'!$B$1,'[1]GIFTS data'!A232)","v":"360G-ClothworkersFdn-201700788"},{"$f":"'[1]GIFTS data'!A232","v":201700788},{"$f":"CONCATENATE(\"Grant to \",'[1]GIFTS data'!F232)","v":"Grant to TaxAid UK"},{"$f":"'[1]GIFTS data'!B232","v":"purchase of an IT Server for a charity which works with disadvantaged minority communities London"},{"$f":"'[1]Transformation sheet'!$B$2","v":"GBP"},{"$f":"'[1]GIFTS data'!C232","v":7000},{"$f":"'[1]GIFTS data'!D232","v":"2018-08-31"},{"$f":"IF(LEFT('[1]GIFTS data'!G232,3)=\"SC0\",\"GB-SC-\"&'[1]GIFTS data'!G232,IF(LEN('[1]GIFTS data'!G232)=8,\"GB-COH-\"&'[1]GIFTS data'!G232,IF(LEFT('[1]GIFTS data'!G232,1)=\"X\",\"GB-REV-\"&'[1]GIFTS data'!G232,IF(AND(LEN('[1]GIFTS data'!G232)=7,LEFT('[1]GIFTS data'!G232,1)=\"1\"),\"GB-CHC-\"&'[1]GIFTS data'!G232,IF(LEN('[1]GIFTS data'!G232)=7,\"GB-COH-0\"&'[1]GIFTS data'!G232,IF(LEFT('[1]GIFTS data'!G232,3)=\"NIC\",\"GB-NIC-\"&RIGHT('[1]GIFTS data'!G232,LEN('[1]GIFTS data'!G232)-3),IF(LEN('[1]GIFTS data'!G232)=6,\"GB-CHC-\"&'[1]GIFTS data'!G232,'[1]Transformation sheet'!$B$3&'[1]GIFTS data'!E232)))))))","v":"GB-CHC-1062852"},{"$f":"'[1]GIFTS data'!F232","v":"TaxAid UK"},{"$f":"'[1]GIFTS data'!G232","v":1062852},{"$f":"'[1]GIFTS data'!J232","v":"Kennington"},{"$f":"'[1]GIFTS data'!I232","v":"SE11 4AA"},{"$f":"'[1]GIFTS data'!H232","v":"Greater London"},{"$f":"IF(OR('[1]GIFTS data'!K232=\"4. Proactive Programme\",'[1]GIFTS data'!K232=\"3. Regular Grants Programme\"),\"No\",\"Yes\")","v":"Yes"},{"$f":"RIGHT('[1]GIFTS data'!K232,LEN('[1]GIFTS data'!K232)-3)","v":"Small Grants Programme"},{"$f":"'[1]Transformation sheet'!$B$8","v":"GB-CHC-274100"},{"$f":"'[1]Transformation sheet'!$B$9","v":"The Clothworkers Foundation"},"https://www.clothworkersfoundation.org.uk/",{"$f":"'[1]Transformation sheet'!$B$11","v":"2019-05-31"},{"$f":"IF(OR('[1]GIFTS data'!K232=\"4. Proactive Programme\",'[1]GIFTS data'!K232=\"3. Regular Grants Programme\"),\"Revenue\",\"Capital\")","v":"Capital"}]
[{"$f":"CONCATENATE('[1]Transformation sheet'!$B$1,'[1]GIFTS data'!A233)","v":"360G-ClothworkersFdn-201700936"},{"$f":"'[1]GIFTS data'!A233","v":201700936},{"$f":"CONCATENATE(\"Grant to \",'[1]GIFTS data'!F233)","v":"Grant to Theatr Clwyd Trust"},{"$f":"'[1]GIFTS data'!B233","v":"purchase of two new caption boxes for a charity which works with people with disabilities in Wales"},{"$f":"'[1]Transformation sheet'!$B$2","v":"GBP"},{"$f":"'[1]GIFTS data'!C233","v":10000},{"$f":"'[1]GIFTS data'!D233","v":"2018-12-07"},{"$f":"IF(LEFT('[1]GIFTS data'!G233,3)=\"SC0\",\"GB-SC-\"&'[1]GIFTS data'!G233,IF(LEN('[1]GIFTS data'!G233)=8,\"GB-COH-\"&'[1]GIFTS data'!G233,IF(LEFT('[1]GIFTS data'!G233,1)=\"X\",\"GB-REV-\"&'[1]GIFTS data'!G233,IF(AND(LEN('[1]GIFTS data'!G233)=7,LEFT('[1]GIFTS data'!G233,1)=\"1\"),\"GB-CHC-\"&'[1]GIFTS data'!G233,IF(LEN('[1]GIFTS data'!G233)=7,\"GB-COH-0\"&'[1]GIFTS data'!G233,IF(LEFT('[1]GIFTS data'!G233,3)=\"NIC\",\"GB-NIC-\"&RIGHT('[1]GIFTS data'!G233,LEN('[1]GIFTS data'!G233)-3),IF(LEN('[1]GIFTS data'!G233)=6,\"GB-CHC-\"&'[1]GIFTS data'!G233,'[1]Transformation sheet'!$B$3&'[1]GIFTS data'!E233)))))))","v":"GB-CHC-1104878"},{"$f":"'[1]GIFTS data'!F233","v":"Theatr Clwyd Trust"},{"$f":"'[1]GIFTS data'!G233","v":1104878},{"$f":"'[1]GIFTS data'!J233","v":"Mold"},{"$f":"'[1]GIFTS data'!I233","v":"CH7 1YA"},{"$f":"'[1]GIFTS data'!H233","v":"Wales"},{"$f":"IF(OR('[1]GIFTS data'!K233=\"4. Proactive Programme\",'[1]GIFTS data'!K233=\"3. Regular Grants Programme\"),\"No\",\"Yes\")","v":"Yes"},{"$f":"RIGHT('[1]GIFTS data'!K233,LEN('[1]GIFTS data'!K233)-3)","v":"Small Grants Programme"},{"$f":"'[1]Transformation sheet'!$B$8","v":"GB-CHC-274100"},{"$f":"'[1]Transformation sheet'!$B$9","v":"The Clothworkers Foundation"},"https://www.clothworkersfoundation.org.uk/",{"$f":"'[1]Transformation sheet'!$B$11","v":"2019-05-31"},{"$f":"IF(OR('[1]GIFTS data'!K233=\"4. Proactive Programme\",'[1]GIFTS data'!K233=\"3. Regular Grants Programme\"),\"Revenue\",\"Capital\")","v":"Capital"}]
[{"$f":"CONCATENATE('[1]Transformation sheet'!$B$1,'[1]GIFTS data'!A234)","v":"360G-ClothworkersFdn-201700423"},{"$f":"'[1]GIFTS data'!A234","v":201700423},{"$f":"CONCATENATE(\"Grant to \",'[1]GIFTS data'!F234)","v":"Grant to theGKexperience"},{"$f":"'[1]GIFTS data'!B234","v":"Renovation and equipment costs to create an inclusive space for disadvantaged young people in Glasgow"},{"$f":"'[1]Transformation sheet'!$B$2","v":"GBP"},{"$f":"'[1]GIFTS data'!C234","v":12000},{"$f":"'[1]GIFTS data'!D234","v":"2018-02-08"},{"$f":"IF(LEFT('[1]GIFTS data'!G234,3)=\"SC0\",\"GB-SC-\"&'[1]GIFTS data'!G234,IF(LEN('[1]GIFTS data'!G234)=8,\"GB-COH-\"&'[1]GIFTS data'!G234,IF(LEFT('[1]GIFTS data'!G234,1)=\"X\",\"GB-REV-\"&'[1]GIFTS data'!G234,IF(AND(LEN('[1]GIFTS data'!G234)=7,LEFT('[1]GIFTS data'!G234,1)=\"1\"),\"GB-CHC-\"&'[1]GIFTS data'!G234,IF(LEN('[1]GIFTS data'!G234)=7,\"GB-COH-0\"&'[1]GIFTS data'!G234,IF(LEFT('[1]GIFTS data'!G234,3)=\"NIC\",\"GB-NIC-\"&RIGHT('[1]GIFTS data'!G234,LEN('[1]GIFTS data'!G234)-3),IF(LEN('[1]GIFTS data'!G234)=6,\"GB-CHC-\"&'[1]GIFTS data'!G234,'[1]Transformation sheet'!$B$3&'[1]GIFTS data'!E234)))))))","v":"GB-SC-SC043023"},{"$f":"'[1]GIFTS data'!F234","v":"theGKexperience"},{"$f":"'[1]GIFTS data'!G234","v":"SC043023"},{"$f":"'[1]GIFTS data'!J234","v":"Glasgow"},{"$f":"'[1]GIFTS data'!I234","v":"G3 8DS"},{"$f":"'[1]GIFTS data'!H234","v":"Scotland"},{"$f":"IF(OR('[1]GIFTS data'!K234=\"4. Proactive Programme\",'[1]GIFTS data'!K234=\"3. Regular Grants Programme\"),\"No\",\"Yes\")","v":"Yes"},{"$f":"RIGHT('[1]GIFTS data'!K234,LEN('[1]GIFTS data'!K234)-3)","v":"Main Grants Programme"},{"$f":"'[1]Transformation sheet'!$B$8","v":"GB-CHC-274100"},{"$f":"'[1]Transformation sheet'!$B$9","v":"The Clothworkers Foundation"},"https://www.clothworkersfoundation.org.uk/",{"$f":"'[1]Transformation sheet'!$B$11","v":"2019-05-31"},{"$f":"IF(OR('[1]GIFTS data'!K234=\"4. Proactive Programme\",'[1]GIFTS data'!K234=\"3. Regular Grants Programme\"),\"Revenue\",\"Capital\")","v":"Capital"}]
[{"$f":"CONCATENATE('[1]Transformation sheet'!$B$1,'[1]GIFTS data'!A235)","v":"360G-ClothworkersFdn-201700764"},{"$f":"'[1]GIFTS data'!A235","v":201700764},{"$f":"CONCATENATE(\"Grant to \",'[1]GIFTS data'!F235)","v":"Grant to Toonspeak Young People's Theatre"},{"$f":"'[1]GIFTS data'!B235","v":"purchase of lighting and stage equipment for a charity which works with disadvantaged young people in Glasgow"},{"$f":"'[1]Transformation sheet'!$B$2","v":"GBP"},{"$f":"'[1]GIFTS data'!C235","v":10000},{"$f":"'[1]GIFTS data'!D235","v":"2018-07-17"},{"$f":"IF(LEFT('[1]GIFTS data'!G235,3)=\"SC0\",\"GB-SC-\"&'[1]GIFTS data'!G235,IF(LEN('[1]GIFTS data'!G235)=8,\"GB-COH-\"&'[1]GIFTS data'!G235,IF(LEFT('[1]GIFTS data'!G235,1)=\"X\",\"GB-REV-\"&'[1]GIFTS data'!G235,IF(AND(LEN('[1]GIFTS data'!G235)=7,LEFT('[1]GIFTS data'!G235,1)=\"1\"),\"GB-CHC-\"&'[1]GIFTS data'!G235,IF(LEN('[1]GIFTS data'!G235)=7,\"GB-COH-0\"&'[1]GIFTS data'!G235,IF(LEFT('[1]GIFTS data'!G235,3)=\"NIC\",\"GB-NIC-\"&RIGHT('[1]GIFTS data'!G235,LEN('[1]GIFTS data'!G235)-3),IF(LEN('[1]GIFTS data'!G235)=6,\"GB-CHC-\"&'[1]GIFTS data'!G235,'[1]Transformation sheet'!$B$3&'[1]GIFTS data'!E235)))))))","v":"GB-SC-SC022150"},{"$f":"'[1]GIFTS data'!F235","v":"Toonspeak Young People's Theatre"},{"$f":"'[1]GIFTS data'!G235","v":"SC022150"},{"$f":"'[1]GIFTS data'!J235","v":"Glasgow"},{"$f":"'[1]GIFTS data'!I235","v":"G21 3ET"},{"$f":"'[1]GIFTS data'!H235","v":"Scotland"},{"$f":"IF(OR('[1]GIFTS data'!K235=\"4. Proactive Programme\",'[1]GIFTS data'!K235=\"3. Regular Grants Programme\"),\"No\",\"Yes\")","v":"Yes"},{"$f":"RIGHT('[1]GIFTS data'!K235,LEN('[1]GIFTS data'!K235)-3)","v":"Main Grants Programme"},{"$f":"'[1]Transformation sheet'!$B$8","v":"GB-CHC-274100"},{"$f":"'[1]Transformation sheet'!$B$9","v":"The Clothworkers Foundation"},"https://www.clothworkersfoundation.org.uk/",{"$f":"'[1]Transformation sheet'!$B$11","v":"2019-05-31"},{"$f":"IF(OR('[1]GIFTS data'!K235=\"4. Proactive Programme\",'[1]GIFTS data'!K235=\"3. Regular Grants Programme\"),\"Revenue\",\"Capital\")","v":"Capital"}]
[{"$f":"CONCATENATE('[1]Transformation sheet'!$B$1,'[1]GIFTS data'!A236)","v":"360G-ClothworkersFdn-201700747"},{"$f":"'[1]GIFTS data'!A236","v":201700747},{"$f":"CONCATENATE(\"Grant to \",'[1]GIFTS data'!F236)","v":"Grant to Tower Hamlets Summer University"},{"$f":"'[1]GIFTS data'!B236","v":"purchase of laptops, action cameras and a projector for a charity which works with disadvantaged young people in Tower Hamlets"},{"$f":"'[1]Transformation sheet'!$B$2","v":"GBP"},{"$f":"'[1]GIFTS data'!C236","v":6000},{"$f":"'[1]GIFTS data'!D236","v":"2018-07-19"},{"$f":"IF(LEFT('[1]GIFTS data'!G236,3)=\"SC0\",\"GB-SC-\"&'[1]GIFTS data'!G236,IF(LEN('[1]GIFTS data'!G236)=8,\"GB-COH-\"&'[1]GIFTS data'!G236,IF(LEFT('[1]GIFTS data'!G236,1)=\"X\",\"GB-REV-\"&'[1]GIFTS data'!G236,IF(AND(LEN('[1]GIFTS data'!G236)=7,LEFT('[1]GIFTS data'!G236,1)=\"1\"),\"GB-CHC-\"&'[1]GIFTS data'!G236,IF(LEN('[1]GIFTS data'!G236)=7,\"GB-COH-0\"&'[1]GIFTS data'!G236,IF(LEFT('[1]GIFTS data'!G236,3)=\"NIC\",\"GB-NIC-\"&RIGHT('[1]GIFTS data'!G236,LEN('[1]GIFTS data'!G236)-3),IF(LEN('[1]GIFTS data'!G236)=6,\"GB-CHC-\"&'[1]GIFTS data'!G236,'[1]Transformation sheet'!$B$3&'[1]GIFTS data'!E236)))))))","v":"GB-CHC-1048822"},{"$f":"'[1]GIFTS data'!F236","v":"Tower Hamlets Summer University"},{"$f":"'[1]GIFTS data'!G236","v":1048822},{"$f":"'[1]GIFTS data'!J236","v":"London"},{"$f":"'[1]GIFTS data'!I236","v":"E1 6LA"},{"$f":"'[1]GIFTS data'!H236","v":"Greater London"},{"$f":"IF(OR('[1]GIFTS data'!K236=\"4. Proactive Programme\",'[1]GIFTS data'!K236=\"3. Regular Grants Programme\"),\"No\",\"Yes\")","v":"Yes"},{"$f":"RIGHT('[1]GIFTS data'!K236,LEN('[1]GIFTS data'!K236)-3)","v":"Small Grants Programme"},{"$f":"'[1]Transformation sheet'!$B$8","v":"GB-CHC-274100"},{"$f":"'[1]Transformation sheet'!$B$9","v":"The Clothworkers Foundation"},"https://www.clothworkersfoundation.org.uk/",{"$f":"'[1]Transformation sheet'!$B$11","v":"2019-05-31"},{"$f":"IF(OR('[1]GIFTS data'!K236=\"4. Proactive Programme\",'[1]GIFTS data'!K236=\"3. Regular Grants Programme\"),\"Revenue\",\"Capital\")","v":"Capital"}]
[{"$f":"CONCATENATE('[1]Transformation sheet'!$B$1,'[1]GIFTS data'!A237)","v":"360G-ClothworkersFdn-201700453"},{"$f":"'[1]GIFTS data'!A237","v":201700453},{"$f":"CONCATENATE(\"Grant to \",'[1]GIFTS data'!F237)","v":"Grant to Training Ship Broadsword"},{"$f":"'[1]GIFTS data'!B237","v":"refurbishment of room for a charity which works with disadvantaged young people in London"},{"$f":"'[1]Transformation sheet'!$B$2","v":"GBP"},{"$f":"'[1]GIFTS data'!C237","v":10000},{"$f":"'[1]GIFTS data'!D237","v":"2018-01-30"},{"$f":"IF(LEFT('[1]GIFTS data'!G237,3)=\"SC0\",\"GB-SC-\"&'[1]GIFTS data'!G237,IF(LEN('[1]GIFTS data'!G237)=8,\"GB-COH-\"&'[1]GIFTS data'!G237,IF(LEFT('[1]GIFTS data'!G237,1)=\"X\",\"GB-REV-\"&'[1]GIFTS data'!G237,IF(AND(LEN('[1]GIFTS data'!G237)=7,LEFT('[1]GIFTS data'!G237,1)=\"1\"),\"GB-CHC-\"&'[1]GIFTS data'!G237,IF(LEN('[1]GIFTS data'!G237)=7,\"GB-COH-0\"&'[1]GIFTS data'!G237,IF(LEFT('[1]GIFTS data'!G237,3)=\"NIC\",\"GB-NIC-\"&RIGHT('[1]GIFTS data'!G237,LEN('[1]GIFTS data'!G237)-3),IF(LEN('[1]GIFTS data'!G237)=6,\"GB-CHC-\"&'[1]GIFTS data'!G237,'[1]Transformation sheet'!$B$3&'[1]GIFTS data'!E237)))))))","v":"GB-CHC-294517"},{"$f":"'[1]GIFTS data'!F237","v":"Training Ship Broadsword"},{"$f":"'[1]GIFTS data'!G237","v":294517},{"$f":"'[1]GIFTS data'!J237","v":"London"},{"$f":"'[1]GIFTS data'!I237","v":"NW9 7ND"},{"$f":"'[1]GIFTS data'!H237","v":"Greater London"},{"$f":"IF(OR('[1]GIFTS data'!K237=\"4. Proactive Programme\",'[1]GIFTS data'!K237=\"3. Regular Grants Programme\"),\"No\",\"Yes\")","v":"Yes"},{"$f":"RIGHT('[1]GIFTS data'!K237,LEN('[1]GIFTS data'!K237)-3)","v":"Small Grants Programme"},{"$f":"'[1]Transformation sheet'!$B$8","v":"GB-CHC-274100"},{"$f":"'[1]Transformation sheet'!$B$9","v":"The Clothworkers Foundation"},"https://www.clothworkersfoundation.org.uk/",{"$f":"'[1]Transformation sheet'!$B$11","v":"2019-05-31"},{"$f":"IF(OR('[1]GIFTS data'!K237=\"4. Proactive Programme\",'[1]GIFTS data'!K237=\"3. Regular Grants Programme\"),\"Revenue\",\"Capital\")","v":"Capital"}]
[{"$f":"CONCATENATE('[1]Transformation sheet'!$B$1,'[1]GIFTS data'!A238)","v":"360G-ClothworkersFdn-201700592"},{"$f":"'[1]GIFTS data'!A238","v":201700592},{"$f":"CONCATENATE(\"Grant to \",'[1]GIFTS data'!F238)","v":"Grant to Trauma Recovery Centre"},{"$f":"'[1]GIFTS data'!B238","v":"GRANT CANCELLED:purchase of a building for a charity which works with child survivors of sexual or domestic violence"},{"$f":"'[1]Transformation sheet'!$B$2","v":"GBP"},{"$f":"'[1]GIFTS data'!C238","v":25000},{"$f":"'[1]GIFTS data'!D238","v":"2018-05-16"},{"$f":"IF(LEFT('[1]GIFTS data'!G238,3)=\"SC0\",\"GB-SC-\"&'[1]GIFTS data'!G238,IF(LEN('[1]GIFTS data'!G238)=8,\"GB-COH-\"&'[1]GIFTS data'!G238,IF(LEFT('[1]GIFTS data'!G238,1)=\"X\",\"GB-REV-\"&'[1]GIFTS data'!G238,IF(AND(LEN('[1]GIFTS data'!G238)=7,LEFT('[1]GIFTS data'!G238,1)=\"1\"),\"GB-CHC-\"&'[1]GIFTS data'!G238,IF(LEN('[1]GIFTS data'!G238)=7,\"GB-COH-0\"&'[1]GIFTS data'!G238,IF(LEFT('[1]GIFTS data'!G238,3)=\"NIC\",\"GB-NIC-\"&RIGHT('[1]GIFTS data'!G238,LEN('[1]GIFTS data'!G238)-3),IF(LEN('[1]GIFTS data'!G238)=6,\"GB-CHC-\"&'[1]GIFTS data'!G238,'[1]Transformation sheet'!$B$3&'[1]GIFTS data'!E238)))))))","v":"GB-CHC-1141659"},{"$f":"'[1]GIFTS data'!F238","v":"Trauma Recovery Centre"},{"$f":"'[1]GIFTS data'!G238","v":1141659},{"$f":"'[1]GIFTS data'!J238","v":"Bath"},{"$f":"'[1]GIFTS data'!I238","v":"BA2 1EP"},{"$f":"'[1]GIFTS data'!H238","v":"Yorks & Humberside"},{"$f":"IF(OR('[1]GIFTS data'!K238=\"4. Proactive Programme\",'[1]GIFTS data'!K238=\"3. Regular Grants Programme\"),\"No\",\"Yes\")","v":"Yes"},{"$f":"RIGHT('[1]GIFTS data'!K238,LEN('[1]GIFTS data'!K238)-3)","v":"Main Grants Programme"},{"$f":"'[1]Transformation sheet'!$B$8","v":"GB-CHC-274100"},{"$f":"'[1]Transformation sheet'!$B$9","v":"The Clothworkers Foundation"},"https://www.clothworkersfoundation.org.uk/",{"$f":"'[1]Transformation sheet'!$B$11","v":"2019-05-31"},{"$f":"IF(OR('[1]GIFTS data'!K238=\"4. Proactive Programme\",'[1]GIFTS data'!K238=\"3. Regular Grants Programme\"),\"Revenue\",\"Capital\")","v":"Capital"}]
[{"$f":"CONCATENATE('[1]Transformation sheet'!$B$1,'[1]GIFTS data'!A239)","v":"360G-ClothworkersFdn-201700686"},{"$f":"'[1]GIFTS data'!A239","v":201700686},{"$f":"CONCATENATE(\"Grant to \",'[1]GIFTS data'!F239)","v":"Grant to Tree Shepherd"},{"$f":"'[1]GIFTS data'!B239","v":"purchase of audio visual training equipment for a charity which works with disadvantaged young people in London"},{"$f":"'[1]Transformation sheet'!$B$2","v":"GBP"},{"$f":"'[1]GIFTS data'!C239","v":9600},{"$f":"'[1]GIFTS data'!D239","v":"2018-06-21"},{"$f":"IF(LEFT('[1]GIFTS data'!G239,3)=\"SC0\",\"GB-SC-\"&'[1]GIFTS data'!G239,IF(LEN('[1]GIFTS data'!G239)=8,\"GB-COH-\"&'[1]GIFTS data'!G239,IF(LEFT('[1]GIFTS data'!G239,1)=\"X\",\"GB-REV-\"&'[1]GIFTS data'!G239,IF(AND(LEN('[1]GIFTS data'!G239)=7,LEFT('[1]GIFTS data'!G239,1)=\"1\"),\"GB-CHC-\"&'[1]GIFTS data'!G239,IF(LEN('[1]GIFTS data'!G239)=7,\"GB-COH-0\"&'[1]GIFTS data'!G239,IF(LEFT('[1]GIFTS data'!G239,3)=\"NIC\",\"GB-NIC-\"&RIGHT('[1]GIFTS data'!G239,LEN('[1]GIFTS data'!G239)-3),IF(LEN('[1]GIFTS data'!G239)=6,\"GB-CHC-\"&'[1]GIFTS data'!G239,'[1]Transformation sheet'!$B$3&'[1]GIFTS data'!E239)))))))","v":"GB-COH-07847753"},{"$f":"'[1]GIFTS data'!F239","v":"Tree Shepherd"},{"$f":"'[1]GIFTS data'!G239","v":7847753},{"$f":"'[1]GIFTS data'!J239","v":"London"},{"$f":"'[1]GIFTS data'!I239","v":"SE1 6TE"},{"$f":"'[1]GIFTS data'!H239","v":"Greater London"},{"$f":"IF(OR('[1]GIFTS data'!K239=\"4. Proactive Programme\",'[1]GIFTS data'!K239=\"3. Regular Grants Programme\"),\"No\",\"Yes\")","v":"Yes"},{"$f":"RIGHT('[1]GIFTS data'!K239,LEN('[1]GIFTS data'!K239)-3)","v":"Small Grants Programme"},{"$f":"'[1]Transformation sheet'!$B$8","v":"GB-CHC-274100"},{"$f":"'[1]Transformation sheet'!$B$9","v":"The Clothworkers Foundation"},"https://www.clothworkersfoundation.org.uk/",{"$f":"'[1]Transformation sheet'!$B$11","v":"2019-05-31"},{"$f":"IF(OR('[1]GIFTS data'!K239=\"4. Proactive Programme\",'[1]GIFTS data'!K239=\"3. Regular Grants Programme\"),\"Revenue\",\"Capital\")","v":"Capital"}]
[{"$f":"CONCATENATE('[1]Transformation sheet'!$B$1,'[1]GIFTS data'!A240)","v":"360G-ClothworkersFdn-201700358"},{"$f":"'[1]GIFTS data'!A240","v":201700358},{"$f":"CONCATENATE(\"Grant to \",'[1]GIFTS data'!F240)","v":"Grant to Turn to Starboard"},{"$f":"'[1]GIFTS data'!B240","v":"purchase of a boat for a charity which works with disadvantaged young people in Cornwall"},{"$f":"'[1]Transformation sheet'!$B$2","v":"GBP"},{"$f":"'[1]GIFTS data'!C240","v":11000},{"$f":"'[1]GIFTS data'!D240","v":"2018-02-08"},{"$f":"IF(LEFT('[1]GIFTS data'!G240,3)=\"SC0\",\"GB-SC-\"&'[1]GIFTS data'!G240,IF(LEN('[1]GIFTS data'!G240)=8,\"GB-COH-\"&'[1]GIFTS data'!G240,IF(LEFT('[1]GIFTS data'!G240,1)=\"X\",\"GB-REV-\"&'[1]GIFTS data'!G240,IF(AND(LEN('[1]GIFTS data'!G240)=7,LEFT('[1]GIFTS data'!G240,1)=\"1\"),\"GB-CHC-\"&'[1]GIFTS data'!G240,IF(LEN('[1]GIFTS data'!G240)=7,\"GB-COH-0\"&'[1]GIFTS data'!G240,IF(LEFT('[1]GIFTS data'!G240,3)=\"NIC\",\"GB-NIC-\"&RIGHT('[1]GIFTS data'!G240,LEN('[1]GIFTS data'!G240)-3),IF(LEN('[1]GIFTS data'!G240)=6,\"GB-CHC-\"&'[1]GIFTS data'!G240,'[1]Transformation sheet'!$B$3&'[1]GIFTS data'!E240)))))))","v":"GB-CHC-1161201"},{"$f":"'[1]GIFTS data'!F240","v":"Turn to Starboard"},{"$f":"'[1]GIFTS data'!G240","v":1161201},{"$f":"'[1]GIFTS data'!J240","v":"Falmouth"},{"$f":"'[1]GIFTS data'!I240","v":"TR11 2TD"},{"$f":"'[1]GIFTS data'!H240","v":"South West"},{"$f":"IF(OR('[1]GIFTS data'!K240=\"4. Proactive Programme\",'[1]GIFTS data'!K240=\"3. Regular Grants Programme\"),\"No\",\"Yes\")","v":"Yes"},{"$f":"RIGHT('[1]GIFTS data'!K240,LEN('[1]GIFTS data'!K240)-3)","v":"Main Grants Programme"},{"$f":"'[1]Transformation sheet'!$B$8","v":"GB-CHC-274100"},{"$f":"'[1]Transformation sheet'!$B$9","v":"The Clothworkers Foundation"},"https://www.clothworkersfoundation.org.uk/",{"$f":"'[1]Transformation sheet'!$B$11","v":"2019-05-31"},{"$f":"IF(OR('[1]GIFTS data'!K240=\"4. Proactive Programme\",'[1]GIFTS data'!K240=\"3. Regular Grants Programme\"),\"Revenue\",\"Capital\")","v":"Capital"}]
[{"$f":"CONCATENATE('[1]Transformation sheet'!$B$1,'[1]GIFTS data'!A241)","v":"360G-ClothworkersFdn-201700639"},{"$f":"'[1]GIFTS data'!A241","v":201700639},{"$f":"CONCATENATE(\"Grant to \",'[1]GIFTS data'!F241)","v":"Grant to UK Youth"},{"$f":"'[1]GIFTS data'!B241","v":"refurbishment of accomodation and purchase of equipment for a charity which works with disadvantaged young people in Hampshire"},{"$f":"'[1]Transformation sheet'!$B$2","v":"GBP"},{"$f":"'[1]GIFTS data'!C241","v":15000},{"$f":"'[1]GIFTS data'!D241","v":"2018-05-16"},{"$f":"IF(LEFT('[1]GIFTS data'!G241,3)=\"SC0\",\"GB-SC-\"&'[1]GIFTS data'!G241,IF(LEN('[1]GIFTS data'!G241)=8,\"GB-COH-\"&'[1]GIFTS data'!G241,IF(LEFT('[1]GIFTS data'!G241,1)=\"X\",\"GB-REV-\"&'[1]GIFTS data'!G241,IF(AND(LEN('[1]GIFTS data'!G241)=7,LEFT('[1]GIFTS data'!G241,1)=\"1\"),\"GB-CHC-\"&'[1]GIFTS data'!G241,IF(LEN('[1]GIFTS data'!G241)=7,\"GB-COH-0\"&'[1]GIFTS data'!G241,IF(LEFT('[1]GIFTS data'!G241,3)=\"NIC\",\"GB-NIC-\"&RIGHT('[1]GIFTS data'!G241,LEN('[1]GIFTS data'!G241)-3),IF(LEN('[1]GIFTS data'!G241)=6,\"GB-CHC-\"&'[1]GIFTS data'!G241,'[1]Transformation sheet'!$B$3&'[1]GIFTS data'!E241)))))))","v":"GB-CHC-1110590"},{"$f":"'[1]GIFTS data'!F241","v":"UK Youth"},{"$f":"'[1]GIFTS data'!G241","v":1110590},{"$f":"'[1]GIFTS data'!J241","v":"Bransgore"},{"$f":"'[1]GIFTS data'!I241","v":"BH23 8EE"},{"$f":"'[1]GIFTS data'!H241","v":"South East"},{"$f":"IF(OR('[1]GIFTS data'!K241=\"4. Proactive Programme\",'[1]GIFTS data'!K241=\"3. Regular Grants Programme\"),\"No\",\"Yes\")","v":"Yes"},{"$f":"RIGHT('[1]GIFTS data'!K241,LEN('[1]GIFTS data'!K241)-3)","v":"Main Grants Programme"},{"$f":"'[1]Transformation sheet'!$B$8","v":"GB-CHC-274100"},{"$f":"'[1]Transformation sheet'!$B$9","v":"The Clothworkers Foundation"},"https://www.clothworkersfoundation.org.uk/",{"$f":"'[1]Transformation sheet'!$B$11","v":"2019-05-31"},{"$f":"IF(OR('[1]GIFTS data'!K241=\"4. Proactive Programme\",'[1]GIFTS data'!K241=\"3. Regular Grants Programme\"),\"Revenue\",\"Capital\")","v":"Capital"}]
[{"$f":"CONCATENATE('[1]Transformation sheet'!$B$1,'[1]GIFTS data'!A242)","v":"360G-ClothworkersFdn-200804938.03"},{"$f":"'[1]GIFTS data'!A242","v":200804938.03},{"$f":"CONCATENATE(\"Grant to \",'[1]GIFTS data'!F242)","v":"Grant to United Response"},{"$f":"'[1]GIFTS data'!B242","v":"Supporting the Small Sparks programme which provides small grants to people with learning disabilities to engage with their communities"},{"$f":"'[1]Transformation sheet'!$B$2","v":"GBP"},{"$f":"'[1]GIFTS data'!C242","v":35000},{"$f":"'[1]GIFTS data'!D242","v":"2018-11-29"},{"$f":"IF(LEFT('[1]GIFTS data'!G242,3)=\"SC0\",\"GB-SC-\"&'[1]GIFTS data'!G242,IF(LEN('[1]GIFTS data'!G242)=8,\"GB-COH-\"&'[1]GIFTS data'!G242,IF(LEFT('[1]GIFTS data'!G242,1)=\"X\",\"GB-REV-\"&'[1]GIFTS data'!G242,IF(AND(LEN('[1]GIFTS data'!G242)=7,LEFT('[1]GIFTS data'!G242,1)=\"1\"),\"GB-CHC-\"&'[1]GIFTS data'!G242,IF(LEN('[1]GIFTS data'!G242)=7,\"GB-COH-0\"&'[1]GIFTS data'!G242,IF(LEFT('[1]GIFTS data'!G242,3)=\"NIC\",\"GB-NIC-\"&RIGHT('[1]GIFTS data'!G242,LEN('[1]GIFTS data'!G242)-3),IF(LEN('[1]GIFTS data'!G242)=6,\"GB-CHC-\"&'[1]GIFTS data'!G242,'[1]Transformation sheet'!$B$3&'[1]GIFTS data'!E242)))))))","v":"GB-CHC-265249"},{"$f":"'[1]GIFTS data'!F242","v":"United Response"},{"$f":"'[1]GIFTS data'!G242","v":265249},{"$f":"'[1]GIFTS data'!J242","v":"London"},{"$f":"'[1]GIFTS data'!I242","v":"SW19 8UX"},{"$f":"'[1]GIFTS data'!H242","v":"National"},{"$f":"IF(OR('[1]GIFTS data'!K242=\"4. Proactive Programme\",'[1]GIFTS data'!K242=\"3. Regular Grants Programme\"),\"No\",\"Yes\")","v":"No"},{"$f":"RIGHT('[1]GIFTS data'!K242,LEN('[1]GIFTS data'!K242)-3)","v":"Regular Grants Programme"},{"$f":"'[1]Transformation sheet'!$B$8","v":"GB-CHC-274100"},{"$f":"'[1]Transformation sheet'!$B$9","v":"The Clothworkers Foundation"},"https://www.clothworkersfoundation.org.uk/",{"$f":"'[1]Transformation sheet'!$B$11","v":"2019-05-31"},{"$f":"IF(OR('[1]GIFTS data'!K242=\"4. Proactive Programme\",'[1]GIFTS data'!K242=\"3. Regular Grants Programme\"),\"Revenue\",\"Capital\")","v":"Revenue"}]
[{"$f":"CONCATENATE('[1]Transformation sheet'!$B$1,'[1]GIFTS data'!A243)","v":"360G-ClothworkersFdn-201700766"},{"$f":"'[1]GIFTS data'!A243","v":201700766},{"$f":"CONCATENATE(\"Grant to \",'[1]GIFTS data'!F243)","v":"Grant to Vision 21 (Cyfle Cymru)"},{"$f":"'[1]GIFTS data'!B243","v":"purchase of a refrigerated van for a charity which works with people with disabilities in Wales"},{"$f":"'[1]Transformation sheet'!$B$2","v":"GBP"},{"$f":"'[1]GIFTS data'!C243","v":21000},{"$f":"'[1]GIFTS data'!D243","v":"2018-07-17"},{"$f":"IF(LEFT('[1]GIFTS data'!G243,3)=\"SC0\",\"GB-SC-\"&'[1]GIFTS data'!G243,IF(LEN('[1]GIFTS data'!G243)=8,\"GB-COH-\"&'[1]GIFTS data'!G243,IF(LEFT('[1]GIFTS data'!G243,1)=\"X\",\"GB-REV-\"&'[1]GIFTS data'!G243,IF(AND(LEN('[1]GIFTS data'!G243)=7,LEFT('[1]GIFTS data'!G243,1)=\"1\"),\"GB-CHC-\"&'[1]GIFTS data'!G243,IF(LEN('[1]GIFTS data'!G243)=7,\"GB-COH-0\"&'[1]GIFTS data'!G243,IF(LEFT('[1]GIFTS data'!G243,3)=\"NIC\",\"GB-NIC-\"&RIGHT('[1]GIFTS data'!G243,LEN('[1]GIFTS data'!G243)-3),IF(LEN('[1]GIFTS data'!G243)=6,\"GB-CHC-\"&'[1]GIFTS data'!G243,'[1]Transformation sheet'!$B$3&'[1]GIFTS data'!E243)))))))","v":"GB-CHC-1046097"},{"$f":"'[1]GIFTS data'!F243","v":"Vision 21 (Cyfle Cymru)"},{"$f":"'[1]GIFTS data'!G243","v":1046097},{"$f":"'[1]GIFTS data'!J243","v":"CARDIFF"},{"$f":"'[1]GIFTS data'!I243","v":"CF144HY"},{"$f":"'[1]GIFTS data'!H243","v":"Wales"},{"$f":"IF(OR('[1]GIFTS data'!K243=\"4. Proactive Programme\",'[1]GIFTS data'!K243=\"3. Regular Grants Programme\"),\"No\",\"Yes\")","v":"Yes"},{"$f":"RIGHT('[1]GIFTS data'!K243,LEN('[1]GIFTS data'!K243)-3)","v":"Main Grants Programme"},{"$f":"'[1]Transformation sheet'!$B$8","v":"GB-CHC-274100"},{"$f":"'[1]Transformation sheet'!$B$9","v":"The Clothworkers Foundation"},"https://www.clothworkersfoundation.org.uk/",{"$f":"'[1]Transformation sheet'!$B$11","v":"2019-05-31"},{"$f":"IF(OR('[1]GIFTS data'!K243=\"4. Proactive Programme\",'[1]GIFTS data'!K243=\"3. Regular Grants Programme\"),\"Revenue\",\"Capital\")","v":"Capital"}]
[{"$f":"CONCATENATE('[1]Transformation sheet'!$B$1,'[1]GIFTS data'!A244)","v":"360G-ClothworkersFdn-201700993"},{"$f":"'[1]GIFTS data'!A244","v":201700993},{"$f":"CONCATENATE(\"Grant to \",'[1]GIFTS data'!F244)","v":"Grant to Vision Aid Overseas"},{"$f":"'[1]GIFTS data'!B244","v":"for a three year Primary Eye Care pilot project in the Eastern Province of Sierra Leone which builds on the existing infrastructure and human resources established with the Foundation’s earlier 2012 grant."},{"$f":"'[1]Transformation sheet'!$B$2","v":"GBP"},{"$f":"'[1]GIFTS data'!C244","v":350000},{"$f":"'[1]GIFTS data'!D244","v":"2018-11-29"},{"$f":"IF(LEFT('[1]GIFTS data'!G244,3)=\"SC0\",\"GB-SC-\"&'[1]GIFTS data'!G244,IF(LEN('[1]GIFTS data'!G244)=8,\"GB-COH-\"&'[1]GIFTS data'!G244,IF(LEFT('[1]GIFTS data'!G244,1)=\"X\",\"GB-REV-\"&'[1]GIFTS data'!G244,IF(AND(LEN('[1]GIFTS data'!G244)=7,LEFT('[1]GIFTS data'!G244,1)=\"1\"),\"GB-CHC-\"&'[1]GIFTS data'!G244,IF(LEN('[1]GIFTS data'!G244)=7,\"GB-COH-0\"&'[1]GIFTS data'!G244,IF(LEFT('[1]GIFTS data'!G244,3)=\"NIC\",\"GB-NIC-\"&RIGHT('[1]GIFTS data'!G244,LEN('[1]GIFTS data'!G244)-3),IF(LEN('[1]GIFTS data'!G244)=6,\"GB-CHC-\"&'[1]GIFTS data'!G244,'[1]Transformation sheet'!$B$3&'[1]GIFTS data'!E244)))))))","v":"GB-CHC-1081695"},{"$f":"'[1]GIFTS data'!F244","v":"Vision Aid Overseas"},{"$f":"'[1]GIFTS data'!G244","v":1081695},{"$f":"'[1]GIFTS data'!J244","v":" "},{"$f":"'[1]GIFTS data'!I244","v":"RH10 9FZ"},{"$f":"'[1]GIFTS data'!H244","v":"Overseas"},{"$f":"IF(OR('[1]GIFTS data'!K244=\"4. Proactive Programme\",'[1]GIFTS data'!K244=\"3. Regular Grants Programme\"),\"No\",\"Yes\")","v":"No"},{"$f":"RIGHT('[1]GIFTS data'!K244,LEN('[1]GIFTS data'!K244)-3)","v":"Proactive Programme"},{"$f":"'[1]Transformation sheet'!$B$8","v":"GB-CHC-274100"},{"$f":"'[1]Transformation sheet'!$B$9","v":"The Clothworkers Foundation"},"https://www.clothworkersfoundation.org.uk/",{"$f":"'[1]Transformation sheet'!$B$11","v":"2019-05-31"},{"$f":"IF(OR('[1]GIFTS data'!K244=\"4. Proactive Programme\",'[1]GIFTS data'!K244=\"3. Regular Grants Programme\"),\"Revenue\",\"Capital\")","v":"Revenue"}]
[{"$f":"CONCATENATE('[1]Transformation sheet'!$B$1,'[1]GIFTS data'!A245)","v":"360G-ClothworkersFdn-201700655"},{"$f":"'[1]GIFTS data'!A245","v":201700655},{"$f":"CONCATENATE(\"Grant to \",'[1]GIFTS data'!F245)","v":"Grant to Waltham Forest Blind Association"},{"$f":"'[1]GIFTS data'!B245","v":"puchase of IT equipment for a charity which works with disabled people in Waltham Forest"},{"$f":"'[1]Transformation sheet'!$B$2","v":"GBP"},{"$f":"'[1]GIFTS data'!C245","v":9800},{"$f":"'[1]GIFTS data'!D245","v":"2018-05-04"},{"$f":"IF(LEFT('[1]GIFTS data'!G245,3)=\"SC0\",\"GB-SC-\"&'[1]GIFTS data'!G245,IF(LEN('[1]GIFTS data'!G245)=8,\"GB-COH-\"&'[1]GIFTS data'!G245,IF(LEFT('[1]GIFTS data'!G245,1)=\"X\",\"GB-REV-\"&'[1]GIFTS data'!G245,IF(AND(LEN('[1]GIFTS data'!G245)=7,LEFT('[1]GIFTS data'!G245,1)=\"1\"),\"GB-CHC-\"&'[1]GIFTS data'!G245,IF(LEN('[1]GIFTS data'!G245)=7,\"GB-COH-0\"&'[1]GIFTS data'!G245,IF(LEFT('[1]GIFTS data'!G245,3)=\"NIC\",\"GB-NIC-\"&RIGHT('[1]GIFTS data'!G245,LEN('[1]GIFTS data'!G245)-3),IF(LEN('[1]GIFTS data'!G245)=6,\"GB-CHC-\"&'[1]GIFTS data'!G245,'[1]Transformation sheet'!$B$3&'[1]GIFTS data'!E245)))))))","v":"GB-CHC-1130235"},{"$f":"'[1]GIFTS data'!F245","v":"Waltham Forest Blind Association"},{"$f":"'[1]GIFTS data'!G245","v":1130235},{"$f":"'[1]GIFTS data'!J245","v":"LONDON"},{"$f":"'[1]GIFTS data'!I245","v":"E10 6AE"},{"$f":"'[1]GIFTS data'!H245","v":"Greater London"},{"$f":"IF(OR('[1]GIFTS data'!K245=\"4. Proactive Programme\",'[1]GIFTS data'!K245=\"3. Regular Grants Programme\"),\"No\",\"Yes\")","v":"Yes"},{"$f":"RIGHT('[1]GIFTS data'!K245,LEN('[1]GIFTS data'!K245)-3)","v":"Small Grants Programme"},{"$f":"'[1]Transformation sheet'!$B$8","v":"GB-CHC-274100"},{"$f":"'[1]Transformation sheet'!$B$9","v":"The Clothworkers Foundation"},"https://www.clothworkersfoundation.org.uk/",{"$f":"'[1]Transformation sheet'!$B$11","v":"2019-05-31"},{"$f":"IF(OR('[1]GIFTS data'!K245=\"4. Proactive Programme\",'[1]GIFTS data'!K245=\"3. Regular Grants Programme\"),\"Revenue\",\"Capital\")","v":"Capital"}]
[{"$f":"CONCATENATE('[1]Transformation sheet'!$B$1,'[1]GIFTS data'!A246)","v":"360G-ClothworkersFdn-201700784"},{"$f":"'[1]GIFTS data'!A246","v":201700784},{"$f":"CONCATENATE(\"Grant to \",'[1]GIFTS data'!F246)","v":"Grant to Walworth Garden"},{"$f":"'[1]GIFTS data'!B246","v":"purchase of a van for a charity which works with older people in London"},{"$f":"'[1]Transformation sheet'!$B$2","v":"GBP"},{"$f":"'[1]GIFTS data'!C246","v":12000},{"$f":"'[1]GIFTS data'!D246","v":"2018-07-17"},{"$f":"IF(LEFT('[1]GIFTS data'!G246,3)=\"SC0\",\"GB-SC-\"&'[1]GIFTS data'!G246,IF(LEN('[1]GIFTS data'!G246)=8,\"GB-COH-\"&'[1]GIFTS data'!G246,IF(LEFT('[1]GIFTS data'!G246,1)=\"X\",\"GB-REV-\"&'[1]GIFTS data'!G246,IF(AND(LEN('[1]GIFTS data'!G246)=7,LEFT('[1]GIFTS data'!G246,1)=\"1\"),\"GB-CHC-\"&'[1]GIFTS data'!G246,IF(LEN('[1]GIFTS data'!G246)=7,\"GB-COH-0\"&'[1]GIFTS data'!G246,IF(LEFT('[1]GIFTS data'!G246,3)=\"NIC\",\"GB-NIC-\"&RIGHT('[1]GIFTS data'!G246,LEN('[1]GIFTS data'!G246)-3),IF(LEN('[1]GIFTS data'!G246)=6,\"GB-CHC-\"&'[1]GIFTS data'!G246,'[1]Transformation sheet'!$B$3&'[1]GIFTS data'!E246)))))))","v":"GB-CHC-1060863"},{"$f":"'[1]GIFTS data'!F246","v":"Walworth Garden"},{"$f":"'[1]GIFTS data'!G246","v":1060863},{"$f":"'[1]GIFTS data'!J246","v":"London"},{"$f":"'[1]GIFTS data'!I246","v":"SE173BN"},{"$f":"'[1]GIFTS data'!H246","v":"Greater London"},{"$f":"IF(OR('[1]GIFTS data'!K246=\"4. Proactive Programme\",'[1]GIFTS data'!K246=\"3. Regular Grants Programme\"),\"No\",\"Yes\")","v":"Yes"},{"$f":"RIGHT('[1]GIFTS data'!K246,LEN('[1]GIFTS data'!K246)-3)","v":"Main Grants Programme"},{"$f":"'[1]Transformation sheet'!$B$8","v":"GB-CHC-274100"},{"$f":"'[1]Transformation sheet'!$B$9","v":"The Clothworkers Foundation"},"https://www.clothworkersfoundation.org.uk/",{"$f":"'[1]Transformation sheet'!$B$11","v":"2019-05-31"},{"$f":"IF(OR('[1]GIFTS data'!K246=\"4. Proactive Programme\",'[1]GIFTS data'!K246=\"3. Regular Grants Programme\"),\"Revenue\",\"Capital\")","v":"Capital"}]
[{"$f":"CONCATENATE('[1]Transformation sheet'!$B$1,'[1]GIFTS data'!A247)","v":"360G-ClothworkersFdn-201700505"},{"$f":"'[1]GIFTS data'!A247","v":201700505},{"$f":"CONCATENATE(\"Grant to \",'[1]GIFTS data'!F247)","v":"Grant to Wessex Cancer Trust"},{"$f":"'[1]GIFTS data'!B247","v":"purchase of minibus for a charity which works with disabled people in Hampshire"},{"$f":"'[1]Transformation sheet'!$B$2","v":"GBP"},{"$f":"'[1]GIFTS data'!C247","v":20000},{"$f":"'[1]GIFTS data'!D247","v":"2018-05-16"},{"$f":"IF(LEFT('[1]GIFTS data'!G247,3)=\"SC0\",\"GB-SC-\"&'[1]GIFTS data'!G247,IF(LEN('[1]GIFTS data'!G247)=8,\"GB-COH-\"&'[1]GIFTS data'!G247,IF(LEFT('[1]GIFTS data'!G247,1)=\"X\",\"GB-REV-\"&'[1]GIFTS data'!G247,IF(AND(LEN('[1]GIFTS data'!G247)=7,LEFT('[1]GIFTS data'!G247,1)=\"1\"),\"GB-CHC-\"&'[1]GIFTS data'!G247,IF(LEN('[1]GIFTS data'!G247)=7,\"GB-COH-0\"&'[1]GIFTS data'!G247,IF(LEFT('[1]GIFTS data'!G247,3)=\"NIC\",\"GB-NIC-\"&RIGHT('[1]GIFTS data'!G247,LEN('[1]GIFTS data'!G247)-3),IF(LEN('[1]GIFTS data'!G247)=6,\"GB-CHC-\"&'[1]GIFTS data'!G247,'[1]Transformation sheet'!$B$3&'[1]GIFTS data'!E247)))))))","v":"GB-CHC-1110216"},{"$f":"'[1]GIFTS data'!F247","v":"Wessex Cancer Trust"},{"$f":"'[1]GIFTS data'!G247","v":1110216},{"$f":"'[1]GIFTS data'!J247","v":"Chandler's Ford"},{"$f":"'[1]GIFTS data'!I247","v":"SO53 2GG"},{"$f":"'[1]GIFTS data'!H247","v":"South East"},{"$f":"IF(OR('[1]GIFTS data'!K247=\"4. Proactive Programme\",'[1]GIFTS data'!K247=\"3. Regular Grants Programme\"),\"No\",\"Yes\")","v":"Yes"},{"$f":"RIGHT('[1]GIFTS data'!K247,LEN('[1]GIFTS data'!K247)-3)","v":"Main Grants Programme"},{"$f":"'[1]Transformation sheet'!$B$8","v":"GB-CHC-274100"},{"$f":"'[1]Transformation sheet'!$B$9","v":"The Clothworkers Foundation"},"https://www.clothworkersfoundation.org.uk/",{"$f":"'[1]Transformation sheet'!$B$11","v":"2019-05-31"},{"$f":"IF(OR('[1]GIFTS data'!K247=\"4. Proactive Programme\",'[1]GIFTS data'!K247=\"3. Regular Grants Programme\"),\"Revenue\",\"Capital\")","v":"Capital"}]
[{"$f":"CONCATENATE('[1]Transformation sheet'!$B$1,'[1]GIFTS data'!A248)","v":"360G-ClothworkersFdn-201700826"},{"$f":"'[1]GIFTS data'!A248","v":201700826},{"$f":"CONCATENATE(\"Grant to \",'[1]GIFTS data'!F248)","v":"Grant to WestPoint-Sustainable Community Development"},{"$f":"'[1]GIFTS data'!B248","v":"purchase of laptops, portable projector and printer for a charity which works with disadvantaged young people in London"},{"$f":"'[1]Transformation sheet'!$B$2","v":"GBP"},{"$f":"'[1]GIFTS data'!C248","v":4400},{"$f":"'[1]GIFTS data'!D248","v":"2018-09-26"},{"$f":"IF(LEFT('[1]GIFTS data'!G248,3)=\"SC0\",\"GB-SC-\"&'[1]GIFTS data'!G248,IF(LEN('[1]GIFTS data'!G248)=8,\"GB-COH-\"&'[1]GIFTS data'!G248,IF(LEFT('[1]GIFTS data'!G248,1)=\"X\",\"GB-REV-\"&'[1]GIFTS data'!G248,IF(AND(LEN('[1]GIFTS data'!G248)=7,LEFT('[1]GIFTS data'!G248,1)=\"1\"),\"GB-CHC-\"&'[1]GIFTS data'!G248,IF(LEN('[1]GIFTS data'!G248)=7,\"GB-COH-0\"&'[1]GIFTS data'!G248,IF(LEFT('[1]GIFTS data'!G248,3)=\"NIC\",\"GB-NIC-\"&RIGHT('[1]GIFTS data'!G248,LEN('[1]GIFTS data'!G248)-3),IF(LEN('[1]GIFTS data'!G248)=6,\"GB-CHC-\"&'[1]GIFTS data'!G248,'[1]Transformation sheet'!$B$3&'[1]GIFTS data'!E248)))))))","v":"GB-CHC-1162552"},{"$f":"'[1]GIFTS data'!F248","v":"WestPoint-Sustainable Community Development"},{"$f":"'[1]GIFTS data'!G248","v":1162552},{"$f":"'[1]GIFTS data'!J248","v":"London"},{"$f":"'[1]GIFTS data'!I248","v":"W11 4TL"},{"$f":"'[1]GIFTS data'!H248","v":"Greater London"},{"$f":"IF(OR('[1]GIFTS data'!K248=\"4. Proactive Programme\",'[1]GIFTS data'!K248=\"3. Regular Grants Programme\"),\"No\",\"Yes\")","v":"Yes"},{"$f":"RIGHT('[1]GIFTS data'!K248,LEN('[1]GIFTS data'!K248)-3)","v":"Small Grants Programme"},{"$f":"'[1]Transformation sheet'!$B$8","v":"GB-CHC-274100"},{"$f":"'[1]Transformation sheet'!$B$9","v":"The Clothworkers Foundation"},"https://www.clothworkersfoundation.org.uk/",{"$f":"'[1]Transformation sheet'!$B$11","v":"2019-05-31"},{"$f":"IF(OR('[1]GIFTS data'!K248=\"4. Proactive Programme\",'[1]GIFTS data'!K248=\"3. Regular Grants Programme\"),\"Revenue\",\"Capital\")","v":"Capital"}]
[{"$f":"CONCATENATE('[1]Transformation sheet'!$B$1,'[1]GIFTS data'!A249)","v":"360G-ClothworkersFdn-201700607"},{"$f":"'[1]GIFTS data'!A249","v":201700607},{"$f":"CONCATENATE(\"Grant to \",'[1]GIFTS data'!F249)","v":"Grant to Whittington Park Community Association"},{"$f":"'[1]GIFTS data'!B249","v":"refurbishment of a building for a charity which works with older people in Islington"},{"$f":"'[1]Transformation sheet'!$B$2","v":"GBP"},{"$f":"'[1]GIFTS data'!C249","v":40000},{"$f":"'[1]GIFTS data'!D249","v":"2018-06-28"},{"$f":"IF(LEFT('[1]GIFTS data'!G249,3)=\"SC0\",\"GB-SC-\"&'[1]GIFTS data'!G249,IF(LEN('[1]GIFTS data'!G249)=8,\"GB-COH-\"&'[1]GIFTS data'!G249,IF(LEFT('[1]GIFTS data'!G249,1)=\"X\",\"GB-REV-\"&'[1]GIFTS data'!G249,IF(AND(LEN('[1]GIFTS data'!G249)=7,LEFT('[1]GIFTS data'!G249,1)=\"1\"),\"GB-CHC-\"&'[1]GIFTS data'!G249,IF(LEN('[1]GIFTS data'!G249)=7,\"GB-COH-0\"&'[1]GIFTS data'!G249,IF(LEFT('[1]GIFTS data'!G249,3)=\"NIC\",\"GB-NIC-\"&RIGHT('[1]GIFTS data'!G249,LEN('[1]GIFTS data'!G249)-3),IF(LEN('[1]GIFTS data'!G249)=6,\"GB-CHC-\"&'[1]GIFTS data'!G249,'[1]Transformation sheet'!$B$3&'[1]GIFTS data'!E249)))))))","v":"GB-CHC-1114033"},{"$f":"'[1]GIFTS data'!F249","v":"Whittington Park Community Association"},{"$f":"'[1]GIFTS data'!G249","v":1114033},{"$f":"'[1]GIFTS data'!J249","v":"London"},{"$f":"'[1]GIFTS data'!I249","v":"N19 4RS"},{"$f":"'[1]GIFTS data'!H249","v":"Greater London"},{"$f":"IF(OR('[1]GIFTS data'!K249=\"4. Proactive Programme\",'[1]GIFTS data'!K249=\"3. Regular Grants Programme\"),\"No\",\"Yes\")","v":"Yes"},{"$f":"RIGHT('[1]GIFTS data'!K249,LEN('[1]GIFTS data'!K249)-3)","v":"Main Grants Programme"},{"$f":"'[1]Transformation sheet'!$B$8","v":"GB-CHC-274100"},{"$f":"'[1]Transformation sheet'!$B$9","v":"The Clothworkers Foundation"},"https://www.clothworkersfoundation.org.uk/",{"$f":"'[1]Transformation sheet'!$B$11","v":"2019-05-31"},{"$f":"IF(OR('[1]GIFTS data'!K249=\"4. Proactive Programme\",'[1]GIFTS data'!K249=\"3. Regular Grants Programme\"),\"Revenue\",\"Capital\")","v":"Capital"}]
[{"$f":"CONCATENATE('[1]Transformation sheet'!$B$1,'[1]GIFTS data'!A250)","v":"360G-ClothworkersFdn-201700906"},{"$f":"'[1]GIFTS data'!A250","v":201700906},{"$f":"CONCATENATE(\"Grant to \",'[1]GIFTS data'!F250)","v":"Grant to Wiltshire Blind Association"},{"$f":"'[1]GIFTS data'!B250","v":"purchase of laptops, monitors and keyboards for a charity which works with people with visual impairments in Wiltshire"},{"$f":"'[1]Transformation sheet'!$B$2","v":"GBP"},{"$f":"'[1]GIFTS data'!C250","v":7000},{"$f":"'[1]GIFTS data'!D250","v":"2018-12-07"},{"$f":"IF(LEFT('[1]GIFTS data'!G250,3)=\"SC0\",\"GB-SC-\"&'[1]GIFTS data'!G250,IF(LEN('[1]GIFTS data'!G250)=8,\"GB-COH-\"&'[1]GIFTS data'!G250,IF(LEFT('[1]GIFTS data'!G250,1)=\"X\",\"GB-REV-\"&'[1]GIFTS data'!G250,IF(AND(LEN('[1]GIFTS data'!G250)=7,LEFT('[1]GIFTS data'!G250,1)=\"1\"),\"GB-CHC-\"&'[1]GIFTS data'!G250,IF(LEN('[1]GIFTS data'!G250)=7,\"GB-COH-0\"&'[1]GIFTS data'!G250,IF(LEFT('[1]GIFTS data'!G250,3)=\"NIC\",\"GB-NIC-\"&RIGHT('[1]GIFTS data'!G250,LEN('[1]GIFTS data'!G250)-3),IF(LEN('[1]GIFTS data'!G250)=6,\"GB-CHC-\"&'[1]GIFTS data'!G250,'[1]Transformation sheet'!$B$3&'[1]GIFTS data'!E250)))))))","v":"GB-CHC-1119462"},{"$f":"'[1]GIFTS data'!F250","v":"Wiltshire Blind Association"},{"$f":"'[1]GIFTS data'!G250","v":1119462},{"$f":"'[1]GIFTS data'!J250","v":"Devizes"},{"$f":"'[1]GIFTS data'!I250","v":"SN10 2AT"},{"$f":"'[1]GIFTS data'!H250","v":"South West"},{"$f":"IF(OR('[1]GIFTS data'!K250=\"4. Proactive Programme\",'[1]GIFTS data'!K250=\"3. Regular Grants Programme\"),\"No\",\"Yes\")","v":"Yes"},{"$f":"RIGHT('[1]GIFTS data'!K250,LEN('[1]GIFTS data'!K250)-3)","v":"Small Grants Programme"},{"$f":"'[1]Transformation sheet'!$B$8","v":"GB-CHC-274100"},{"$f":"'[1]Transformation sheet'!$B$9","v":"The Clothworkers Foundation"},"https://www.clothworkersfoundation.org.uk/",{"$f":"'[1]Transformation sheet'!$B$11","v":"2019-05-31"},{"$f":"IF(OR('[1]GIFTS data'!K250=\"4. Proactive Programme\",'[1]GIFTS data'!K250=\"3. Regular Grants Programme\"),\"Revenue\",\"Capital\")","v":"Capital"}]
[{"$f":"CONCATENATE('[1]Transformation sheet'!$B$1,'[1]GIFTS data'!A251)","v":"360G-ClothworkersFdn-201700550"},{"$f":"'[1]GIFTS data'!A251","v":201700550},{"$f":"CONCATENATE(\"Grant to \",'[1]GIFTS data'!F251)","v":"Grant to Women's Work Derbyshire"},{"$f":"'[1]GIFTS data'!B251","v":"purchase of premises for a charity which works with survivors of domestic and sexual violence"},{"$f":"'[1]Transformation sheet'!$B$2","v":"GBP"},{"$f":"'[1]GIFTS data'!C251","v":35000},{"$f":"'[1]GIFTS data'!D251","v":"2018-06-28"},{"$f":"IF(LEFT('[1]GIFTS data'!G251,3)=\"SC0\",\"GB-SC-\"&'[1]GIFTS data'!G251,IF(LEN('[1]GIFTS data'!G251)=8,\"GB-COH-\"&'[1]GIFTS data'!G251,IF(LEFT('[1]GIFTS data'!G251,1)=\"X\",\"GB-REV-\"&'[1]GIFTS data'!G251,IF(AND(LEN('[1]GIFTS data'!G251)=7,LEFT('[1]GIFTS data'!G251,1)=\"1\"),\"GB-CHC-\"&'[1]GIFTS data'!G251,IF(LEN('[1]GIFTS data'!G251)=7,\"GB-COH-0\"&'[1]GIFTS data'!G251,IF(LEFT('[1]GIFTS data'!G251,3)=\"NIC\",\"GB-NIC-\"&RIGHT('[1]GIFTS data'!G251,LEN('[1]GIFTS data'!G251)-3),IF(LEN('[1]GIFTS data'!G251)=6,\"GB-CHC-\"&'[1]GIFTS data'!G251,'[1]Transformation sheet'!$B$3&'[1]GIFTS data'!E251)))))))","v":"GB-CHC-1135740"},{"$f":"'[1]GIFTS data'!F251","v":"Women's Work Derbyshire"},{"$f":"'[1]GIFTS data'!G251","v":1135740},{"$f":"'[1]GIFTS data'!J251","v":"Derby"},{"$f":"'[1]GIFTS data'!I251","v":"DE1 2GU"},{"$f":"'[1]GIFTS data'!H251","v":"East Midlands"},{"$f":"IF(OR('[1]GIFTS data'!K251=\"4. Proactive Programme\",'[1]GIFTS data'!K251=\"3. Regular Grants Programme\"),\"No\",\"Yes\")","v":"Yes"},{"$f":"RIGHT('[1]GIFTS data'!K251,LEN('[1]GIFTS data'!K251)-3)","v":"Main Grants Programme"},{"$f":"'[1]Transformation sheet'!$B$8","v":"GB-CHC-274100"},{"$f":"'[1]Transformation sheet'!$B$9","v":"The Clothworkers Foundation"},"https://www.clothworkersfoundation.org.uk/",{"$f":"'[1]Transformation sheet'!$B$11","v":"2019-05-31"},{"$f":"IF(OR('[1]GIFTS data'!K251=\"4. Proactive Programme\",'[1]GIFTS data'!K251=\"3. Regular Grants Programme\"),\"Revenue\",\"Capital\")","v":"Capital"}]
[{"$f":"CONCATENATE('[1]Transformation sheet'!$B$1,'[1]GIFTS data'!A252)","v":"360G-ClothworkersFdn-201700682"},{"$f":"'[1]GIFTS data'!A252","v":201700682},{"$f":"CONCATENATE(\"Grant to \",'[1]GIFTS data'!F252)","v":"Grant to Xroads Recovery"},{"$f":"'[1]GIFTS data'!B252","v":"purchase of a minibus for a charity which works with people affected by alcohol or substance misuse in Merseyside"},{"$f":"'[1]Transformation sheet'!$B$2","v":"GBP"},{"$f":"'[1]GIFTS data'!C252","v":12100},{"$f":"'[1]GIFTS data'!D252","v":"2018-06-21"},{"$f":"IF(LEFT('[1]GIFTS data'!G252,3)=\"SC0\",\"GB-SC-\"&'[1]GIFTS data'!G252,IF(LEN('[1]GIFTS data'!G252)=8,\"GB-COH-\"&'[1]GIFTS data'!G252,IF(LEFT('[1]GIFTS data'!G252,1)=\"X\",\"GB-REV-\"&'[1]GIFTS data'!G252,IF(AND(LEN('[1]GIFTS data'!G252)=7,LEFT('[1]GIFTS data'!G252,1)=\"1\"),\"GB-CHC-\"&'[1]GIFTS data'!G252,IF(LEN('[1]GIFTS data'!G252)=7,\"GB-COH-0\"&'[1]GIFTS data'!G252,IF(LEFT('[1]GIFTS data'!G252,3)=\"NIC\",\"GB-NIC-\"&RIGHT('[1]GIFTS data'!G252,LEN('[1]GIFTS data'!G252)-3),IF(LEN('[1]GIFTS data'!G252)=6,\"GB-CHC-\"&'[1]GIFTS data'!G252,'[1]Transformation sheet'!$B$3&'[1]GIFTS data'!E252)))))))","v":"GB-COH-08717837"},{"$f":"'[1]GIFTS data'!F252","v":"Xroads Recovery"},{"$f":"'[1]GIFTS data'!G252","v":8717837},{"$f":"'[1]GIFTS data'!J252","v":"Bebington"},{"$f":"'[1]GIFTS data'!I252","v":"CH63 9YJ"},{"$f":"'[1]GIFTS data'!H252","v":"North West"},{"$f":"IF(OR('[1]GIFTS data'!K252=\"4. Proactive Programme\",'[1]GIFTS data'!K252=\"3. Regular Grants Programme\"),\"No\",\"Yes\")","v":"Yes"},{"$f":"RIGHT('[1]GIFTS data'!K252,LEN('[1]GIFTS data'!K252)-3)","v":"Small Grants Programme"},{"$f":"'[1]Transformation sheet'!$B$8","v":"GB-CHC-274100"},{"$f":"'[1]Transformation sheet'!$B$9","v":"The Clothworkers Foundation"},"https://www.clothworkersfoundation.org.uk/",{"$f":"'[1]Transformation sheet'!$B$11","v":"2019-05-31"},{"$f":"IF(OR('[1]GIFTS data'!K252=\"4. Proactive Programme\",'[1]GIFTS data'!K252=\"3. Regular Grants Programme\"),\"Revenue\",\"Capital\")","v":"Capital"}]
[{"$f":"CONCATENATE('[1]Transformation sheet'!$B$1,'[1]GIFTS data'!A253)","v":"360G-ClothworkersFdn-201700629"},{"$f":"'[1]GIFTS data'!A253","v":201700629},{"$f":"CONCATENATE(\"Grant to \",'[1]GIFTS data'!F253)","v":"Grant to Yellow Door (Solent)"},{"$f":"'[1]GIFTS data'!B253","v":"purchase of IT equipment for a charity which works with survivors of domestic and sexual abuse in Southampton"},{"$f":"'[1]Transformation sheet'!$B$2","v":"GBP"},{"$f":"'[1]GIFTS data'!C253","v":10000},{"$f":"'[1]GIFTS data'!D253","v":"2018-05-04"},{"$f":"IF(LEFT('[1]GIFTS data'!G253,3)=\"SC0\",\"GB-SC-\"&'[1]GIFTS data'!G253,IF(LEN('[1]GIFTS data'!G253)=8,\"GB-COH-\"&'[1]GIFTS data'!G253,IF(LEFT('[1]GIFTS data'!G253,1)=\"X\",\"GB-REV-\"&'[1]GIFTS data'!G253,IF(AND(LEN('[1]GIFTS data'!G253)=7,LEFT('[1]GIFTS data'!G253,1)=\"1\"),\"GB-CHC-\"&'[1]GIFTS data'!G253,IF(LEN('[1]GIFTS data'!G253)=7,\"GB-COH-0\"&'[1]GIFTS data'!G253,IF(LEFT('[1]GIFTS data'!G253,3)=\"NIC\",\"GB-NIC-\"&RIGHT('[1]GIFTS data'!G253,LEN('[1]GIFTS data'!G253)-3),IF(LEN('[1]GIFTS data'!G253)=6,\"GB-CHC-\"&'[1]GIFTS data'!G253,'[1]Transformation sheet'!$B$3&'[1]GIFTS data'!E253)))))))","v":"GB-CHC-1111753"},{"$f":"'[1]GIFTS data'!F253","v":"Yellow Door (Solent)"},{"$f":"'[1]GIFTS data'!G253","v":1111753},{"$f":"'[1]GIFTS data'!J253","v":"Southampton"},{"$f":"'[1]GIFTS data'!I253","v":"SO17 1QR"},{"$f":"'[1]GIFTS data'!H253","v":"South East"},{"$f":"IF(OR('[1]GIFTS data'!K253=\"4. Proactive Programme\",'[1]GIFTS data'!K253=\"3. Regular Grants Programme\"),\"No\",\"Yes\")","v":"Yes"},{"$f":"RIGHT('[1]GIFTS data'!K253,LEN('[1]GIFTS data'!K253)-3)","v":"Small Grants Programme"},{"$f":"'[1]Transformation sheet'!$B$8","v":"GB-CHC-274100"},{"$f":"'[1]Transformation sheet'!$B$9","v":"The Clothworkers Foundation"},"https://www.clothworkersfoundation.org.uk/",{"$f":"'[1]Transformation sheet'!$B$11","v":"2019-05-31"},{"$f":"IF(OR('[1]GIFTS data'!K253=\"4. Proactive Programme\",'[1]GIFTS data'!K253=\"3. Regular Grants Programme\"),\"Revenue\",\"Capital\")","v":"Capital"}]
[{"$f":"CONCATENATE('[1]Transformation sheet'!$B$1,'[1]GIFTS data'!A254)","v":"360G-ClothworkersFdn-201700890"},{"$f":"'[1]GIFTS data'!A254","v":201700890},{"$f":"CONCATENATE(\"Grant to \",'[1]GIFTS data'!F254)","v":"Grant to Young Men's Christian Association Reading Branch"},{"$f":"'[1]GIFTS data'!B254","v":"refurbishment of a sports centre for a charity which works with disadvantaged young people in Reading"},{"$f":"'[1]Transformation sheet'!$B$2","v":"GBP"},{"$f":"'[1]GIFTS data'!C254","v":20000},{"$f":"'[1]GIFTS data'!D254","v":"2018-10-16"},{"$f":"IF(LEFT('[1]GIFTS data'!G254,3)=\"SC0\",\"GB-SC-\"&'[1]GIFTS data'!G254,IF(LEN('[1]GIFTS data'!G254)=8,\"GB-COH-\"&'[1]GIFTS data'!G254,IF(LEFT('[1]GIFTS data'!G254,1)=\"X\",\"GB-REV-\"&'[1]GIFTS data'!G254,IF(AND(LEN('[1]GIFTS data'!G254)=7,LEFT('[1]GIFTS data'!G254,1)=\"1\"),\"GB-CHC-\"&'[1]GIFTS data'!G254,IF(LEN('[1]GIFTS data'!G254)=7,\"GB-COH-0\"&'[1]GIFTS data'!G254,IF(LEFT('[1]GIFTS data'!G254,3)=\"NIC\",\"GB-NIC-\"&RIGHT('[1]GIFTS data'!G254,LEN('[1]GIFTS data'!G254)-3),IF(LEN('[1]GIFTS data'!G254)=6,\"GB-CHC-\"&'[1]GIFTS data'!G254,'[1]Transformation sheet'!$B$3&'[1]GIFTS data'!E254)))))))","v":"GB-CHC-1140731"},{"$f":"'[1]GIFTS data'!F254","v":"Young Men's Christian Association Reading Branch"},{"$f":"'[1]GIFTS data'!G254","v":1140731},{"$f":"'[1]GIFTS data'!J254","v":"Reading"},{"$f":"'[1]GIFTS data'!I254","v":"RG30 2DD"},{"$f":"'[1]GIFTS data'!H254","v":"South East"},{"$f":"IF(OR('[1]GIFTS data'!K254=\"4. Proactive Programme\",'[1]GIFTS data'!K254=\"3. Regular Grants Programme\"),\"No\",\"Yes\")","v":"Yes"},{"$f":"RIGHT('[1]GIFTS data'!K254,LEN('[1]GIFTS data'!K254)-3)","v":"Main Grants Programme"},{"$f":"'[1]Transformation sheet'!$B$8","v":"GB-CHC-274100"},{"$f":"'[1]Transformation sheet'!$B$9","v":"The Clothworkers Foundation"},"https://www.clothworkersfoundation.org.uk/",{"$f":"'[1]Transformation sheet'!$B$11","v":"2019-05-31"},{"$f":"IF(OR('[1]GIFTS data'!K254=\"4. Proactive Programme\",'[1]GIFTS data'!K254=\"3. Regular Grants Programme\"),\"Revenue\",\"Capital\")","v":"Capital"}]
[{"$f":"CONCATENATE('[1]Transformation sheet'!$B$1,'[1]GIFTS data'!A255)","v":"360G-ClothworkersFdn-201700601"},{"$f":"'[1]GIFTS data'!A255","v":201700601},{"$f":"CONCATENATE(\"Grant to \",'[1]GIFTS data'!F255)","v":"Grant to Your Employment Service"},{"$f":"'[1]GIFTS data'!B255","v":"purchase of computers for a charity which works with disadvantaged minority communities in Manchester"},{"$f":"'[1]Transformation sheet'!$B$2","v":"GBP"},{"$f":"'[1]GIFTS data'!C255","v":15000},{"$f":"'[1]GIFTS data'!D255","v":"2018-05-16"},{"$f":"IF(LEFT('[1]GIFTS data'!G255,3)=\"SC0\",\"GB-SC-\"&'[1]GIFTS data'!G255,IF(LEN('[1]GIFTS data'!G255)=8,\"GB-COH-\"&'[1]GIFTS data'!G255,IF(LEFT('[1]GIFTS data'!G255,1)=\"X\",\"GB-REV-\"&'[1]GIFTS data'!G255,IF(AND(LEN('[1]GIFTS data'!G255)=7,LEFT('[1]GIFTS data'!G255,1)=\"1\"),\"GB-CHC-\"&'[1]GIFTS data'!G255,IF(LEN('[1]GIFTS data'!G255)=7,\"GB-COH-0\"&'[1]GIFTS data'!G255,IF(LEFT('[1]GIFTS data'!G255,3)=\"NIC\",\"GB-NIC-\"&RIGHT('[1]GIFTS data'!G255,LEN('[1]GIFTS data'!G255)-3),IF(LEN('[1]GIFTS data'!G255)=6,\"GB-CHC-\"&'[1]GIFTS data'!G255,'[1]Transformation sheet'!$B$3&'[1]GIFTS data'!E255)))))))","v":"GB-COH-08467469"},{"$f":"'[1]GIFTS data'!F255","v":"Your Employment Service"},{"$f":"'[1]GIFTS data'!G255","v":8467469},{"$f":"'[1]GIFTS data'!J255","v":"Manchester"},{"$f":"'[1]GIFTS data'!I255","v":"M40 2TP"},{"$f":"'[1]GIFTS data'!H255","v":"North West"},{"$f":"IF(OR('[1]GIFTS data'!K255=\"4. Proactive Programme\",'[1]GIFTS data'!K255=\"3. Regular Grants Programme\"),\"No\",\"Yes\")","v":"Yes"},{"$f":"RIGHT('[1]GIFTS data'!K255,LEN('[1]GIFTS data'!K255)-3)","v":"Main Grants Programme"},{"$f":"'[1]Transformation sheet'!$B$8","v":"GB-CHC-274100"},{"$f":"'[1]Transformation sheet'!$B$9","v":"The Clothworkers Foundation"},"https://www.clothworkersfoundation.org.uk/",{"$f":"'[1]Transformation sheet'!$B$11","v":"2019-05-31"},{"$f":"IF(OR('[1]GIFTS data'!K255=\"4. Proactive Programme\",'[1]GIFTS data'!K255=\"3. Regular Grants Programme\"),\"Revenue\",\"Capital\")","v":"Capital"}]
["360G-ClothworkersFdn-201700478.01",201700478.00999999,"Grant to Anna Plowden Trust","to run and administer the CPD conservation bursary scheme in 2019.","GBP",30000,"2018-11-29","GB-CHC-1072236","Anna Plowden Trust",1072236,"London","SW19 7PR","National","No","Proactive Programme","GB-CHC-274100","The Clothworkers Foundation","https://www.clothworkersfoundation.org.uk/","2019-05-31","Revenue"]
["360G-ClothworkersFdn-201700995",201700995,"Grant to British Film Institute","to run a two year traineeship in video conservation.","GBP",60200,"2018-11-29","GB-CHC-287780","British Film Institute",287780,"London","W1T 1LN","National","No","Proactive Programme","GB-CHC-274100","The Clothworkers Foundation","https://www.clothworkersfoundation.org.uk/","2019-05-31","Revenue"]
["360G-ClothworkersFdn-201700990",201700990,"Grant to Catch 22","to develop and implement a bespoke new apprenticeship scheme for young people leaving the care system.","GBP",536000,"2018-11-29","GB-CHC-1124127","Catch 22",1124127,"London","EC1V 3AG","Greater London","No","Proactive Programme","GB-CHC-274100","The Clothworkers Foundation","https://www.clothworkersfoundation.org.uk/","2019-05-31","Revenue"]
["360G-ClothworkersFdn-201700991",201700991,"Grant to Catch 22","for the specific purpose of funding the salary of the Director of Lighthouse for a three year period.","GBP",96000,"2018-11-29","GB-CHC-1124127","Catch 22",1124127,"London","EC1V 3AG","Greater London","No","Proactive Programme","GB-CHC-274100","The Clothworkers Foundation","https://www.clothworkersfoundation.org.uk/","2019-05-31","Revenue"]
["360G-ClothworkersFdn-201700992",201700992,"Grant to Drive Forward Foundation","for a three year project supporting young people aged 14-16 in care to transition to adulthood and further or higher education and/or work.","GBP",151000,"2018-11-29","GB-CHC-1018750","Drive Forward Foundation",1018750,"London","SE1 7RJ","Greater London","No","Proactive Programme","GB-CHC-274100","The Clothworkers Foundation","https://www.clothworkersfoundation.org.uk/","2019-05-31","Revenue"]
["360G-ClothworkersFdn-200804452.02",200804452.02000001,"Grant to ICON","to offer bursaries to conservation professionals whose financial circumstances would otherwise prevent them from doing so to attend the next ICON Conference in 2019.","GBP",25000,"2018-10-03","GB-CHC-1108380","ICON",1108380,"London","SE1 4PR","National","No","Proactive Programme","GB-CHC-274100","The Clothworkers Foundation","https://www.clothworkersfoundation.org.uk/","2019-05-31","Revenue"]
["360G-ClothworkersFdn-201700036.01",201700036.00999999,"Grant to Lord Mayor's Appeal","2018 Lord Mayor's appeal","GBP",10000,"2018-02-08","GB-CHC-1148976","Lord Mayor's Appeal",1148976,"London"," EC4N 8BH","National","No","Regular Grants Programme","GB-CHC-274100","The Clothworkers Foundation","https://www.clothworkersfoundation.org.uk/","2019-05-31","Revenue"]
["360G-ClothworkersFdn-201700994",201700994,"Grant to National Library of Scotland","to run a one year internship in preventive conservation","GBP",26000,"2018-11-29","GB-SC-SC011086","National Library of Scotland","SC011086","Edinburgh"," EH1 1EW","Scotland","No","Proactive Programme","GB-CHC-274100","The Clothworkers Foundation","https://www.clothworkersfoundation.org.uk/","2019-05-31","Revenue"]
["360G-ClothworkersFdn-201700298.01",201700298.00999999,"Grant to NfpSynergy (Better Futures Evaluation)","To carry out an evaluation of a Proactive initiative","GBP",55120,"2018-09-26","GB-COH-04387900","NfpSynergy (Better Futures Evaluation)",4387900,"London"," E1 7NH","National","No","Proactive Programme","GB-CHC-274100","The Clothworkers Foundation","https://www.clothworkersfoundation.org.uk/","2019-05-31","Revenue"]
["360G-ClothworkersFdn-200805284.02",200805284.02000001,"Grant to Registered Engineers for Disaster Relief","towards your disaster relief work","GBP",40000,"2018-06-28","GB-CHC-1079752","Registered Engineers for Disaster Relief",1079752,"London","SE11 5RD","Greater London","No","Regular Grants Programme","GB-CHC-274100","The Clothworkers Foundation","https://www.clothworkersfoundation.org.uk/","2019-05-31","Revenue"]
["360G-ClothworkersFdn-201700787",201700787,"Grant to Royal Armouries Leeds","to run an internship in the conservation of arms and armour over one year.","GBP",30000,"2018-06-28","360G-ClothworkersFdn:ORG-6285","Royal Armouries Leeds",0,"Leeds","LS10 1LT","Yorks & Humberside","No","Proactive Programme","GB-CHC-274100","The Clothworkers Foundation","https://www.clothworkersfoundation.org.uk/","2019-05-31","Revenue"]
["360G-ClothworkersFdn-201700625",201700625,"Grant to The Country Food Trust","Employ an individual to help set up a replicable template to provide food to more people","GBP",31000,"2018-03-27","GB-CHC-1162699","The Country Food Trust",1162699,"London","W1S 2XE","South East","No","Livery Fund","GB-CHC-274100","The Clothworkers Foundation","https://www.clothworkersfoundation.org.uk/","2019-05-31","Revenue"]
["360G-ClothworkersFdn-201700393.01",201700393.00999999,"Grant to The Honourable The Irish Society","To distribute small grants across cross community organisations in Northern Ireland during 2018-19","GBP",20000,"2018-10-16","GB-CHC-1150776","The Honourable The Irish Society",1150776,"Coleraine","BT51 3RL","Northern Ireland","No","Regular Grants Programme","GB-CHC-274100","The Clothworkers Foundation","https://www.clothworkersfoundation.org.uk/","2019-05-31","Revenue"]
["360G-ClothworkersFdn-201700932",201700932,"Grant to West Dean College","to run a one year internship in clock conservation","GBP",23600,"2018-10-03","GB-CHC-1126084","West Dean College",1126084," ","PO18 0QZ","South East","No","Proactive Programme","GB-CHC-274100","The Clothworkers Foundation","https://www.clothworkersfoundation.org.uk/","2019-05-31","Revenue"]
["360G-ClothworkersFdn-201700624",201700624,"Grant to Ditch the Label","For a pilot project  to develop a range of holistic materials for selected schools to help them tackle bullying","GBP",31000,"2018-03-27","GB-CHC-1156329","Ditch the Label",1156329,"Brighton","BN1 1AL","South East","No","Livery Fund","GB-CHC-274100","The Clothworkers Foundation","https://www.clothworkersfoundation.org.uk/","2019-05-31","Revenue"]
["360G-ClothworkersFdn-201700626",201700626,"Grant to Harrow Club","Towards DebateBox, a series of debating workshops combined with boxing sessions","GBP",31000,"2018-03-27","GB-CHC-1054757","Harrow Club",1054757,"London","W10 6TH","Greater London","No","Livery Fund","GB-CHC-274100","The Clothworkers Foundation","https://www.clothworkersfoundation.org.uk/","2019-05-31","Revenue"]